JSAN-Shell v2.04 Perl 5 v5.12.1 i686-linux-thread-multi-64int-ld

Status
Pass
From
Graham Crookham (GRAHAMC)
Dist
JSAN-Shell v2.04
Platform
Perl 5 v5.12.1 i686-linux-thread-multi-64int-ld
Date
2010-08-13T15:21:26
ID
70752164-a6ee-11df-b0f9-4ce807939df0
This distribution has been tested as part of the CPAN Testers
project, supporting the Perl programming language.  See
http://wiki.cpantesters.org/ for more information or email
questions to cpan-testers-discuss@perl.org


--
Dear Adam Kennedy,

This is a computer-generated report for JSAN-Shell-2.04
on perl 5.12.1, created by CPAN-Reporter-1.18.

Thank you for uploading your work to CPAN.  Congratulations!
All tests were successful.

Sections of this report:

    * Tester comments
    * Program output
    * Prerequisites
    * Environment and other context

------------------------------
TESTER COMMENTS
------------------------------

Additional comments from tester:

this report is from an automated smoke testing program
and was not reviewed by a human for accuracy

------------------------------
PROGRAM OUTPUT
------------------------------

Output from '/usr/bin/make test':

PERL_DL_NONLAZY=1 /home/graham/perltest/th_ld_perl5121/perl/bin/perl "-MExtUtils::Command::MM" "-e" "test_harness(0, 'inc', 'blib/lib', 'blib/arch')" t/*.t
t/01_compile.t ...... ok
t/02_basics.t ....... ok
t/03_config_file.t .. ok
All tests successful.
Files=3, Tests=8,  7 wallclock secs ( 0.06 usr  0.02 sys +  1.86 cusr  0.26 csys =  2.20 CPU)
Result: PASS

------------------------------
PREREQUISITES
------------------------------

Prerequisite modules loaded:

requires:

    Module               Need   Have   
    -------------------- ------ -------
    ExtUtils::MakeMaker  6.42   6.56   
    File::HomeDir        0.80   0.92_02
    File::ShareDir       1.00   1.02   
    File::Spec           0.80   3.31_02
    File::UserConfig     0.06   0.06   
    Getopt::Long         2.34   2.3802 
    JSAN::Client         0.29   0.29   
    LWP::Online          1.05   1.07   
    Mirror::JSON         0.01   0.90   
    Term::ReadLine       1.01   1.05   
  ! Term::ReadLine::Perl 1.0302 broken 
    Test::More           0.47   0.96   
    Test::Script         1.05   1.07   

configure_requires:

    Module               Need   Have   
    -------------------- ------ -------
    ExtUtils::MakeMaker  6.42   6.56   


------------------------------
ENVIRONMENT AND OTHER CONTEXT
------------------------------

Environment variables:

    AUTOMATED_TESTING = 1
    LANG = C
    PATH = /home/graham/perltest/th_ld_perl5121/perl/bin:/bin:/usr/bin:/sbin:/usr/sbin:/opt/java/bin:/opt/java/jre/bin:/opt/kde/bin:/usr/bin/perlbin/site:/usr/bin/perlbin/vendor:/usr/bin/perlbin/core:/opt/qt/bin
    PERL5LIB = 
    PERL5OPT = 
    PERL5_CPANPLUS_IS_RUNNING = 14932
    PERL5_CPAN_IS_RUNNING = 14932
    PERL5_CPAN_IS_RUNNING_IN_RECURSION = 3735,14932
    PERL_CR_SMOKER_CURRENT = JSAN-Shell-2.04
    PERL_EXTUTILS_AUTOINSTALL = --defaultdeps
    PERL_MM_USE_DEFAULT = 1
    SHELL = /bin/bash
    TERM = xterm

Perl special variables (and OS-specific diagnostics, for MSWin32):

    $^X = /home/graham/perltest/th_ld_perl5121/perl/bin/perl
    $UID/$EUID = 1000 / 1000
    $GID = 1000 7 10 91 92 93 95 98 100 108 1000 1001
    $EGID = 1000 7 10 91 92 93 95 98 100 108 1000 1001

Perl module toolchain versions installed:

    Module              Have   
    ------------------- -------
    CPAN                1.94_56
    Cwd                 3.31_02
    ExtUtils::CBuilder  0.27_05
    ExtUtils::Command   1.16   
    ExtUtils::Install   1.55   
    ExtUtils::MakeMaker 6.56   
    ExtUtils::Manifest  1.57   
    ExtUtils::ParseXS   2.2206 
    File::Spec          3.31_02
    Module::Build       0.36_13
    Module::Signature   n/a    
    Test::Harness       3.21   
    Test::More          0.96   
    YAML                0.71   
    YAML::Syck          1.12   
    version             0.82   


--

Summary of my perl5 (revision 5 version 12 subversion 1) configuration:
   
  Platform:
    osname=linux, osvers=2.6.33-arch, archname=i686-linux-thread-multi-64int-ld
    uname='linux lorant 2.6.33-arch #1 smp preempt thu may 13 12:06:25 cest 2010 i686 intel(r) pentium(r) 4 cpu 2.80ghz genuineintel gnulinux '
    config_args=''
    hint=recommended, useposix=true, d_sigaction=define
    useithreads=define, usemultiplicity=define
    useperlio=define, d_sfio=undef, uselargefiles=define, usesocks=undef
    use64bitint=define, use64bitall=undef, uselongdouble=define
    usemymalloc=n, bincompat5005=undef
  Compiler:
    cc='cc', ccflags ='-D_REENTRANT -D_GNU_SOURCE -fno-strict-aliasing -pipe -fstack-protector -I/usr/local/include -D_LARGEFILE_SOURCE -D_FILE_OFFSET_BITS=64',
    optimize='-O2',
    cppflags='-D_REENTRANT -D_GNU_SOURCE -fno-strict-aliasing -pipe -fstack-protector -I/usr/local/include'
    ccversion='', gccversion='4.5.0 20100520 (prerelease)', gccosandvers=''
    intsize=4, longsize=4, ptrsize=4, doublesize=8, byteorder=12345678
    d_longlong=define, longlongsize=8, d_longdbl=define, longdblsize=12
    ivtype='long long', ivsize=8, nvtype='long double', nvsize=12, Off_t='off_t', lseeksize=8
    alignbytes=4, prototype=define
  Linker and Libraries:
    ld='cc', ldflags =' -fstack-protector -L/usr/local/lib'
    libpth=/usr/local/lib /lib /usr/lib
    libs=-lnsl -lgdbm -ldb -ldl -lm -lcrypt -lutil -lpthread -lc -lgdbm_compat
    perllibs=-lnsl -ldl -lm -lcrypt -lutil -lpthread -lc
    libc=/lib/libc-2.12.so, so=so, useshrplib=true, libperl=libperl.so
    gnulibc_version='2.12'
  Dynamic Linking:
    dlsrc=dl_dlopen.xs, dlext=so, d_dlsymun=undef, ccdlflags='-Wl,-E -Wl,-rpath,/home/graham/perltest/th_ld_perl5121/perl/lib/5.12.1/i686-linux-thread-multi-64int-ld/CORE'
    cccdlflags='-fPIC', lddlflags='-shared -O2 -L/usr/local/lib -fstack-protector'


Characteristics of this binary (from libperl): 
  Compile-time options: MULTIPLICITY PERL_DONT_CREATE_GVSV
                        PERL_IMPLICIT_CONTEXT PERL_MALLOC_WRAP USE_64_BIT_INT
                        USE_FAST_STDIO USE_ITHREADS USE_LARGE_FILES
                        USE_LONG_DOUBLE USE_PERLIO USE_PERL_ATOF
                        USE_REENTRANT_API
  Built under linux
  Compiled at Aug  7 2010 12:43:27
  %ENV:
    PERL5LIB=""
    PERL5OPT=""
    PERL5_CPANPLUS_IS_RUNNING="14932"
    PERL5_CPAN_IS_RUNNING="14932"
    PERL5_CPAN_IS_RUNNING_IN_RECURSION="3735,14932"
    PERL_CR_SMOKER_CURRENT="JSAN-Shell-2.04"
    PERL_EXTUTILS_AUTOINSTALL="--defaultdeps"
    PERL_MM_USE_DEFAULT="1"
  @INC:
    /home/graham/perltest/th_ld_perl5121/perl/lib/site_perl/5.12.1/i686-linux-thread-multi-64int-ld
    /home/graham/perltest/th_ld_perl5121/perl/lib/site_perl/5.12.1
    /home/graham/perltest/th_ld_perl5121/perl/lib/5.12.1/i686-linux-thread-multi-64int-ld
    /home/graham/perltest/th_ld_perl5121/perl/lib/5.12.1
    .