Report for Import-Base-1.003

Back
From: metabase:user:3c0d75b6-029c-11e5-90b1-5b610b895903
Subject: PASS Import-Base-1.003 v5.24.1 GNU/Linux
Date: 2017-02-19T10:30:32Z

This distribution has been tested as part of the CPAN Testers
project, supporting the Perl programming language.  See
http://wiki.cpantesters.org/ for more information or email
questions to cpan-testers-discuss@perl.org


--
Dear Doug Bell,

This is a computer-generated report for Import-Base-1.003
on perl 5.24.1, created by CPAN-Reporter-1.2018.

Thank you for uploading your work to CPAN.  Congratulations!
All tests were successful.

Sections of this report:

    * Tester comments
    * Program output
    * Prerequisites
    * Environment and other context

------------------------------
TESTER COMMENTS
------------------------------

Additional comments from tester:

this report is from an automated smoke testing program
and was not reviewed by a human for accuracy

------------------------------
PROGRAM OUTPUT
------------------------------

Output from './Build test':

t/00-compile.t ......... ok
t/base.t ............... ok
# 
# Versions for all modules listed in MYMETA.json (including optional ones):
# 
# === Configure Requires ===
# 
#     Module              Want    Have
#     ------------------- ---- -------
#     ExtUtils::MakeMaker  any 7.10_02
#     Module::Build       0.28  0.4220
# 
# === Build Requires ===
# 
#     Module        Want   Have
#     ------------- ---- ------
#     Module::Build 0.28 0.4220
# 
# === Test Requires ===
# 
#     Module              Want     Have
#     ------------------- ---- --------
#     Carp                 any     1.40
#     ExtUtils::MakeMaker  any  7.10_02
#     File::Spec           any  3.63_01
#     IO::Handle           any     1.36
#     IPC::Open3           any     1.20
#     Test::More           any 1.001014
# 
# === Test Recommends ===
# 
#     Module         Want     Have
#     ---------- -------- --------
#     CPAN::Meta 2.120900 2.150005
# 
# === Runtime Requires ===
# 
#     Module              Want     Have
#     --------------- -------- --------
#     Import::Into    1.002005 1.002005
#     Module::Runtime      any    0.014
#     mro                  any     1.18
#     strict               any     1.11
#     warnings             any     1.36
# 
t/00-report-prereqs.t .. ok
t/exclude.t ............ ok
t/export.t ............. ok
t/order.t .............. ok
t/runtime.t ............ ok
t/use-case/dancer2.t ... skipped: Test requires Dancer2 >= 0.166001_01
t/subrefs.t ............ ok
t/use-case/moo.t ....... skipped: Test requires Moo
t/version.t ............ ok
All tests successful.
Files=11, Tests=15,  3 wallclock secs ( 0.54 usr  0.15 sys +  4.25 cusr  0.47 csys =  5.41 CPU)
Result: PASS

------------------------------
PREREQUISITES
------------------------------

Prerequisite modules loaded:

requires:

    Module              Need     Have    
    ------------------- -------- --------
    Import::Into        1.002000 1.002005
    Module::Runtime     0        0.014   
    mro                 0        1.18    
    perl                5.010    5.024001
    strict              0        1.11    
    warnings            0        1.36    

build_requires:

    Module              Need     Have    
    ------------------- -------- --------
    Carp                0        1.40    
    File::Spec          0        3.63_01 
    IO::Handle          0        1.36    
    IPC::Open3          0        1.20    
    Module::Build       0.28     0.4220  
    Test::More          0        1.001014

configure_requires:

    Module              Need     Have    
    ------------------- -------- --------
    ExtUtils::MakeMaker 0        7.10_02 


------------------------------
ENVIRONMENT AND OTHER CONTEXT
------------------------------

Environment variables:

    AUTOMATED_TESTING = 1
    HARNESS_OPTIONS = j2
    LANG = en_US.UTF-8
    LANGUAGE = en_US.UTF-8
    LC_MESSAGES = en_US.UTF-8
    PATH = /home/fperrad/perl5/perlbrew/bin:/home/fperrad/perl5/perlbrew/perls/perl-5.24.1/bin:/usr/local/bin:/usr/bin:/bin:/usr/local/games:/usr/games
    PERL5LIB = /home/fperrad/.cpan/build/Import-Into-1.002005-Y6muuX/blib/arch:/home/fperrad/.cpan/build/Import-Into-1.002005-Y6muuX/blib/lib:/home/fperrad/.cpan/build/Module-Runtime-0.014-mTSJjD/blib/arch:/home/fperrad/.cpan/build/Module-Runtime-0.014-mTSJjD/blib/lib
    PERL5OPT = 
    PERL5_CPANPLUS_IS_RUNNING = 25630
    PERL5_CPAN_IS_RUNNING = 25630
    PERL5_CPAN_IS_RUNNING_IN_RECURSION = 2798,25630
    PERLBREW_BASHRC_VERSION = 0.78
    PERLBREW_HOME = /home/fperrad/.perlbrew
    PERLBREW_MANPATH = /home/fperrad/perl5/perlbrew/perls/perl-5.24.1/man
    PERLBREW_PATH = /home/fperrad/perl5/perlbrew/bin:/home/fperrad/perl5/perlbrew/perls/perl-5.24.1/bin
    PERLBREW_PERL = perl-5.24.1
    PERLBREW_ROOT = /home/fperrad/perl5/perlbrew
    PERLBREW_VERSION = 0.78
    PERL_CR_SMOKER_CURRENT = Import-Base-1.003
    PERL_EXTUTILS_AUTOINSTALL = --defaultdeps
    PERL_MM_USE_DEFAULT = 1
    SHELL = /bin/bash
    TERM = xterm-256color

Perl special variables (and OS-specific diagnostics, for MSWin32):

    $^X = /home/fperrad/perl5/perlbrew/perls/perl-5.24.1/bin/perl
    $UID/$EUID = 1000 / 1000
    $GID = 1000 20 27 29 44 46 108 112 1000
    $EGID = 1000 20 27 29 44 46 108 112 1000

Perl module toolchain versions installed:

    Module              Have      
    ------------------- ----------
    CPAN                2.11_01   
    CPAN::Meta          2.150005  
    Cwd                 3.63_01   
    ExtUtils::CBuilder  0.280225  
    ExtUtils::Command   7.10_02   
    ExtUtils::Install   2.04      
    ExtUtils::MakeMaker 7.10_02   
    ExtUtils::Manifest  1.70      
    ExtUtils::ParseXS   3.31      
    File::Spec          3.63_01   
    JSON                n/a       
    JSON::PP            2.27300_01
    Module::Build       0.4220    
    Module::Signature   n/a       
    Parse::CPAN::Meta   1.4417_001
    Test::Harness       3.36_01   
    Test::More          1.001014  
    YAML                n/a       
    YAML::Syck          n/a       
    version             0.9917    


--

Summary of my perl5 (revision 5 version 24 subversion 1) configuration:
   
  Platform:
    osname=linux, osvers=3.4.112-sun7i, archname=armv7l-linux
    uname='linux lime 3.4.112-sun7i #10 smp preempt sun oct 23 15:49:51 cest 2016 armv7l gnulinux '
    config_args='-de -Dprefix=/home/fperrad/perl5/perlbrew/perls/perl-5.24.1 -Aeval:scriptdir=/home/fperrad/perl5/perlbrew/perls/perl-5.24.1/bin'
    hint=recommended, useposix=true, d_sigaction=define
    useithreads=undef, usemultiplicity=undef
    use64bitint=undef, use64bitall=undef, uselongdouble=undef
    usemymalloc=n, bincompat5005=undef
  Compiler:
    cc='cc', ccflags ='-fwrapv -fno-strict-aliasing -pipe -fstack-protector-strong -I/usr/local/include -D_LARGEFILE_SOURCE -D_FILE_OFFSET_BITS=64 -D_FORTIFY_SOURCE=2',
    optimize='-O2',
    cppflags='-fwrapv -fno-strict-aliasing -pipe -fstack-protector-strong -I/usr/local/include'
    ccversion='', gccversion='4.9.2', gccosandvers=''
    intsize=4, longsize=4, ptrsize=4, doublesize=8, byteorder=1234, doublekind=3
    d_longlong=define, longlongsize=8, d_longdbl=define, longdblsize=8, longdblkind=0
    ivtype='long', ivsize=4, nvtype='double', nvsize=8, Off_t='off_t', lseeksize=8
    alignbytes=8, prototype=define
  Linker and Libraries:
    ld='cc', ldflags =' -fstack-protector-strong -L/usr/local/lib'
    libpth=/usr/local/lib /usr/lib/gcc/arm-linux-gnueabihf/4.9/include-fixed /usr/include/arm-linux-gnueabihf /usr/lib /lib/arm-linux-gnueabihf /lib /usr/lib/arm-linux-gnueabihf
    libs=-lpthread -lnsl -ldl -lm -lcrypt -lutil -lc
    perllibs=-lpthread -lnsl -ldl -lm -lcrypt -lutil -lc
    libc=libc-2.19.so, so=so, useshrplib=false, libperl=libperl.a
    gnulibc_version='2.19'
  Dynamic Linking:
    dlsrc=dl_dlopen.xs, dlext=so, d_dlsymun=undef, ccdlflags='-Wl,-E'
    cccdlflags='-fPIC', lddlflags='-shared -O2 -L/usr/local/lib -fstack-protector-strong'


Characteristics of this binary (from libperl): 
  Compile-time options: HAS_TIMES PERLIO_LAYERS PERL_COPY_ON_WRITE
                        PERL_DONT_CREATE_GVSV
                        PERL_HASH_FUNC_ONE_AT_A_TIME_HARD PERL_MALLOC_WRAP
                        PERL_PRESERVE_IVUV USE_LARGE_FILES USE_LOCALE
                        USE_LOCALE_COLLATE USE_LOCALE_CTYPE
                        USE_LOCALE_NUMERIC USE_LOCALE_TIME USE_PERLIO
                        USE_PERL_ATOF
  Locally applied patches:
	Devel::PatchPerl 1.38
  Built under linux
  Compiled at Jan 17 2017 13:39:09
  %ENV:
    PERL5LIB="/home/fperrad/.cpan/build/Import-Into-1.002005-Y6muuX/blib/arch:/home/fperrad/.cpan/build/Import-Into-1.002005-Y6muuX/blib/lib:/home/fperrad/.cpan/build/Module-Runtime-0.014-mTSJjD/blib/arch:/home/fperrad/.cpan/build/Module-Runtime-0.014-mTSJjD/blib/lib"
    PERL5OPT=""
    PERL5_CPANPLUS_IS_RUNNING="25630"
    PERL5_CPAN_IS_RUNNING="25630"
    PERL5_CPAN_IS_RUNNING_IN_RECURSION="2798,25630"
    PERLBREW_BASHRC_VERSION="0.78"
    PERLBREW_HOME="/home/fperrad/.perlbrew"
    PERLBREW_MANPATH="/home/fperrad/perl5/perlbrew/perls/perl-5.24.1/man"
    PERLBREW_PATH="/home/fperrad/perl5/perlbrew/bin:/home/fperrad/perl5/perlbrew/perls/perl-5.24.1/bin"
    PERLBREW_PERL="perl-5.24.1"
    PERLBREW_ROOT="/home/fperrad/perl5/perlbrew"
    PERLBREW_VERSION="0.78"
    PERL_CR_SMOKER_CURRENT="Import-Base-1.003"
    PERL_EXTUTILS_AUTOINSTALL="--defaultdeps"
    PERL_MM_USE_DEFAULT="1"
  @INC:
    /home/fperrad/.cpan/build/Import-Into-1.002005-Y6muuX/blib/arch
    /home/fperrad/.cpan/build/Import-Into-1.002005-Y6muuX/blib/lib
    /home/fperrad/.cpan/build/Module-Runtime-0.014-mTSJjD/blib/arch
    /home/fperrad/.cpan/build/Module-Runtime-0.014-mTSJjD/blib/lib
    /home/fperrad/perl5/perlbrew/perls/perl-5.24.1/lib/site_perl/5.24.1/armv7l-linux
    /home/fperrad/perl5/perlbrew/perls/perl-5.24.1/lib/site_perl/5.24.1
    /home/fperrad/perl5/perlbrew/perls/perl-5.24.1/lib/5.24.1/armv7l-linux
    /home/fperrad/perl5/perlbrew/perls/perl-5.24.1/lib/5.24.1
    .