Test-HadoopSingleNode v0.02_04 Perl 5 v5.26.1 x86_64-linux-thread-multi

Status
Pass
From
Andreas J. K├Ânig (ANDK)
Dist
Test-HadoopSingleNode v0.02_04
Platform
Perl 5 v5.26.1 x86_64-linux-thread-multi
Date
2019-01-02T11:42:16
ID
747d5be0-0e83-11e9-88fe-041838c47247
This distribution has been tested as part of the CPAN Testers
project, supporting the Perl programming language.  See
http://wiki.cpantesters.org/ for more information or email
questions to cpan-testers-discuss@perl.org


--
Dear Yohei Yamamoto,

This is a computer-generated report for Test-HadoopSingleNode-0.02_04
on perl 5.26.1, created by CPAN-Reporter-1.2018.

Thank you for uploading your work to CPAN.  Congratulations!
All tests were successful.

Sections of this report:

    * Tester comments
    * Program output
    * Prerequisites
    * Environment and other context

------------------------------
TESTER COMMENTS
------------------------------

Additional comments from tester:

this report is from an automated smoke testing program
and was not reviewed by a human for accuracy

------------------------------
PROGRAM OUTPUT
------------------------------

Output from '/usr/bin/make test':

PERL_DL_NONLAZY=1 "/home/sand/src/perl/repoperls/installed-perls/host/k93msid/v5.26.1/1e0c/bin/perl" "-MExtUtils::Command::MM" "-MTest::Harness" "-e" "undef *Test::Harness::Switches; test_harness(0, 'inc', 'blib/lib', 'blib/arch')" t/*.t
t/00_compile.t .... ok
t/03-not-found.t .. ok
t/10_basic.t ...... skipped: not found hadoop bin
t/11_cmd.t ........ skipped: not found hadoop bin
All tests successful.
Files=4, Tests=2,  1 wallclock secs ( 0.03 usr  0.02 sys +  0.48 cusr  0.20 csys =  0.73 CPU)
Result: PASS

------------------------------
PREREQUISITES
------------------------------

Prerequisite modules loaded:

requires:

    Module              Need  Have      
    ------------------- ----- ----------
    Carp                0     1.42      
    Data::Dumper        0     2.173     
    Data::Rmap          0     0.65      
    File::Copy          0     2.32      
    File::Temp          0     0.2308    
    File::Which         0     1.23      
    IO::Handle          0     1.39      
    IO::Select          0     1.39      
    IPC::Open3          0     1.20      
    IPC::Open3::Simple  0     0.04      
    IPC::Run            0     20180523.0
    Path::Class         0     0.37      
    perl                5.008 5.026001  
    Proc::Guard         0     0.07      
    Symbol              0     1.08      
    Test::TCP           0     2.19      
    XML::Simple         0     2.25      

build_requires:

    Module              Need  Have      
    ------------------- ----- ----------
    ExtUtils::MakeMaker 6.42  7.35_07   
    Path::Class         0     0.37      
    Test::More          0     1.302143  

configure_requires:

    Module              Need  Have      
    ------------------- ----- ----------
    ExtUtils::MakeMaker 6.42  7.35_07   


------------------------------
ENVIRONMENT AND OTHER CONTEXT
------------------------------

Environment variables:

    AUTOMATED_TESTING = 1
    LANG = en_US.UTF-8
    PATH = /home/sand/bin:/usr/local/bin:/usr/bin:/bin:/usr/games:/usr/local/perl/bin:/usr/X11/bin:/sbin:/usr/sbin
    PERL5LIB = /tmp/loop_over_bdir-25351-502RVg/Proc-Guard-0.07-0/blib/arch:/tmp/loop_over_bdir-25351-502RVg/Proc-Guard-0.07-0/blib/lib:/tmp/loop_over_bdir-25351-502RVg/IPC-Open3-Simple-0.04-0/blib/arch:/tmp/loop_over_bdir-25351-502RVg/IPC-Open3-Simple-0.04-0/blib/lib:/tmp/loop_over_bdir-25351-502RVg/Data-Rmap-0.65-0/blib/arch:/tmp/loop_over_bdir-25351-502RVg/Data-Rmap-0.65-0/blib/lib
    PERL5OPT = 
    PERL5_CPANPLUS_IS_RUNNING = 25359
    PERL5_CPAN_IS_RUNNING = 25359
    PERL5_CPAN_IS_RUNNING_IN_RECURSION = 5756,25359
    PERL_CANARY_STABILITY_NOPROMPT = 1
    PERL_MM_USE_DEFAULT = 1
    PERL_USE_UNSAFE_INC = 1
    SHELL = /usr/bin/zsh
    TERM = screen

Perl special variables (and OS-specific diagnostics, for MSWin32):

    $^X = /home/sand/src/perl/repoperls/installed-perls/host/k93msid/v5.26.1/1e0c/bin/perl
    $UID/$EUID = 1005 / 1005
    $GID = 1005 1005
    $EGID = 1005 1005

Perl module toolchain versions installed:

    Module              Have    
    ------------------- --------
    CPAN                2.21    
    CPAN::Meta          2.150010
    Cwd                 3.75    
    ExtUtils::CBuilder  0.280230
    ExtUtils::Command   7.35_07 
    ExtUtils::Install   2.06    
    ExtUtils::MakeMaker 7.35_07 
    ExtUtils::Manifest  1.70    
    ExtUtils::ParseXS   3.34    
    File::Spec          3.75    
    JSON                4.00    
    JSON::PP            2.97001 
    Module::Build       0.4224  
    Module::Signature   0.83    
    Parse::CPAN::Meta   2.150010
    Test::Harness       3.42    
    Test::More          1.302143
    YAML                1.26    
    YAML::Syck          1.31    
    version             0.9917  


--

Summary of my perl5 (revision 5 version 26 subversion 1) configuration:
  Derived from: 714a461a2ab3017f19ea0f7bbb4934b2309d3aa8
  Platform:
    osname=linux
    osvers=4.18.0-2-amd64
    archname=x86_64-linux-thread-multi
    uname='linux k93msid 4.18.0-2-amd64 #1 smp debian 4.18.10-2 (2018-10-07) x86_64 gnulinux '
    config_args='-Dprefix=/home/sand/src/perl/repoperls/installed-perls/host/k93msid/v5.26.1/1e0c -Dmyhostname=k93msid -Dinstallusrbinperl=n -Uversiononly -Dusedevel -des -Ui_db -Dlibswanted=cl pthread socket inet nsl gdbm dbm malloc dl ld sun m crypt sec util c cposix posix ucb BSD gdbm_compat -Duseithreads -Uuselongdouble -DEBUGGING=-g'
    hint=recommended
    useposix=true
    d_sigaction=define
    useithreads=define
    usemultiplicity=define
    use64bitint=define
    use64bitall=define
    uselongdouble=undef
    usemymalloc=n
    default_inc_excludes_dot=define
    bincompat5005=undef
  Compiler:
    cc='cc'
    ccflags ='-D_REENTRANT -D_GNU_SOURCE -fwrapv -fno-strict-aliasing -pipe -fstack-protector-strong -I/usr/local/include -D_LARGEFILE_SOURCE -D_FILE_OFFSET_BITS=64'
    optimize='-O2 -g'
    cppflags='-D_REENTRANT -D_GNU_SOURCE -fwrapv -fno-strict-aliasing -pipe -fstack-protector-strong -I/usr/local/include'
    ccversion=''
    gccversion='8.2.0'
    gccosandvers=''
    intsize=4
    longsize=8
    ptrsize=8
    doublesize=8
    byteorder=12345678
    doublekind=3
    d_longlong=define
    longlongsize=8
    d_longdbl=define
    longdblsize=16
    longdblkind=3
    ivtype='long'
    ivsize=8
    nvtype='double'
    nvsize=8
    Off_t='off_t'
    lseeksize=8
    alignbytes=8
    prototype=define
  Linker and Libraries:
    ld='cc'
    ldflags =' -fstack-protector-strong -L/usr/local/lib'
    libpth=/usr/local/lib /usr/lib/gcc/x86_64-linux-gnu/8/include-fixed /usr/include/x86_64-linux-gnu /usr/lib /lib/x86_64-linux-gnu /lib/../lib /usr/lib/x86_64-linux-gnu /usr/lib/../lib /lib
    libs=-lpthread -lnsl -ldl -lm -lcrypt -lutil -lc
    perllibs=-lpthread -lnsl -ldl -lm -lcrypt -lutil -lc
    libc=libc-2.27.so
    so=so
    useshrplib=false
    libperl=libperl.a
    gnulibc_version='2.27'
  Dynamic Linking:
    dlsrc=dl_dlopen.xs
    dlext=so
    d_dlsymun=undef
    ccdlflags='-Wl,-E'
    cccdlflags='-fPIC'
    lddlflags='-shared -O2 -g -L/usr/local/lib -fstack-protector-strong'


Characteristics of this binary (from libperl): 
  Compile-time options:
    HAS_TIMES
    MULTIPLICITY
    PERLIO_LAYERS
    PERL_COPY_ON_WRITE
    PERL_DONT_CREATE_GVSV
    PERL_IMPLICIT_CONTEXT
    PERL_MALLOC_WRAP
    PERL_OP_PARENT
    PERL_PRESERVE_IVUV
    PERL_USE_DEVEL
    USE_64_BIT_ALL
    USE_64_BIT_INT
    USE_ITHREADS
    USE_LARGE_FILES
    USE_LOCALE
    USE_LOCALE_COLLATE
    USE_LOCALE_CTYPE
    USE_LOCALE_NUMERIC
    USE_LOCALE_TIME
    USE_PERLIO
    USE_PERL_ATOF
    USE_REENTRANT_API
  Locally applied patches:
    uncommitted-changes
  Built under linux
  Compiled at Oct 28 2018 19:03:33
  %ENV:
    PERL5LIB="/tmp/loop_over_bdir-25351-502RVg/Proc-Guard-0.07-0/blib/arch:/tmp/loop_over_bdir-25351-502RVg/Proc-Guard-0.07-0/blib/lib:/tmp/loop_over_bdir-25351-502RVg/IPC-Open3-Simple-0.04-0/blib/arch:/tmp/loop_over_bdir-25351-502RVg/IPC-Open3-Simple-0.04-0/blib/lib:/tmp/loop_over_bdir-25351-502RVg/Data-Rmap-0.65-0/blib/arch:/tmp/loop_over_bdir-25351-502RVg/Data-Rmap-0.65-0/blib/lib"
    PERL5OPT=""
    PERL5_CPANPLUS_IS_RUNNING="25359"
    PERL5_CPAN_IS_RUNNING="25359"
    PERL5_CPAN_IS_RUNNING_IN_RECURSION="5756,25359"
    PERL_CANARY_STABILITY_NOPROMPT="1"
    PERL_MM_USE_DEFAULT="1"
    PERL_USE_UNSAFE_INC="1"
  @INC:
    /tmp/loop_over_bdir-25351-502RVg/Proc-Guard-0.07-0/blib/arch
    /tmp/loop_over_bdir-25351-502RVg/Proc-Guard-0.07-0/blib/lib
    /tmp/loop_over_bdir-25351-502RVg/IPC-Open3-Simple-0.04-0/blib/arch
    /tmp/loop_over_bdir-25351-502RVg/IPC-Open3-Simple-0.04-0/blib/lib
    /tmp/loop_over_bdir-25351-502RVg/Data-Rmap-0.65-0/blib/arch
    /tmp/loop_over_bdir-25351-502RVg/Data-Rmap-0.65-0/blib/lib
    /home/sand/src/perl/repoperls/installed-perls/host/k93msid/v5.26.1/1e0c/lib/site_perl/5.26.1/x86_64-linux-thread-multi
    /home/sand/src/perl/repoperls/installed-perls/host/k93msid/v5.26.1/1e0c/lib/site_perl/5.26.1
    /home/sand/src/perl/repoperls/installed-perls/host/k93msid/v5.26.1/1e0c/lib/5.26.1/x86_64-linux-thread-multi
    /home/sand/src/perl/repoperls/installed-perls/host/k93msid/v5.26.1/1e0c/lib/5.26.1
    .