Test-FTP-Server v0.013 Perl 5 v5.20.0 x86_64-linux

Status
Pass
From
Slaven Rezić (SREZIC)
Dist
Test-FTP-Server v0.013
Platform
Perl 5 v5.20.0 x86_64-linux
Date
2020-05-22T03:22:27
ID
7627fa54-9bdb-11ea-ade4-807b1f24ea8f
This distribution has been tested as part of the CPAN Testers
project, supporting the Perl programming language.  See
http://wiki.cpantesters.org/ for more information or email
questions to cpan-testers-discuss@perl.org


--
Dear Taku Amano,

This is a computer-generated report for Test-FTP-Server-0.013
on perl 5.20.0, created by CPAN-Reporter-1.2018.

Thank you for uploading your work to CPAN.  Congratulations!
All tests were successful.

Sections of this report:

    * Tester comments
    * Program output
    * Prerequisites
    * Environment and other context

------------------------------
TESTER COMMENTS
------------------------------

Additional comments from tester:

none provided

------------------------------
PROGRAM OUTPUT
------------------------------

Output from '/usr/bin/make test':

PERL_DL_NONLAZY=1 "/opt/perl-5.20.0/bin/perl" "-MExtUtils::Command::MM" "-MTest::Harness" "-e" "undef *Test::Harness::Switches; test_harness(0, 'inc', 'blib/lib', 'blib/arch')" t/*.t
t/00_compile.t .. ok
[Test::TCP] Child process does not block(PID: 311, PPID: 309) at /home/cpansand/.cpan/build/2020052205/Test-FTP-Server-0.013-0/inc/Test/TCP.pm line 103.
[Test::TCP] Child process does not block(PID: 312, PPID: 309) at /home/cpansand/.cpan/build/2020052205/Test-FTP-Server-0.013-0/inc/Test/TCP.pm line 103, <STDIN> line 3.
t/01_run.t ...... ok
[Test::TCP] Child process does not block(PID: 315, PPID: 313) at /home/cpansand/.cpan/build/2020052205/Test-FTP-Server-0.013-0/inc/Test/TCP.pm line 103.
[Test::TCP] Child process does not block(PID: 316, PPID: 313) at /home/cpansand/.cpan/build/2020052205/Test-FTP-Server-0.013-0/inc/Test/TCP.pm line 103, <STDIN> line 16.
t/02_root.t ..... ok
[Test::TCP] Child process does not block(PID: 319, PPID: 317) at /home/cpansand/.cpan/build/2020052205/Test-FTP-Server-0.013-0/inc/Test/TCP.pm line 103.
[Test::TCP] Child process does not block(PID: 320, PPID: 317) at /home/cpansand/.cpan/build/2020052205/Test-FTP-Server-0.013-0/inc/Test/TCP.pm line 103, <STDIN> line 18.
t/03_sandbox.t .. ok
All tests successful.
Files=4, Tests=30,  1 wallclock secs ( 0.01 usr  0.01 sys +  0.46 cusr  0.10 csys =  0.58 CPU)
Result: PASS

------------------------------
PREREQUISITES
------------------------------

Prerequisite modules loaded:

requires:

    Module                Need     Have    
    --------------------- -------- --------
    Net::FTPServer        0        1.125   
    perl                  5.006001 5.020000

build_requires:

    Module                Need     Have    
    --------------------- -------- --------
    ExtUtils::MakeMaker   6.59     7.24    
    File::Copy::Recursive 0        0.38    
    Net::FTP              0        3.10    
    Test::More            0.88     1.302056
    Test::TCP             0        2.17    

configure_requires:

    Module                Need     Have    
    --------------------- -------- --------
    ExtUtils::MakeMaker   6.59     7.24    


------------------------------
ENVIRONMENT AND OTHER CONTEXT
------------------------------

Environment variables:

    LANG = en_US.UTF-8
    LANGUAGE = en_US:en
    LC_ALL = en_US.UTF-8
    PATH = /usr/local/bin:/usr/bin:/bin:/usr/local/sbin:/usr/sbin:/sbin:/home/cpansand/bin/linux-gnu:/home/cpansand/bin/sh:/home/cpansand/bin:/usr/games:/home/cpansand/devel:/home/eserte/src/srezic-misc/scripts
    PERL5LIB = /home/cpansand/.cpan/build/2020052205/Net-FTPServer-1.125-0/blib/arch:/home/cpansand/.cpan/build/2020052205/Net-FTPServer-1.125-0/blib/lib:/home/cpansand/.cpan/build/2020052205/BSD-Resource-1.2911-0/blib/arch:/home/cpansand/.cpan/build/2020052205/BSD-Resource-1.2911-0/blib/lib
    PERL5OPT = 
    PERL5_CPANPLUS_IS_RUNNING = 31816
    PERL5_CPAN_IS_RUNNING = 31816
    PERL5_CPAN_IS_RUNNING_IN_RECURSION = 31702,31816
    PERLDOC = -MPod::Perldoc::ToTextOverstrike
    PERL_BATCH = yes
    PERL_CANARY_STABILITY_NOPROMPT = 1
    PERL_CPAN_REPORTER_CONFIG = /var/tmp/cpansmoker-1023/2020052205/cpanreporter_000_config.ini
    PERL_EXTUTILS_AUTOINSTALL = --defaultdeps
    PERL_USE_UNSAFE_INC = 1
    SHELL = /bin/zsh
    TERM = screen
    TMPDIR = /var/tmp/cpansmoker-1023/2020052205

Perl special variables (and OS-specific diagnostics, for MSWin32):

    $^X = /opt/perl-5.20.0/bin/perl
    $UID/$EUID = 1023 / 1023
    $GID = 1023 1023
    $EGID = 1023 1023

Perl module toolchain versions installed:

    Module              Have    
    ------------------- --------
    CPAN                2.16    
    CPAN::Meta          2.150010
    Cwd                 3.62    
    ExtUtils::CBuilder  0.280216
    ExtUtils::Command   7.24    
    ExtUtils::Install   1.67    
    ExtUtils::MakeMaker 7.24    
    ExtUtils::Manifest  1.70    
    ExtUtils::ParseXS   3.24    
    File::Spec          3.62    
    JSON                2.90    
    JSON::PP            2.27400 
    Module::Build       0.4220  
    Module::Signature   0.81    
    Parse::CPAN::Meta   2.150010
    Test::Harness       3.30    
    Test::More          1.302056
    YAML                1.17    
    YAML::Syck          1.29    
    version             0.9917  


--

Summary of my perl5 (revision 5 version 20 subversion 0) configuration:
   
  Platform:
    osname=linux, osvers=3.2.0-4-amd64, archname=x86_64-linux
    uname='linux cvrsnica-wheezy 3.2.0-4-amd64 #1 smp debian 3.2.54-2 x86_64 gnulinux '
    config_args='-ds -e -Dprefix=/opt/perl-5.20.0'
    hint=recommended, useposix=true, d_sigaction=define
    useithreads=undef, usemultiplicity=undef
    use64bitint=define, use64bitall=define, uselongdouble=undef
    usemymalloc=n, bincompat5005=undef
  Compiler:
    cc='cc', ccflags ='-fwrapv -fno-strict-aliasing -pipe -fstack-protector -I/usr/local/include -D_LARGEFILE_SOURCE -D_FILE_OFFSET_BITS=64',
    optimize='-O2',
    cppflags='-fwrapv -fno-strict-aliasing -pipe -fstack-protector -I/usr/local/include'
    ccversion='', gccversion='4.7.2', gccosandvers=''
    intsize=4, longsize=8, ptrsize=8, doublesize=8, byteorder=12345678
    d_longlong=define, longlongsize=8, d_longdbl=define, longdblsize=16
    ivtype='long', ivsize=8, nvtype='double', nvsize=8, Off_t='off_t', lseeksize=8
    alignbytes=8, prototype=define
  Linker and Libraries:
    ld='cc', ldflags =' -fstack-protector -L/usr/local/lib'
    libpth=/usr/local/lib /usr/lib/gcc/x86_64-linux-gnu/4.7/include-fixed /usr/include/x86_64-linux-gnu /usr/lib /lib/x86_64-linux-gnu /lib/../lib /usr/lib/x86_64-linux-gnu /usr/lib/../lib /lib
    libs=-lnsl -ldb -ldl -lm -lcrypt -lutil -lc
    perllibs=-lnsl -ldl -lm -lcrypt -lutil -lc
    libc=libc-2.13.so, so=so, useshrplib=false, libperl=libperl.a
    gnulibc_version='2.13'
  Dynamic Linking:
    dlsrc=dl_dlopen.xs, dlext=so, d_dlsymun=undef, ccdlflags='-Wl,-E'
    cccdlflags='-fPIC', lddlflags='-shared -O2 -L/usr/local/lib -fstack-protector'


Characteristics of this binary (from libperl): 
  Compile-time options: HAS_TIMES PERLIO_LAYERS PERL_DONT_CREATE_GVSV
                        PERL_HASH_FUNC_ONE_AT_A_TIME_HARD PERL_MALLOC_WRAP
                        PERL_NEW_COPY_ON_WRITE PERL_PRESERVE_IVUV
                        USE_64_BIT_ALL USE_64_BIT_INT USE_LARGE_FILES
                        USE_LOCALE USE_LOCALE_COLLATE USE_LOCALE_CTYPE
                        USE_LOCALE_NUMERIC USE_PERLIO USE_PERL_ATOF
  Built under linux
  Compiled at Jul 19 2014 07:43:18
  %ENV:
    PERL5LIB="/home/cpansand/.cpan/build/2020052205/Net-FTPServer-1.125-0/blib/arch:/home/cpansand/.cpan/build/2020052205/Net-FTPServer-1.125-0/blib/lib:/home/cpansand/.cpan/build/2020052205/BSD-Resource-1.2911-0/blib/arch:/home/cpansand/.cpan/build/2020052205/BSD-Resource-1.2911-0/blib/lib"
    PERL5OPT=""
    PERL5_CPANPLUS_IS_RUNNING="31816"
    PERL5_CPAN_IS_RUNNING="31816"
    PERL5_CPAN_IS_RUNNING_IN_RECURSION="31702,31816"
    PERLDOC="-MPod::Perldoc::ToTextOverstrike"
    PERL_BATCH="yes"
    PERL_CANARY_STABILITY_NOPROMPT="1"
    PERL_CPAN_REPORTER_CONFIG="/var/tmp/cpansmoker-1023/2020052205/cpanreporter_000_config.ini"
    PERL_EXTUTILS_AUTOINSTALL="--defaultdeps"
    PERL_USE_UNSAFE_INC="1"
  @INC:
    /home/cpansand/.cpan/build/2020052205/Net-FTPServer-1.125-0/blib/arch
    /home/cpansand/.cpan/build/2020052205/Net-FTPServer-1.125-0/blib/lib
    /home/cpansand/.cpan/build/2020052205/BSD-Resource-1.2911-0/blib/arch
    /home/cpansand/.cpan/build/2020052205/BSD-Resource-1.2911-0/blib/lib
    /opt/perl-5.20.0/lib/site_perl/5.20.0/x86_64-linux
    /opt/perl-5.20.0/lib/site_perl/5.20.0
    /opt/perl-5.20.0/lib/5.20.0/x86_64-linux
    /opt/perl-5.20.0/lib/5.20.0
    .