CGI v4.66 Perl 5 v5.38.2 x86_64-linux-thread-multi
- Status
- Pass
- From
- Slaven Rezić
- Dist
-
CGI v4.66
- Platform
- Perl 5 v5.38.2 x86_64-linux-thread-multi
- Date
- 2024-11-09 15:37:00
- ID
- 7630c134-9eb0-11ef-a340-f9126e8775ea
This distribution has been tested as part of the CPAN Testers
project, supporting the Perl programming language. See
http://wiki.cpantesters.org/ for more information or email
questions to cpan-testers-discuss@perl.org
--
Dear Lee Johnson,
This is a computer-generated report for CGI-4.66
on perl 5.38.2, created by CPAN-Reporter-1.2020.
Thank you for uploading your work to CPAN. Congratulations!
All tests were successful.
Sections of this report:
* Tester comments
* Program output
* Prerequisites
* Environment and other context
------------------------------
TESTER COMMENTS
------------------------------
Additional comments from tester:
none provided
------------------------------
PROGRAM OUTPUT
------------------------------
Output from '/usr/bin/make test':
PERL_DL_NONLAZY=1 "/usr/bin/perl" "-MExtUtils::Command::MM" "-MTest::Harness" "-e" "undef *Test::Harness::Switches; test_harness(0, 'blib/lib', 'blib/arch')" t/*.t t/headers/*.t
t/append_query.t ............ ok
t/arbitrary_handles.t ....... ok
t/autoescape.t .............. ok
t/can.t ..................... ok
[Sat Nov 9 02:51:04 2024] carp.t: foo at /home/cpansand/.cpan/build/2024110902/CGI-4.66-0/blib/lib/CGI/Carp.pm line 360.
t/carp.t .................... ok
# cgi-lib.pl routines
private_tempfiles has been deprecated at /home/cpansand/.cpan/build/2024110902/CGI-4.66-0/blib/lib/CGI.pm line 3240.
t/cgi.t ..................... ok
t/charset.t ................. ok
t/checkbox_group.t .......... ok
t/command_line.t ............ ok
t/compiles_pod.t ............ ok
t/cookie.t .................. ok
t/delete.t .................. ok
t/Dump.t .................... ok
t/end_form.t ................ ok
t/form.t .................... ok
t/function.t ................ ok
t/gh-155.t .................. ok
t/headers.t ................. ok
t/headers/attachment.t ...... ok
t/headers/charset.t ......... ok
t/headers/cookie.t .......... ok
t/headers/default.t ......... ok
t/headers/nph.t ............. ok
t/headers/p3p.t ............. ok
t/headers/target.t .......... ok
t/headers/type.t ............ ok
t/hidden.t .................. ok
t/html.t .................... ok
t/html_functions.t .......... ok
t/http.t .................... ok
t/init.t .................... ok
t/multipart_globals.t ....... ok
t/multipart_init.t .......... ok
t/multipart_start.t ......... ok
t/no_tabindex.t ............. ok
t/param_fetch.t ............. ok
t/param_list_context.t ...... ok
t/popup_menu.t .............. ok
t/postdata.t ................ ok
CGI::Pretty is DEPRECATED and will be removed in a future release. Please see https://github.com/leejo/CGI.pm/issues/162 for more information at /home/cpansand/.cpan/build/2024110902/CGI-4.66-0/blib/lib/CGI/Pretty.pm line 20.
t/pretty.t .................. ok
t/push.t .................... ok
t/query_string.t ............ ok
t/redirect_query_string.t ... ok
t/request.t ................. ok
t/rt-31107.t ................ ok
t/rt-52469.t ................ ok
t/rt-57524.t ................ ok
t/rt-75628.t ................ ok
t/rt-84767.t ................ ok
t/save_read_roundtrip.t ..... ok
t/sorted.t .................. ok
t/start_end_asterisk.t ...... ok
t/start_end_end.t ........... ok
t/start_end_start.t ......... ok
t/unescapeHTML.t ............ ok
t/upload.t .................. ok
t/upload_quoted_unquoted.t .. ok
t/uploadInfo.t .............. ok
t/url.t ..................... ok
t/user_agent.t .............. ok
t/utf8.t .................... ok
t/util-58.t ................. ok
t/util.t .................... ok
All tests successful.
Test Summary Report
-------------------
t/compiles_pod.t (Wstat: 0 Tests: 18 Failed: 0)
TODO passed: 3, 6
Files=63, Tests=1595, 5 wallclock secs ( 0.23 usr 0.09 sys + 3.95 cusr 1.06 csys = 5.33 CPU)
Result: PASS
------------------------------
PREREQUISITES
------------------------------
Prerequisite modules loaded:
requires:
Module Need Have
------------------- -------- --------
Carp 0 1.54
Config 0 5.038002
Encode 0 3.19
Exporter 0 5.77
File::Spec 0.82 3.88
File::Temp 0.17 0.2311
HTML::Entities 3.69 3.81
if 0 0.0610
overload 0 1.37
parent 0.225 0.241
perl 5.008001 5.038002
strict 0 1.12
URI 1.76 5.21
utf8 0 1.25
warnings 0 1.65
build_requires:
Module Need Have
------------------- -------- --------
Cwd 0 3.89
ExtUtils::MakeMaker 0 7.70
File::Find 0 1.43
IO::File 0 1.52
IO::Handle 0 1.52
POSIX 0 2.13
Test::More 0.98 1.302195
Test::NoWarnings 0 1.06
Test::Warn 0.3 0.37
configure_requires:
Module Need Have
------------------- -------- --------
ExtUtils::MakeMaker 0 7.70
------------------------------
ENVIRONMENT AND OTHER CONTEXT
------------------------------
Environment variables:
LANG = en_US.UTF-8
PATH = /usr/local/bin:/usr/bin:/bin:/usr/local/sbin:/usr/sbin:/sbin:/home/cpansand/bin/linux-gnu:/home/cpansand/bin/sh:/home/cpansand/bin:/usr/games:/home/cpansand/devel:/home/eserte/src/srezic-misc/scripts
PERL5LIB = /home/cpansand/.cpan/build/2024110902/Test-Warn-0.37-0/blib/arch:/home/cpansand/.cpan/build/2024110902/Test-Warn-0.37-0/blib/lib:/home/cpansand/.cpan/build/2024110902/Sub-Uplevel-0.2800-0/blib/arch:/home/cpansand/.cpan/build/2024110902/Sub-Uplevel-0.2800-0/blib/lib:/home/cpansand/.cpan/build/2024110902/Test-NoWarnings-1.06-0/blib/arch:/home/cpansand/.cpan/build/2024110902/Test-NoWarnings-1.06-0/blib/lib
PERL5OPT =
PERL5_CPANPLUS_IS_RUNNING = 2963597
PERL5_CPAN_IS_RUNNING = 2963597
PERL5_CPAN_IS_RUNNING_IN_RECURSION = 2963493,2963597
PERLDOC = -MPod::Perldoc::ToTextOverstrike
PERL_BATCH = yes
PERL_CANARY_STABILITY_NOPROMPT = 1
PERL_CPAN_REPORTER_CONFIG = /var/tmp/cpansmoker-1023/2024110902/cpanreporter_000_config.ini
PERL_EXTUTILS_AUTOINSTALL = --defaultdeps
PERL_USE_UNSAFE_INC = 1
SHELL = /usr/bin/zsh
TERM = screen
TMPDIR = /var/tmp/cpansmoker-1023/2024110902
Perl special variables (and OS-specific diagnostics, for MSWin32):
$^X = /usr/bin/perl
$UID/$EUID = 1023 / 1023
$GID = 1023 1023
$EGID = 1023 1023
Perl module toolchain versions installed:
Module Have
------------------- --------
CPAN 2.36
CPAN::Meta 2.150010
Cwd 3.89
ExtUtils::CBuilder 0.280238
ExtUtils::Command 7.70
ExtUtils::Install 2.22
ExtUtils::MakeMaker 7.70
ExtUtils::Manifest 1.75
ExtUtils::ParseXS 3.51
File::Spec 3.88
JSON n/a
JSON::PP 4.16
Module::Build 0.4234
Module::Signature 0.88
Parse::CPAN::Meta 2.150010
Test2 1.302195
Test::Harness 3.48
Test::More 1.302195
YAML n/a
YAML::Syck 1.34
version 0.9930
--
Summary of my perl5 (revision 5 version 38 subversion 2) configuration:
Platform:
osname=linux
osvers=6.5.10-200.fc38.x86_64
archname=x86_64-linux-thread-multi
uname='linux 071d0054338b4d9581badd27a2b84703 6.5.10-200.fc38.x86_64 #1 smp preempt_dynamic thu nov 2 19:59:55 utc 2023 x86_64 gnulinux '
config_args='-des -Doptimize=none -Dccflags=-O2 -flto=auto -ffat-lto-objects -fexceptions -g -grecord-gcc-switches -pipe -Wall -Wno-complain-wrong-lang -Werror=format-security -Wp,-U_FORTIFY_SOURCE,-D_FORTIFY_SOURCE=3 -Wp,-D_GLIBCXX_ASSERTIONS -specs=/usr/lib/rpm/redhat/redhat-hardened-cc1 -fstack-protector-strong -specs=/usr/lib/rpm/redhat/redhat-annobin-cc1 -m64 -mtune=generic -fasynchronous-unwind-tables -fstack-clash-protection -fcf-protection -fno-omit-frame-pointer -mno-omit-leaf-frame-pointer -Dldflags=-Wl,-z,relro -Wl,--as-needed -Wl,-z,now -specs=/usr/lib/rpm/redhat/redhat-hardened-ld -specs=/usr/lib/rpm/redhat/redhat-annobin-cc1 -Wl,--build-id=sha1 -Dccdlflags=-Wl,--enable-new-dtags -Wl,-z,relro -Wl,--as-needed -Wl,-z,now -specs=/usr/lib/rpm/redhat/redhat-hardened-ld -specs=/usr/lib/rpm/redhat/redhat-annobin-cc1 -Wl,--build-id=sha1 -Dlddlflags=-shared -Wl,-z,relro -Wl,--as-needed -Wl,-z,now -specs=/usr/lib/rpm/redhat/redhat-hardened-ld -specs=/usr/lib/rpm/redhat/redhat-annobin-cc1 -Wl,--build-id=sha1 -Dshrpdir=/usr/lib64 -DDEBUGGING=-g -Dversion=5.38.2 -Dmyhostname=localhost -Dperladmin=root@localhost -Dcc=gcc -Dcf_by=Red Hat, Inc. -Dprefix=/usr -Dvendorprefix=/usr -Dsiteprefix=/usr/local -Dsitelib=/usr/local/share/perl5/5.38 -Dsitearch=/usr/local/lib64/perl5/5.38 -Dprivlib=/usr/share/perl5 -Dvendorlib=/usr/share/perl5/vendor_perl -Darchlib=/usr/lib64/perl5 -Dvendorarch=/usr/lib64/perl5/vendor_perl -Darchname=x86_64-linux-thread-multi -Dlibpth=/usr/local/lib64 /lib64 /usr/lib64 -Duseshrplib -Dusethreads -Duseithreads -Dusedtrace=/usr/bin/dtrace -Duselargefiles -Dd_semctl_semun -Di_db -Ui_ndbm -Di_gdbm -Di_shadow -Di_syslog -Dman3ext=3pm -Duseperlio -Dinstallusrbinperl=n -Ubincompat5005 -Uversiononly -Dpager=/usr/bin/less -isr -Dd_gethostent_r_proto -Ud_endhostent_r_proto -Ud_sethostent_r_proto -Ud_endprotoent_r_proto -Ud_setprotoent_r_proto -Ud_endservent_r_proto -Ud_setservent_r_proto -Dscriptdir=/usr/bin -Dusesitecustomize -Duse64bitint'
hint=recommended
useposix=true
d_sigaction=define
useithreads=define
usemultiplicity=define
use64bitint=define
use64bitall=define
uselongdouble=undef
usemymalloc=n
default_inc_excludes_dot=define
Compiler:
cc='gcc'
ccflags ='-D_REENTRANT -D_GNU_SOURCE -O2 -flto=auto -ffat-lto-objects -fexceptions -g -grecord-gcc-switches -pipe -Wall -Wno-complain-wrong-lang -Werror=format-security -Wp,-U_FORTIFY_SOURCE,-D_FORTIFY_SOURCE=3 -Wp,-D_GLIBCXX_ASSERTIONS -specs=/usr/lib/rpm/redhat/redhat-hardened-cc1 -fstack-protector-strong -specs=/usr/lib/rpm/redhat/redhat-annobin-cc1 -m64 -mtune=generic -fasynchronous-unwind-tables -fstack-clash-protection -fcf-protection -fno-omit-frame-pointer -mno-omit-leaf-frame-pointer -fwrapv -fno-strict-aliasing -I/usr/local/include -D_LARGEFILE_SOURCE -D_FILE_OFFSET_BITS=64'
optimize=' -g'
cppflags='-D_REENTRANT -D_GNU_SOURCE -O2 -flto=auto -ffat-lto-objects -fexceptions -g -grecord-gcc-switches -pipe -Wall -Wno-complain-wrong-lang -Werror=format-security -Wp,-U_FORTIFY_SOURCE,-D_FORTIFY_SOURCE=3 -Wp,-D_GLIBCXX_ASSERTIONS -specs=/usr/lib/rpm/redhat/redhat-hardened-cc1 -fstack-protector-strong -specs=/usr/lib/rpm/redhat/redhat-annobin-cc1 -m64 -mtune=generic -fasynchronous-unwind-tables -fstack-clash-protection -fcf-protection -fno-omit-frame-pointer -mno-omit-leaf-frame-pointer -fwrapv -fno-strict-aliasing -I/usr/local/include'
ccversion=''
gccversion='13.2.1 20231011 (Red Hat 13.2.1-4)'
gccosandvers=''
intsize=4
longsize=8
ptrsize=8
doublesize=8
byteorder=12345678
doublekind=3
d_longlong=define
longlongsize=8
d_longdbl=define
longdblsize=16
longdblkind=3
ivtype='long'
ivsize=8
nvtype='double'
nvsize=8
Off_t='off_t'
lseeksize=8
alignbytes=8
prototype=define
Linker and Libraries:
ld='gcc'
ldflags ='-Wl,-z,relro -Wl,--as-needed -Wl,-z,now -specs=/usr/lib/rpm/redhat/redhat-hardened-ld -specs=/usr/lib/rpm/redhat/redhat-annobin-cc1 -Wl,--build-id=sha1 -fstack-protector-strong -L/usr/local/lib'
libpth=/usr/local/lib64 /lib64 /usr/lib64 /usr/local/lib /usr/lib
libs=-lpthread -lresolv -lgdbm -ldb -ldl -lm -lcrypt -lutil -lc -lgdbm_compat
perllibs=-lpthread -lresolv -ldl -lm -lcrypt -lutil -lc
libc=/lib/../lib64/libc.so.6
so=so
useshrplib=true
libperl=libperl.so
gnulibc_version='2.38'
Dynamic Linking:
dlsrc=dl_dlopen.xs
dlext=so
d_dlsymun=undef
ccdlflags='-Wl,--enable-new-dtags -Wl,-z,relro -Wl,--as-needed -Wl,-z,now -specs=/usr/lib/rpm/redhat/redhat-hardened-ld -specs=/usr/lib/rpm/redhat/redhat-annobin-cc1 -Wl,--build-id=sha1 '
cccdlflags='-fPIC'
lddlflags='-lpthread -shared -Wl,-z,relro -Wl,--as-needed -Wl,-z,now -specs=/usr/lib/rpm/redhat/redhat-hardened-ld -specs=/usr/lib/rpm/redhat/redhat-annobin-cc1 -Wl,--build-id=sha1 -L/usr/local/lib -fstack-protector-strong'
Characteristics of this binary (from libperl):
Compile-time options:
HAS_LONG_DOUBLE
HAS_STRTOLD
HAS_TIMES
MULTIPLICITY
PERLIO_LAYERS
PERL_COPY_ON_WRITE
PERL_DONT_CREATE_GVSV
PERL_HASH_FUNC_SIPHASH13
PERL_HASH_USE_SBOX32
PERL_MALLOC_WRAP
PERL_OP_PARENT
PERL_PRESERVE_IVUV
PERL_USE_SAFE_PUTENV
USE_64_BIT_ALL
USE_64_BIT_INT
USE_ITHREADS
USE_LARGE_FILES
USE_LOCALE
USE_LOCALE_COLLATE
USE_LOCALE_CTYPE
USE_LOCALE_NUMERIC
USE_LOCALE_TIME
USE_PERLIO
USE_PERL_ATOF
USE_REENTRANT_API
USE_SITECUSTOMIZE
USE_THREAD_SAFE_LOCALE
Locally applied patches:
Fedora Patch1: Removes date check, Fedora/RHEL specific
Fedora Patch2: support for libdir64
Fedora Patch3: use libresolv instead of libbind
Fedora Patch4: USE_MM_LD_RUN_PATH
Fedora Patch5: Provide MM::maybe_command independently (bug #1129443)
Fedora Patch6: Dont run one io test due to random builder failures
Fedora Patch8: Define SONAME for libperl.so
Fedora Patch9: Install libperl.so to -Dshrpdir value
Fedora Patch10: Make *DBM_File desctructors thread-safe (RT#61912)
Fedora Patch11: Replace EU::MakeMaker dependency with EU::MM::Utils in IPC::Cmd (bug #1129443)
Fedora Patch12: Link XS modules to pthread library to fix linking with -z defs
Fedora Patch13: Pass the correct CFLAGS to dtrace
Fedora Patch200: Link XS modules to libperl.so with EU::CBuilder on Linux
Fedora Patch201: Link XS modules to libperl.so with EU::MM on Linux
Fedora Patch202: Add definition of OPTIMIZE to .ph files
Built under linux
Compiled at Nov 30 2023 00:00:00
%ENV:
PERL5LIB="/home/cpansand/.cpan/build/2024110902/Test-Warn-0.37-0/blib/arch:/home/cpansand/.cpan/build/2024110902/Test-Warn-0.37-0/blib/lib:/home/cpansand/.cpan/build/2024110902/Sub-Uplevel-0.2800-0/blib/arch:/home/cpansand/.cpan/build/2024110902/Sub-Uplevel-0.2800-0/blib/lib:/home/cpansand/.cpan/build/2024110902/Test-NoWarnings-1.06-0/blib/arch:/home/cpansand/.cpan/build/2024110902/Test-NoWarnings-1.06-0/blib/lib"
PERL5OPT=""
PERL5_CPANPLUS_IS_RUNNING="2963597"
PERL5_CPAN_IS_RUNNING="2963597"
PERL5_CPAN_IS_RUNNING_IN_RECURSION="2963493,2963597"
PERLDOC="-MPod::Perldoc::ToTextOverstrike"
PERL_BATCH="yes"
PERL_CANARY_STABILITY_NOPROMPT="1"
PERL_CPAN_REPORTER_CONFIG="/var/tmp/cpansmoker-1023/2024110902/cpanreporter_000_config.ini"
PERL_EXTUTILS_AUTOINSTALL="--defaultdeps"
PERL_USE_UNSAFE_INC="1"
@INC:
/home/cpansand/.cpan/build/2024110902/Test-Warn-0.37-0/blib/arch
/home/cpansand/.cpan/build/2024110902/Test-Warn-0.37-0/blib/lib
/home/cpansand/.cpan/build/2024110902/Sub-Uplevel-0.2800-0/blib/arch
/home/cpansand/.cpan/build/2024110902/Sub-Uplevel-0.2800-0/blib/lib
/home/cpansand/.cpan/build/2024110902/Test-NoWarnings-1.06-0/blib/arch
/home/cpansand/.cpan/build/2024110902/Test-NoWarnings-1.06-0/blib/lib
/usr/local/lib64/perl5/5.38
/usr/local/share/perl5/5.38
/usr/lib64/perl5/vendor_perl
/usr/share/perl5/vendor_perl
/usr/lib64/perl5
/usr/share/perl5
.