Data-NDS-Multifile v3.12 Perl 5 v5.10.1 amd64-openbsd

Status
Pass
From
Sebastian Woetzel
Dist
Data-NDS-Multifile v3.12
Platform
Perl 5 v5.10.1 amd64-openbsd
Date
2010-08-18T09:53:34
ID
775ff332-aaae-11df-84b9-70aac7d03139
This distribution has been tested as part of the CPAN Testers
project, supporting the Perl programming language.  See
http://wiki.cpantesters.org/ for more information or email
questions to cpan-testers-discuss@perl.org


--
Dear Sullivan Beck,

This is a computer-generated report for Data-NDS-Multifile-3.12
on perl 5.10.1, created by CPAN-Reporter-1.1711.

Thank you for uploading your work to CPAN.  Congratulations!
All tests were successful.

Sections of this report:

    * Tester comments
    * Program output
    * Prerequisites
    * Environment and other context

------------------------------
TESTER COMMENTS
------------------------------

Additional comments from tester:

this report is from an automated smoke testing program
and was not reviewed by a human for accuracy

------------------------------
PROGRAM OUTPUT
------------------------------

Output from './Build test':

t/add_ele.hash.t ........... ok
t/add_ele.list.t ........... ok
t/copy_hash.t .............. ok
t/copy_list.t .............. ok
t/default_element.hash.t ... ok
t/default_element.list.t ... ok
t/delete_ele.hash.t ........ ok
t/delete_ele.list.t ........ ok
t/ele.hash.t ............... ok
t/ele.list.t ............... ok
t/eles.hash.t .............. ok
t/eles.list.t .............. ok
t/file.hash.error.t ........ ok
t/file.hash.t .............. ok
t/file.list.error.t ........ ok
t/file.list.t .............. ok
t/is_default_value.hash.t .. ok
t/keys.t ................... ok
t/path_in_use.t ............ ok
t/path_valid.t ............. ok
t/path_values.hash.t ....... ok
t/path_values.list.t ....... ok
t/pod.t .................... skipped: Test::Pod 1.00 required for testing POD
t/pod_coverage.t ........... skipped: Test::Pod::Coverage 1.00 required for testing POD coverage
t/rename_ele.hash.t ........ ok
t/update_ele.t ............. ok
t/value.t .................. ok
t/values.t ................. ok
t/which.hash.t ............. ok
t/which.list.t ............. ok
All tests successful.
Files=30, Tests=183,  9 wallclock secs ( 0.00 usr +  0.00 sys =  0.00 CPU)
Result: PASS

------------------------------
PREREQUISITES
------------------------------

Prerequisite modules loaded:

requires:

    Module              Need  Have    
    ------------------- ----- --------
    Data::NDS           0     3.11    
    Data::NDS::Multiele 0     3.12    
    perl                5.001 5.010001
    Storable            0     2.20    
    YAML::Syck          0     1.12    

configure_requires:

    Module              Need  Have    
    ------------------- ----- --------
    Module::Build       0.36  0.3607  


------------------------------
ENVIRONMENT AND OTHER CONTEXT
------------------------------

Environment variables:

    AUTOMATED_TESTING = 1
    PATH = /home/macgyver/perl5/bin:/home/macgyver/perl5/perlbrew/bin:/home/macgyver/perl5/perlbrew/perls/current/bin:/home/macgyver/bin:/bin:/sbin:/usr/bin:/usr/sbin:/usr/X11R6/bin:/usr/local/bin:/usr/local/sbin:/usr/games:.
    PERL5LIB = /home/macgyver/.cpan/build/Data-NDS-Multiele-3.12-E8Xwr0/blib/arch:/home/macgyver/.cpan/build/Data-NDS-Multiele-3.12-E8Xwr0/blib/lib:/home/macgyver/.cpan/build/Data-NDS-3.11-BOCAFY/blib/arch:/home/macgyver/.cpan/build/Data-NDS-3.11-BOCAFY/blib/lib:/home/macgyver/.cpan/build/Algorithm-Permute-0.12-cJd3_G/blib/arch:/home/macgyver/.cpan/build/Algorithm-Permute-0.12-cJd3_G/blib/lib:/home/macgyver/.cpan/build/YAML-Syck-1.12-97p9TS/blib/arch:/home/macgyver/.cpan/build/YAML-Syck-1.12-97p9TS/blib/lib:/home/macgyver/.cpan/build/Devel-Leak-0.03-sjgciD/blib/arch:/home/macgyver/.cpan/build/Devel-Leak-0.03-sjgciD/blib/lib:/home/macgyver/perl5/lib/perl5/amd64-openbsd:/home/macgyver/perl5/lib/perl5
    PERL5OPT = 
    PERL5_CPANPLUS_IS_RUNNING = 2743
    PERL5_CPAN_IS_RUNNING = 2743
    PERL5_CPAN_IS_RUNNING_IN_RECURSION = 2891,2743
    PERL_CR_SMOKER_CURRENT = Data-NDS-Multifile-3.12
    PERL_EXTUTILS_AUTOINSTALL = --defaultdeps
    PERL_MM_OPT = INSTALL_BASE=/home/macgyver/perl5
    PERL_MM_USE_DEFAULT = 1
    SHELL = bash
    TERM = screen

Perl special variables (and OS-specific diagnostics, for MSWin32):

    $^X = /usr/bin/perl
    $UID/$EUID = 1000 / 1000
    $GID = 10 10 0
    $EGID = 10 10 0

Perl module toolchain versions installed:

    Module              Have   
    ------------------- -------
    CPAN                1.9402 
    Cwd                 3.31   
    ExtUtils::CBuilder  0.2703 
    ExtUtils::Command   1.16   
    ExtUtils::Install   1.54   
    ExtUtils::MakeMaker 6.55_02
    ExtUtils::Manifest  1.56   
    ExtUtils::ParseXS   2.2206 
    File::Spec          3.31   
    Module::Build       0.3607 
    Module::Signature   n/a    
    Test::Harness       3.17   
    Test::More          0.92   
    YAML                0.71   
    YAML::Syck          1.12   
    version             0.77   


--

Summary of my perl5 (revision 5 version 10 subversion 1) configuration:
   
  Platform:
    osname=openbsd, osvers=4.7, archname=amd64-openbsd
    uname='openbsd'
    config_args='-dsE -Dopenbsd_distribution=defined -Dmksymlinks'
    hint=recommended, useposix=true, d_sigaction=define
    useithreads=undef, usemultiplicity=undef
    useperlio=define, d_sfio=undef, uselargefiles=define, usesocks=undef
    use64bitint=define, use64bitall=define, uselongdouble=undef
    usemymalloc=n, bincompat5005=undef
  Compiler:
    cc='cc', ccflags ='-fno-strict-aliasing -fno-delete-null-pointer-checks -pipe -fstack-protector -I/usr/local/include',
    optimize='-O2',
    cppflags='-fno-strict-aliasing -fno-delete-null-pointer-checks -pipe -fstack-protector -I/usr/local/include'
    ccversion='', gccversion='3.3.5 (propolice)', gccosandvers='openbsd4.7'
    intsize=4, longsize=8, ptrsize=8, doublesize=8, byteorder=12345678
    d_longlong=define, longlongsize=8, d_longdbl=define, longdblsize=16
    ivtype='long', ivsize=8, nvtype='double', nvsize=8, Off_t='off_t', lseeksize=8
    alignbytes=8, prototype=define
  Linker and Libraries:
    ld='cc', ldflags ='-Wl,-E  -fstack-protector'
    libpth=/usr/lib
    libs=-lm -lutil -lc
    perllibs=-lm -lutil -lc
    libc=/usr/lib/libc.so.53.1, so=so, useshrplib=true, libperl=libperl.so.11.1
    gnulibc_version=''
  Dynamic Linking:
    dlsrc=dl_dlopen.xs, dlext=so, d_dlsymun=undef, ccdlflags='-Wl,-R/usr/libdata/perl5/amd64-openbsd/5.10.1/CORE'
    cccdlflags='-DPIC -fPIC ', lddlflags='-shared -fPIC  -fstack-protector'


Characteristics of this binary (from libperl): 
  Compile-time options: PERL_DONT_CREATE_GVSV PERL_MALLOC_WRAP USE_64_BIT_ALL
                        USE_64_BIT_INT USE_LARGE_FILES USE_PERLIO
  Built under OpenBSD
  %ENV:
    PERL5LIB="/home/macgyver/.cpan/build/Data-NDS-Multiele-3.12-E8Xwr0/blib/arch:/home/macgyver/.cpan/build/Data-NDS-Multiele-3.12-E8Xwr0/blib/lib:/home/macgyver/.cpan/build/Data-NDS-3.11-BOCAFY/blib/arch:/home/macgyver/.cpan/build/Data-NDS-3.11-BOCAFY/blib/lib:/home/macgyver/.cpan/build/Algorithm-Permute-0.12-cJd3_G/blib/arch:/home/macgyver/.cpan/build/Algorithm-Permute-0.12-cJd3_G/blib/lib:/home/macgyver/.cpan/build/YAML-Syck-1.12-97p9TS/blib/arch:/home/macgyver/.cpan/build/YAML-Syck-1.12-97p9TS/blib/lib:/home/macgyver/.cpan/build/Devel-Leak-0.03-sjgciD/blib/arch:/home/macgyver/.cpan/build/Devel-Leak-0.03-sjgciD/blib/lib:/home/macgyver/perl5/lib/perl5/amd64-openbsd:/home/macgyver/perl5/lib/perl5"
    PERL5OPT=""
    PERL5_CPANPLUS_IS_RUNNING="2743"
    PERL5_CPAN_IS_RUNNING="2743"
    PERL5_CPAN_IS_RUNNING_IN_RECURSION="2891,2743"
    PERL_CR_SMOKER_CURRENT="Data-NDS-Multifile-3.12"
    PERL_EXTUTILS_AUTOINSTALL="--defaultdeps"
    PERL_MM_OPT="INSTALL_BASE=/home/macgyver/perl5"
    PERL_MM_USE_DEFAULT="1"
  @INC:
    /home/macgyver/.cpan/build/Data-NDS-Multiele-3.12-E8Xwr0/blib/arch
    /home/macgyver/.cpan/build/Data-NDS-Multiele-3.12-E8Xwr0/blib/lib
    /home/macgyver/.cpan/build/Data-NDS-3.11-BOCAFY/blib/arch
    /home/macgyver/.cpan/build/Data-NDS-3.11-BOCAFY/blib/lib
    /home/macgyver/.cpan/build/Algorithm-Permute-0.12-cJd3_G/blib/arch
    /home/macgyver/.cpan/build/Algorithm-Permute-0.12-cJd3_G/blib/lib
    /home/macgyver/.cpan/build/YAML-Syck-1.12-97p9TS/blib/arch
    /home/macgyver/.cpan/build/YAML-Syck-1.12-97p9TS/blib/lib
    /home/macgyver/.cpan/build/Devel-Leak-0.03-sjgciD/blib/arch
    /home/macgyver/.cpan/build/Devel-Leak-0.03-sjgciD/blib/lib
    /home/macgyver/perl5/lib/perl5/amd64-openbsd
    /home/macgyver/perl5/lib/perl5/amd64-openbsd
    /home/macgyver/perl5/lib/perl5
    /usr/libdata/perl5/amd64-openbsd/5.10.1
    /usr/local/libdata/perl5/amd64-openbsd/5.10.1
    /usr/libdata/perl5
    /usr/local/libdata/perl5
    /usr/local/libdata/perl5/site_perl/amd64-openbsd
    /usr/libdata/perl5/site_perl/amd64-openbsd
    /usr/local/libdata/perl5/site_perl
    /usr/libdata/perl5/site_perl
    .