Back
From: metabase:user:0d96120c-29e2-11e5-b049-ede3035d37de
Subject: PASS Test-WWW-Mechanize-Catalyst-0.60 v5.14.4 Mac OS X
Date: 2015-07-19T21:59:51Z
This distribution has been tested as part of the CPAN Testers
project, supporting the Perl programming language. See
http://wiki.cpantesters.org/ for more information or email
questions to cpan-testers-discuss@perl.org
--
Dear John Napiorkowski,
This is a computer-generated report for Test-WWW-Mechanize-Catalyst-0.60
on perl 5.14.4, created by CPAN-Reporter-1.2014.
Thank you for uploading your work to CPAN. Congratulations!
All tests were successful.
Sections of this report:
* Tester comments
* Program output
* Prerequisites
* Environment and other context
------------------------------
TESTER COMMENTS
------------------------------
Additional comments from tester:
none provided
------------------------------
PROGRAM OUTPUT
------------------------------
Output from '/usr/bin/make test':
PERL_DL_NONLAZY=1 "/Users/jmaslak/perl5/perlbrew/perls/perl-5.14.4/bin/perl" "-MExtUtils::Command::MM" "-MTest::Harness" "-e" "undef *Test::Harness::Switches; test_harness(0, 'inc', 'blib/lib', 'blib/arch')" t/*.t
t/auth-test.t ........... ok
t/cookies.t ............. ok
t/decoded_content.t ..... ok
#
# ###################################################################
# Starting an external Catalyst HTTP server on port 7357
# To change the port, please set the TWMC_TEST_PORT env variable.
# (The server will be automatically shut-down right after the tests).
# ###################################################################
HTTP::Server::PSGI: Accepting connections at http://0:7357/
t/multi_content_type.t .. ok
t/pod.t ................. ok
t/redirect.t ............ ok
Term::Size::Any is not installed, can't autodetect terminal column width
Trouble trying to detect your terminal size, looking at $ENV{COLUMNS}
Cannot determine desired terminal width, using default of 80 columns
t/simple.t .............. ok
t/two_app.t ............. ok
t/useragent.t ........... ok
t/utf8.t ................ ok
t/white_label.t ......... ok
All tests successful.
Files=11, Tests=109, 16 wallclock secs ( 0.03 usr 0.01 sys + 5.12 cusr 0.38 csys = 5.54 CPU)
Result: PASS
------------------------------
PREREQUISITES
------------------------------
Prerequisite modules loaded:
requires:
Module Need Have
---------------------------------------- -------- --------
Catalyst 5.90 5.90093
Class::Load 0.19 0.23
LWP 5.816 6.13
Moose 0.67 2.1405
namespace::clean 0.09 0.25
perl 5.008004 5.014004
Test::WWW::Mechanize 1.14 1.44
WWW::Mechanize 1.54 1.75
build_requires:
Module Need Have
---------------------------------------- -------- --------
Catalyst::Plugin::Session::State::Cookie 0 0.17
Catalyst::Plugin::Session::Store::Dummy 0 0
ExtUtils::MakeMaker 6.59 7.04
Test::Exception 0 0.40
Test::More 0.88 1.001014
Test::utf8 0 1.01
configure_requires:
Module Need Have
---------------------------------------- -------- --------
ExtUtils::MakeMaker 6.59 7.04
------------------------------
ENVIRONMENT AND OTHER CONTEXT
------------------------------
Environment variables:
LANG = en_US.UTF-8
PATH = /Users/jmaslak/perl5/perlbrew/bin:/Users/jmaslak/perl5/perlbrew/perls/perl-5.14.4/bin:/Users/jmaslak/perl5/perlbrew/bin:/Users/jmaslak/perl5/perlbrew/perls/perl-5.22.0/bin:/Users/jmaslak/.rakudobrew/bin:/usr/local/bin:/usr/bin:/bin:/usr/sbin:/sbin:/opt/X11/bin
PERL5LIB =
PERL5OPT =
PERL5_CPANPLUS_IS_RUNNING = 39421
PERL5_CPAN_IS_RUNNING = 39421
PERLBREW_BASHRC_VERSION = 0.73
PERLBREW_HOME = /Users/jmaslak/.perlbrew
PERLBREW_LIB =
PERLBREW_MANPATH = /Users/jmaslak/perl5/perlbrew/perls/perl-5.14.4/man
PERLBREW_PATH = /Users/jmaslak/perl5/perlbrew/bin:/Users/jmaslak/perl5/perlbrew/perls/perl-5.14.4/bin
PERLBREW_PERL = perl-5.14.4
PERLBREW_ROOT = /Users/jmaslak/perl5/perlbrew
PERLBREW_VERSION = 0.73
PERL_LOCAL_LIB_ROOT =
SHELL = /bin/bash
TERM = xterm-256color
TMPDIR = /var/folders/4y/bn5_gsxn4496c8_l179hk9fc0000gn/T/
VERSIONER_PERL_PREFER_32_BIT = no
VERSIONER_PERL_VERSION = 5.18
Perl special variables (and OS-specific diagnostics, for MSWin32):
$^X = /Users/jmaslak/perl5/perlbrew/perls/perl-5.14.4/bin/perl
$UID/$EUID = 501 / 501
$GID = 20 20 502 401 12 61 79 80 81 98 33 100 204 398 399 701
$EGID = 20 20 502 401 12 61 79 80 81 98 33 100 204 398 399 701
Perl module toolchain versions installed:
Module Have
------------------- ---------
CPAN 1.9600_01
CPAN::Meta 2.150005
Cwd 3.47
ExtUtils::CBuilder 0.280203
ExtUtils::Command 1.17
ExtUtils::Install 1.56
ExtUtils::MakeMaker 7.04
ExtUtils::Manifest 1.70
ExtUtils::ParseXS 3.24
File::Spec 3.47
JSON 2.90
JSON::PP 2.27300
Module::Build 0.4214
Module::Signature n/a
Parse::CPAN::Meta 1.4417
Test::Harness 3.35
Test::More 1.001014
YAML 1.15
YAML::Syck n/a
version 0.9912
--
Summary of my perl5 (revision 5 version 14 subversion 4) configuration:
Platform:
osname=darwin, osvers=14.4.0, archname=darwin-2level
uname='darwin jmaslakpro.antelope.net 14.4.0 darwin kernel version 14.4.0: sun apr 19 20:30:19 pdt 2015; root:xnu-2782.30.2~2release_x86_64 x86_64 '
config_args='-de -Dprefix=/Users/jmaslak/perl5/perlbrew/perls/perl-5.14.4 -Aeval:scriptdir=/Users/jmaslak/perl5/perlbrew/perls/perl-5.14.4/bin'
hint=recommended, useposix=true, d_sigaction=define
useithreads=undef, usemultiplicity=undef
useperlio=define, d_sfio=undef, uselargefiles=define, usesocks=undef
use64bitint=define, use64bitall=define, uselongdouble=undef
usemymalloc=n, bincompat5005=undef
Compiler:
cc='cc', ccflags ='-fno-common -DPERL_DARWIN -fno-strict-aliasing -pipe -fstack-protector -I/opt/local/include',
optimize='-O3',
cppflags='-fno-common -DPERL_DARWIN -fno-strict-aliasing -pipe -fstack-protector -I/opt/local/include'
ccversion='', gccversion='4.2.1 Compatible Apple LLVM 6.0 (clang-600.0.56)', gccosandvers=''
intsize=4, longsize=8, ptrsize=8, doublesize=8, byteorder=12345678
d_longlong=define, longlongsize=8, d_longdbl=define, longdblsize=16
ivtype='long', ivsize=8, nvtype='double', nvsize=8, Off_t='off_t', lseeksize=8
alignbytes=8, prototype=define
Linker and Libraries:
ld='env MACOSX_DEPLOYMENT_TARGET=10.3 cc', ldflags =' -fstack-protector -L/opt/local/lib'
libpth=/opt/local/lib /usr/lib
libs=-lgdbm -ldbm -ldl -lm -lutil -lc
perllibs=-ldl -lm -lutil -lc
libc=, so=dylib, useshrplib=false, libperl=libperl.a
gnulibc_version=''
Dynamic Linking:
dlsrc=dl_dlopen.xs, dlext=bundle, d_dlsymun=undef, ccdlflags=' '
cccdlflags=' ', lddlflags=' -bundle -undefined dynamic_lookup -L/opt/local/lib -fstack-protector'
Characteristics of this binary (from libperl):
Compile-time options: PERL_DONT_CREATE_GVSV PERL_MALLOC_WRAP
PERL_PRESERVE_IVUV USE_64_BIT_ALL USE_64_BIT_INT
USE_LARGE_FILES USE_PERLIO USE_PERL_ATOF
Locally applied patches:
Devel::PatchPerl 1.38
Built under darwin
Compiled at Jul 11 2015 12:58:36
%ENV:
PERL5LIB=""
PERL5OPT=""
PERL5_CPANPLUS_IS_RUNNING="39421"
PERL5_CPAN_IS_RUNNING="39421"
PERLBREW_BASHRC_VERSION="0.73"
PERLBREW_HOME="/Users/jmaslak/.perlbrew"
PERLBREW_LIB=""
PERLBREW_MANPATH="/Users/jmaslak/perl5/perlbrew/perls/perl-5.14.4/man"
PERLBREW_PATH="/Users/jmaslak/perl5/perlbrew/bin:/Users/jmaslak/perl5/perlbrew/perls/perl-5.14.4/bin"
PERLBREW_PERL="perl-5.14.4"
PERLBREW_ROOT="/Users/jmaslak/perl5/perlbrew"
PERLBREW_VERSION="0.73"
PERL_LOCAL_LIB_ROOT=""
@INC:
/Users/jmaslak/perl5/perlbrew/perls/perl-5.14.4/lib/site_perl/5.14.4/darwin-2level
/Users/jmaslak/perl5/perlbrew/perls/perl-5.14.4/lib/site_perl/5.14.4
/Users/jmaslak/perl5/perlbrew/perls/perl-5.14.4/lib/5.14.4/darwin-2level
/Users/jmaslak/perl5/perlbrew/perls/perl-5.14.4/lib/5.14.4
.