Net-DNS-Resolver-Unbound v1.21 Perl 5 v5.28.1 amd64-freebsd

Status
Pass
From
Slaven Rezić
Dist
Net-DNS-Resolver-Unbound v1.21
Platform
Perl 5 v5.28.1 amd64-freebsd
Date
2023-06-11T19:16:36
ID
7bca2682-088c-11ee-baa2-09e86d8775ea
This distribution has been tested as part of the CPAN Testers
project, supporting the Perl programming language.  See
http://wiki.cpantesters.org/ for more information or email
questions to cpan-testers-discuss@perl.org


--
Dear Dick Franks,

This is a computer-generated report for Net-DNS-Resolver-Unbound-1.21
on perl 5.28.1, created by CPAN-Reporter-1.2019.

Thank you for uploading your work to CPAN.  Congratulations!
All tests were successful.

Sections of this report:

    * Tester comments
    * Program output
    * Prerequisites
    * Environment and other context

------------------------------
TESTER COMMENTS
------------------------------

Additional comments from tester:

none provided

------------------------------
PROGRAM OUTPUT
------------------------------

Output from '/usr/bin/make test':

"/usr/perl5.28.1p/bin/perl" -MExtUtils::Command::MM -e 'cp_nonempty' -- Unbound.bs blib/arch/auto/Net/DNS/Resolver/Unbound/Unbound.bs 644
PERL_DL_NONLAZY=1 HARNESS_OPTIONS=j1:c "/usr/perl5.28.1p/bin/perl" "-It" "-MExtUtils::Command::MM" "-MTest::Harness" "-e" "undef *Test::Harness::Switches; test_harness(0, 'blib/lib', 'blib/arch')" t/*.t
t/00-install.t ....... ok
# 
# These tests were run using:
# 	Net::DNS                        1.39
# 	Net::DNS::Resolver::Unbound     1.21
# 	Net::DNS::Resolver::libunbound  1.6.0
# 	Carp                            1.50
# 	DynaLoader                      1.45
# 	ExtUtils::MakeMaker             7.70
# 	File::Find                      1.34
# 	File::Spec                      3.75
# 	IO::File                        1.51
# 	Test::More                      1.302195
t/00-load.t .......... ok
t/00-pod.t ........... ok
t/10-context.t ....... ok
t/20-synchronous.t ... ok
t/25-decode.t ........ ok
t/30-asynchronous.t .. ok
t/35-bgread.t ........ ok
All tests successful.
Files=8, Tests=58,  7 wallclock secs ( 0.02 usr  0.02 sys +  0.54 cusr  0.46 csys =  1.03 CPU)
Result: PASS

------------------------------
PREREQUISITES
------------------------------

Prerequisite modules loaded:

requires:

    Module              Need     Have    
    ------------------- -------- --------
    Carp                1.1      1.50    
    DynaLoader          1.09     1.45    
    Net::DNS            1.19     1.39    
    perl                5.008009 5.028001

build_requires:

    Module              Need     Have    
    ------------------- -------- --------
    ExtUtils::MakeMaker 0        7.70    
    File::Find          1.13     1.34    
    File::Spec          3.29     3.75    
    IO::File            1.14     1.51    
    Test::More          0.8      1.302195

configure_requires:

    Module              Need     Have    
    ------------------- -------- --------
    ExtUtils::MakeMaker 6.48     7.70    


------------------------------
ENVIRONMENT AND OTHER CONTEXT
------------------------------

Environment variables:

    LC_ALL = de_DE.ISO8859-1
    PATH = /usr/local/bin:/usr/bin:/bin:/usr/local/sbin:/usr/sbin:/sbin:/home/cpansand/bin/freebsd10.3:/home/cpansand/bin/sh:/home/cpansand/bin:/usr/games:/home/cpansand/devel:/home/eserte/src/srezic-misc/scripts
    PERL5LIB = 
    PERL5OPT = 
    PERL5_CPANPLUS_IS_RUNNING = 51063
    PERL5_CPAN_IS_RUNNING = 51063
    PERL5_CPAN_IS_RUNNING_IN_RECURSION = 1009,51063
    PERLDOC = -MPod::Perldoc::ToTextOverstrike
    PERL_BATCH = yes
    PERL_CANARY_STABILITY_NOPROMPT = 1
    PERL_CPAN_REPORTER_CONFIG = /var/tmp/cpansmoker-1023/2023061109/cpanreporter_000_config.ini
    PERL_EXTUTILS_AUTOINSTALL = --defaultdeps
    PERL_USE_UNSAFE_INC = 1
    SHELL = /usr/local/bin/zsh
    TERM = screen
    TMPDIR = /var/tmp/cpansmoker-1023/2023061109

Perl special variables (and OS-specific diagnostics, for MSWin32):

    $^X = /usr/perl5.28.1p/bin/perl
    $UID/$EUID = 1023 / 1023
    $GID = 1023 1023
    $EGID = 1023 1023

Perl module toolchain versions installed:

    Module              Have    
    ------------------- --------
    CPAN                2.34    
    CPAN::Meta          2.150010
    Cwd                 3.75    
    ExtUtils::CBuilder  0.280236
    ExtUtils::Command   7.70    
    ExtUtils::Install   2.22    
    ExtUtils::MakeMaker 7.70    
    ExtUtils::Manifest  1.75    
    ExtUtils::ParseXS   3.39    
    File::Spec          3.75    
    JSON                4.10    
    JSON::PP            4.16    
    Module::Build       0.4234  
    Module::Signature   0.87    
    Parse::CPAN::Meta   2.150010
    Test2               1.302195
    Test::Harness       3.44    
    Test::More          1.302195
    YAML                1.30    
    YAML::Syck          1.34    
    version             0.9929  


--

Summary of my perl5 (revision 5 version 28 subversion 1) configuration:
   
  Platform:
    osname=freebsd
    osvers=10.3-release-p24
    archname=amd64-freebsd
    uname='freebsd cvrsnica-freebsd-101.herceg.de 10.3-release-p24 freebsd 10.3-release-p24 #0: wed nov 15 04:57:40 utc 2017 root@amd64-builder.daemonology.net:usrobjusrsrcsysgeneric amd64 '
    config_args='-ds -e -Dprefix=/usr/perl5.28.1p -Dcf_email=srezic@cpan.org -Doptimize=-O2 -pipe'
    hint=recommended
    useposix=true
    d_sigaction=define
    useithreads=undef
    usemultiplicity=undef
    use64bitint=define
    use64bitall=define
    uselongdouble=undef
    usemymalloc=n
    default_inc_excludes_dot=define
    bincompat5005=undef
  Compiler:
    cc='cc'
    ccflags ='-DHAS_FPSETMASK -DHAS_FLOATINGPOINT_H -fno-strict-aliasing -pipe -fstack-protector -I/usr/local/include -D_FORTIFY_SOURCE=2'
    optimize='-O2 -pipe'
    cppflags='-DHAS_FPSETMASK -DHAS_FLOATINGPOINT_H -fno-strict-aliasing -pipe -fstack-protector -I/usr/local/include'
    ccversion=''
    gccversion='4.2.1 Compatible FreeBSD Clang 3.4.1 (tags/RELEASE_34/dot1-final 208032)'
    gccosandvers=''
    intsize=4
    longsize=8
    ptrsize=8
    doublesize=8
    byteorder=12345678
    doublekind=3
    d_longlong=define
    longlongsize=8
    d_longdbl=define
    longdblsize=16
    longdblkind=3
    ivtype='long'
    ivsize=8
    nvtype='double'
    nvsize=8
    Off_t='off_t'
    lseeksize=8
    alignbytes=8
    prototype=define
  Linker and Libraries:
    ld='cc'
    ldflags ='-pthread -Wl,-E  -fstack-protector -L/usr/local/lib'
    libpth=/usr/lib /usr/local/lib /usr/include/clang/3.4.1 /usr/lib
    libs=-lpthread -lgdbm -lm -lcrypt -lutil -lc -lelf
    perllibs=-lpthread -lm -lcrypt -lutil -lc -lelf
    libc=
    so=so
    useshrplib=false
    libperl=libperl.a
    gnulibc_version=''
  Dynamic Linking:
    dlsrc=dl_dlopen.xs
    dlext=so
    d_dlsymun=undef
    ccdlflags=' '
    cccdlflags='-DPIC -fPIC'
    lddlflags='-shared  -L/usr/local/lib -fstack-protector'


Characteristics of this binary (from libperl): 
  Compile-time options:
    HAS_TIMES
    PERLIO_LAYERS
    PERL_COPY_ON_WRITE
    PERL_DONT_CREATE_GVSV
    PERL_MALLOC_WRAP
    PERL_OP_PARENT
    PERL_PRESERVE_IVUV
    USE_64_BIT_ALL
    USE_64_BIT_INT
    USE_LARGE_FILES
    USE_LOCALE
    USE_LOCALE_COLLATE
    USE_LOCALE_CTYPE
    USE_LOCALE_NUMERIC
    USE_LOCALE_TIME
    USE_PERLIO
    USE_PERL_ATOF
  Built under freebsd
  Compiled at Dec 12 2018 23:03:41
  %ENV:
    PERL5LIB=""
    PERL5OPT=""
    PERL5_CPANPLUS_IS_RUNNING="51063"
    PERL5_CPAN_IS_RUNNING="51063"
    PERL5_CPAN_IS_RUNNING_IN_RECURSION="1009,51063"
    PERLDOC="-MPod::Perldoc::ToTextOverstrike"
    PERL_BATCH="yes"
    PERL_CANARY_STABILITY_NOPROMPT="1"
    PERL_CPAN_REPORTER_CONFIG="/var/tmp/cpansmoker-1023/2023061109/cpanreporter_000_config.ini"
    PERL_EXTUTILS_AUTOINSTALL="--defaultdeps"
    PERL_USE_UNSAFE_INC="1"
  @INC:
    /usr/perl5.28.1p/lib/site_perl/5.28.1/amd64-freebsd
    /usr/perl5.28.1p/lib/site_perl/5.28.1
    /usr/perl5.28.1p/lib/5.28.1/amd64-freebsd
    /usr/perl5.28.1p/lib/5.28.1
    .