CGI v4.67 Perl 5 v5.41.10 darwin-2level
- Status
- Pass
- From
- John SJ Anderson
- Dist
-
CGI v4.67
- Platform
- Perl 5 v5.41.10 darwin-2level
- Date
- 2025-03-21 19:20:05
- ID
- 7ecad42e-0689-11f0-bddb-aa744dce27e9
This distribution has been tested as part of the CPAN Testers
project, supporting the Perl programming language. See
http://wiki.cpantesters.org/ for more information or email
questions to cpan-testers-discuss@perl.org
--
Dear LEEJO,
This is a computer-generated report for CGI-4.67
on perl 5.41.10, created by App::cpanminus::reporter 0.22 (1.7048).
Thank you for uploading your work to CPAN. Congratulations!
All tests were successful.
Sections of this report:
* Tester comments
* Program output
* Prerequisites
* Environment and other context
------------------------------
TESTER COMMENTS
------------------------------
Additional comments from tester:
none provided
------------------------------
PROGRAM OUTPUT
------------------------------
Output from '':
Building and testing CGI-4.67
cp lib/CGI/File/Temp.pm blib/lib/CGI/File/Temp.pm
cp lib/CGI.pod blib/lib/CGI.pod
cp lib/CGI/HTML/Functions.pm blib/lib/CGI/HTML/Functions.pm
cp lib/CGI/Util.pm blib/lib/CGI/Util.pm
cp lib/CGI/Pretty.pm blib/lib/CGI/Pretty.pm
cp lib/CGI/Carp.pm blib/lib/CGI/Carp.pm
cp lib/CGI/Cookie.pm blib/lib/CGI/Cookie.pm
cp lib/CGI/Push.pm blib/lib/CGI/Push.pm
cp lib/Fh.pm blib/lib/Fh.pm
cp lib/CGI.pm blib/lib/CGI.pm
cp lib/CGI/HTML/Functions.pod blib/lib/CGI/HTML/Functions.pod
PERL_DL_NONLAZY=1 "/opt/plenv/versions/5.41.10/bin/perl5.41.10" "-MExtUtils::Command::MM" "-MTest::Harness" "-e" "undef *Test::Harness::Switches; test_harness(0, 'blib/lib', 'blib/arch')" t/*.t t/headers/*.t
t/append_query.t ............ ok
t/arbitrary_handles.t ....... ok
t/autoescape.t .............. ok
t/can.t ..................... ok
[Fri Mar 21 11:52:33 2025] carp.t: foo at /Users/genehack/.cpanm/work/1742582470.8683/CGI-4.67/blib/lib/CGI/Carp.pm line 360.
t/carp.t .................... ok
# cgi-lib.pl routines
private_tempfiles has been deprecated at /Users/genehack/.cpanm/work/1742582470.8683/CGI-4.67/blib/lib/CGI.pm line 3240.
t/cgi.t ..................... ok
t/charset.t ................. ok
t/checkbox_group.t .......... ok
t/command_line.t ............ ok
t/compiles_pod.t ............ ok
t/cookie.t .................. ok
t/delete.t .................. ok
t/Dump.t .................... ok
t/end_form.t ................ ok
t/form.t .................... ok
t/function.t ................ ok
t/gh-155.t .................. ok
t/headers.t ................. ok
t/headers/attachment.t ...... ok
t/headers/charset.t ......... ok
t/headers/cookie.t .......... ok
t/headers/default.t ......... ok
t/headers/nph.t ............. ok
t/headers/p3p.t ............. ok
t/headers/target.t .......... ok
t/headers/type.t ............ ok
t/hidden.t .................. ok
t/html.t .................... ok
t/html_functions.t .......... ok
t/http.t .................... ok
t/init.t .................... ok
t/multipart_globals.t ....... ok
t/multipart_init.t .......... ok
t/multipart_start.t ......... ok
t/no_tabindex.t ............. ok
t/param_fetch.t ............. ok
t/param_list_context.t ...... ok
t/popup_menu.t .............. ok
t/postdata.t ................ ok
CGI::Pretty is DEPRECATED and will be removed in a future release. Please see https://github.com/leejo/CGI.pm/issues/162 for more information at /Users/genehack/.cpanm/work/1742582470.8683/CGI-4.67/blib/lib/CGI/Pretty.pm line 20.
t/pretty.t .................. ok
t/push.t .................... ok
t/query_string.t ............ ok
t/redirect_query_string.t ... ok
t/request.t ................. ok
t/rt-31107.t ................ ok
t/rt-52469.t ................ ok
t/rt-57524.t ................ ok
t/rt-75628.t ................ ok
t/rt-84767.t ................ ok
t/save_read_roundtrip.t ..... ok
t/sorted.t .................. ok
t/start_end_asterisk.t ...... ok
t/start_end_end.t ........... ok
t/start_end_start.t ......... ok
t/unescapeHTML.t ............ ok
t/upload.t .................. ok
t/upload_quoted_unquoted.t .. ok
t/uploadInfo.t .............. ok
t/url.t ..................... ok
t/user_agent.t .............. ok
t/utf8.t .................... ok
t/util-58.t ................. ok
t/util.t .................... ok
All tests successful.
Files=63, Tests=1600, 2 wallclock secs ( 0.06 usr 0.04 sys + 1.34 cusr 0.21 csys = 1.65 CPU)
Result: PASS
------------------------------
PREREQUISITES
------------------------------
Prerequisite modules loaded:
runtime:
Module Need Have
------------------- -------- --------
Carp 0 1.54
Config 0 5.041010
Encode 0 3.21
Exporter 0 5.79
File::Spec 0.82 3.93
File::Temp 0.17 0.2311
HTML::Entities 3.69 3.83
if 0 0.0610
overload 0 1.40
parent 0.225 0.244
perl 5.008001 5.041010
strict 0 1.13
URI 1.76 5.31
utf8 0 1.27
warnings 0 1.74
build:
Module Need Have
------------------- -------- --------
ExtUtils::MakeMaker 0 7.72
configure:
Module Need Have
------------------- -------- --------
ExtUtils::MakeMaker 0 7.72
------------------------------
ENVIRONMENT AND OTHER CONTEXT
------------------------------
Environment variables:
LANG = en_US.UTF-8
LC_ALL = en_US.UTF-8
LC_TERMINAL = iTerm2
LC_TERMINAL_VERSION = 3.5.11
PATH = /opt/plenv/versions/5.41.10/bin:/opt/plenv/libexec:/opt/plenv/plugins/perl-build/bin:/opt/rbenv/shims:/Users/genehack/src/git-subrepo/lib:/opt/nextstrain:/Users/genehack/bin:/opt/rust/cargo/bin:/opt/plenv/shims:/opt/plenv/bin:/opt/git/bin:/opt/homebrew/bin:/opt/local/bin:/usr/bin:/bin:/usr/sbin:/sbin
PERL_CPANM_OPT = --skip-installed --prompt
SHELL = /bin/zsh
TERM = screen-256color
TMPDIR = /var/folders/p0/j7mly95s4nd__w74h26sqqkc0000gn/T/
Perl special variables (and OS-specific diagnostics, for MSWin32):
EGID = 20 20 12 61 79 80 81 98 701 33 100 204 250 395 398 101 400
EUID = 501
EXECUTABLE_NAME = /opt/plenv/versions/5.41.10/bin/perl5.41.10
GID = 20 20 12 61 79 80 81 98 701 33 100 204 250 395 398 101 400
UID = 501
Perl module toolchain versions installed:
Module Have
------------------- --------
CPAN 2.38
CPAN::Meta 2.150010
Cwd 3.92
ExtUtils::CBuilder 0.280240
ExtUtils::Command 7.72
ExtUtils::Install 2.22
ExtUtils::MakeMaker 7.72
ExtUtils::Manifest 1.75
ExtUtils::ParseXS 3.57
File::Spec 3.93
JSON 4.10
JSON::PP 4.16
Module::Build 0.4234
Module::Signature n/a
Parse::CPAN::Meta 2.150010
Test::Harness 3.50
Test::More 1.302209
YAML 1.31
YAML::Syck n/a
version 0.9933
--
Summary of my perl5 (revision 5 version 41 subversion 10) configuration:
Platform:
osname=darwin
osvers=24.3.0
archname=darwin-2level
uname='darwin nextmac.home.genehack.org 24.3.0 darwin kernel version 24.3.0: thu jan 2 20:24:23 pst 2025; root:xnu-11215.81.4~3release_arm64_t6031 arm64 arm darwin '
config_args='-Dprefix=/opt/plenv/versions/5.41.10 -de -Dversiononly -Dusedevel -A'eval:scriptdir=/opt/plenv/versions/5.41.10/bin''
hint=recommended
useposix=true
d_sigaction=define
useithreads=undef
usemultiplicity=undef
use64bitint=define
use64bitall=define
uselongdouble=undef
usemymalloc=n
default_inc_excludes_dot=define
Compiler:
cc='cc'
ccflags ='-fno-common -DPERL_DARWIN -mmacosx-version-min=15.3 -DNO_THREAD_SAFE_QUERYLOCALE -DNO_POSIX_2008_LOCALE -DHAS_BROKEN_LANGINFO_CODESET -fno-strict-aliasing -pipe -fstack-protector-strong'
optimize='-O3'
cppflags='-fno-common -DPERL_DARWIN -mmacosx-version-min=15.3 -DNO_THREAD_SAFE_QUERYLOCALE -DNO_POSIX_2008_LOCALE -DHAS_BROKEN_LANGINFO_CODESET -fno-strict-aliasing -pipe -fstack-protector-strong'
ccversion=''
gccversion='Apple LLVM 16.0.0 (clang-1600.0.26.6)'
gccosandvers=''
intsize=4
longsize=8
ptrsize=8
doublesize=8
byteorder=12345678
doublekind=3
d_longlong=define
longlongsize=8
d_longdbl=define
longdblsize=8
longdblkind=0
ivtype='long'
ivsize=8
nvtype='double'
nvsize=8
Off_t='off_t'
lseeksize=8
alignbytes=8
prototype=define
Linker and Libraries:
ld='cc'
ldflags =' -mmacosx-version-min=15.3 -fstack-protector-strong'
libpth=/Applications/Xcode.app/Contents/Developer/Toolchains/XcodeDefault.xctoolchain/usr/lib/clang/16/lib /Applications/Xcode.app/Contents/Developer/Platforms/MacOSX.platform/Developer/SDKs/MacOSX.sdk/usr/lib /Applications/Xcode.app/Contents/Developer/Toolchains/XcodeDefault.xctoolchain/usr/lib /usr/lib
libs=
perllibs=
libc=
so=dylib
useshrplib=false
libperl=libperl.a
gnulibc_version=''
Dynamic Linking:
dlsrc=dl_dlopen.xs
dlext=bundle
d_dlsymun=undef
ccdlflags=' '
cccdlflags=' '
lddlflags=' -mmacosx-version-min=15.3 -bundle -undefined dynamic_lookup -fstack-protector-strong'
Characteristics of this binary (from libperl):
Compile-time options:
HAS_LONG_DOUBLE
HAS_STRTOLD
HAS_TIMES
PERLIO_LAYERS
PERL_COPY_ON_WRITE
PERL_DONT_CREATE_GVSV
PERL_HASH_FUNC_SIPHASH13
PERL_HASH_USE_SBOX32
PERL_MALLOC_WRAP
PERL_OP_PARENT
PERL_PRESERVE_IVUV
PERL_USE_DEVEL
PERL_USE_SAFE_PUTENV
USE_64_BIT_ALL
USE_64_BIT_INT
USE_LARGE_FILES
USE_LOCALE
USE_LOCALE_COLLATE
USE_LOCALE_CTYPE
USE_LOCALE_NUMERIC
USE_LOCALE_TIME
USE_PERLIO
USE_PERL_ATOF
Built under darwin
Compiled at Mar 21 2025 11:33:14
%ENV:
PERL_CPANM_OPT="--skip-installed --prompt"
@INC:
/opt/plenv/versions/5.41.10/lib/perl5/site_perl/5.41.10/darwin-2level
/opt/plenv/versions/5.41.10/lib/perl5/site_perl/5.41.10
/opt/plenv/versions/5.41.10/lib/perl5/5.41.10/darwin-2level
/opt/plenv/versions/5.41.10/lib/perl5/5.41.10