CGI v4.57 Perl 5 v5.8.9 amd64-freebsd
- Status
- Pass
- From
- David Cantrell (DCANTRELL)
- Dist
-
CGI v4.57
- Platform
- Perl 5 v5.8.9 amd64-freebsd
- Date
- 2023-05-03 01:19:06
- ID
- 7fc56464-e950-11ed-8e13-eea0100f4bcb
This distribution has been tested as part of the CPAN Testers
project, supporting the Perl programming language. See
http://wiki.cpantesters.org/ for more information or email
questions to cpan-testers-discuss@perl.org
--
Dear Lee Johnson,
This is a computer-generated report for CGI-4.57
on perl 5.8.9, created by CPAN-Reporter-1.2018.
Thank you for uploading your work to CPAN. Congratulations!
All tests were successful.
Sections of this report:
* Tester comments
* Program output
* Prerequisites
* Environment and other context
------------------------------
TESTER COMMENTS
------------------------------
Additional comments from tester:
this report is from an automated smoke testing program
and was not reviewed by a human for accuracy
------------------------------
PROGRAM OUTPUT
------------------------------
Output from '/usr/bin/make test':
PERL_DL_NONLAZY=1 "/home/david/cpantesting/perl-5.8.9/bin/perl" "-MExtUtils::Command::MM" "-MTest::Harness" "-e" "undef *Test::Harness::Switches; test_harness(0, 'blib/lib', 'blib/arch')" t/*.t t/headers/*.t
t/append_query..............ok
t/arbitrary_handles.........ok
t/autoescape................ok
t/can.......................ok
t/carp......................[Wed May 3 02:18:15 2023] carp.t: foo at /usr/home/david/cpantesting/perl-5.8.9/.cpan/build/CGI-4.57-dVLPA2/blib/lib/CGI/Carp.pm line 360.
ok
t/cgi.......................# cgi-lib.pl routines
private_tempfiles has been deprecated at /usr/home/david/cpantesting/perl-5.8.9/.cpan/build/CGI-4.57-dVLPA2/blib/lib/CGI.pm line 3238.
ok
t/changes...................skipped
all skipped: Test::CPAN::Changes required for this test
t/charset...................ok
t/checkbox_group............ok
t/command_line..............ok
t/compiles_pod..............ok
2/18 unexpectedly succeeded
TODO PASSED tests 3, 6
t/cookie....................ok
t/delete....................ok
t/Dump......................ok
t/end_form..................ok
t/form......................ok
t/function..................ok
t/gh-155....................ok
t/headers...................ok
t/headers/attachment........ok
t/headers/charset...........ok
t/headers/cookie............ok
t/headers/default...........ok
t/headers/nph...............ok
t/headers/p3p...............ok
t/headers/target............ok
t/headers/type..............ok
t/hidden....................ok
t/html......................ok
t/html_functions............ok
t/http......................ok
t/init......................ok
t/multipart_globals.........ok
t/multipart_init............ok
t/multipart_start...........ok
t/no_tabindex...............ok
t/param_fetch...............ok
t/param_list_context........ok
t/popup_menu................ok
t/postdata..................ok
t/pretty....................CGI::Pretty is DEPRECATED and will be removed in a future release. Please see https://github.com/leejo/CGI.pm/issues/162 for more information at /usr/home/david/cpantesting/perl-5.8.9/.cpan/build/CGI-4.57-dVLPA2/blib/lib/CGI/Pretty.pm line 20.
ok
t/push......................ok
t/query_string..............ok
t/redirect_query_string.....ok
t/request...................ok
t/rt-31107..................ok
t/rt-52469..................ok
t/rt-57524..................ok
t/rt-75628..................ok
t/rt-84767..................ok
t/save_read_roundtrip.......ok
t/sorted....................ok
t/start_end_asterisk........ok
t/start_end_end.............ok
t/start_end_start...........ok
t/unescapeHTML..............ok
t/upload....................ok
t/upload_quoted_unquoted....ok
t/uploadInfo................ok
t/url.......................ok
t/user_agent................ok
t/utf8......................ok
t/util-58...................ok
t/util......................ok
All tests successful (2 subtests UNEXPECTEDLY SUCCEEDED), 1 test skipped.
Passed TODO Stat Wstat TODOs Pass List of Passed
-------------------------------------------------------------------------------
t/compiles_pod.t 2 2 3 6
Files=64, Tests=1588, 51 wallclock secs (12.92 cusr + 2.40 csys = 15.32 CPU)
------------------------------
PREREQUISITES
------------------------------
Prerequisite modules loaded:
requires:
Module Need Have
------------------- -------- --------
Carp 0 1.50
Config 0 0
Encode 0 3.19
Exporter 0 5.63
File::Spec 0.82 3.75
File::Temp 0.17 0.22
HTML::Entities 3.69 3.81
if 0 0.05
overload 0 1.06
parent 0.225 0.238
perl 5.008001 5.008009
strict 0 1.03
utf8 0 1.07
warnings 0 1.05_01
build_requires:
Module Need Have
------------------- -------- --------
Cwd 0 3.75
ExtUtils::MakeMaker 0 7.64
File::Find 0 1.13
IO::File 0 1.14
IO::Handle 0 1.27
POSIX 0 1.15
Test::More 0.98 1.302188
Test::NoWarnings 0 1.06
Test::Warn 0.3 0.37
configure_requires:
Module Need Have
------------------- -------- --------
ExtUtils::MakeMaker 0 7.64
------------------------------
ENVIRONMENT AND OTHER CONTEXT
------------------------------
Environment variables:
AUTOMATED_TESTING = 1
LANG = en_GB.UTF-8
NONINTERACTIVE_TESTING = 1
PATH = /home/david/perl5/perlbrew/bin:/home/david/perl5/perlbrew/perls/perl-5.30.2/bin:/home/david/.cargo/bin:/sbin:/bin:/usr/sbin:/usr/bin:/usr/local/sbin:/usr/local/bin:/home/david/bin
PERL = 5.8.9
PERL5LIB =
PERL5OPT =
PERL5_CPANPLUS_IS_RUNNING = 44888
PERL5_CPAN_IS_RUNNING = 44888
PERLBREW_HOME = /home/david/.perlbrew
PERLBREW_MANPATH = /home/david/perl5/perlbrew/perls/perl-5.30.2/man
PERLBREW_PATH = /home/david/perl5/perlbrew/bin:/home/david/perl5/perlbrew/perls/perl-5.30.2/bin
PERLBREW_PERL = perl-5.30.2
PERLBREW_ROOT = /home/david/perl5/perlbrew
PERLBREW_SHELLRC_VERSION = 0.89
PERLBREW_VERSION = 0.89
PERLVER = 5.8.9
PERL_INLINE_DIRECTORY = /home/david/.Inline-5.8.9
PERL_MM_USE_DEFAULT = 1
PERL_USE_UNSAFE_INC = 0
SHELL = /usr/local/bin/bash
TERM = screen
Perl special variables (and OS-specific diagnostics, for MSWin32):
$^X = /home/david/cpantesting/perl-5.8.9/bin/perl
$UID/$EUID = 1001 / 1001
$GID = 1001 1001 0
$EGID = 1001 1001 0
Perl module toolchain versions installed:
Module Have
------------------- --------
CPAN 1.94
CPAN::Meta 2.143240
Cwd 3.75
ExtUtils::CBuilder 0.280236
ExtUtils::Command 7.64
ExtUtils::Install 2.06
ExtUtils::MakeMaker 7.64
ExtUtils::Manifest 1.70
ExtUtils::ParseXS 3.44
File::Spec 3.75
JSON n/a
JSON::PP 4.07
Module::Build n/a
Module::Signature n/a
Parse::CPAN::Meta 1.4414
Test::Harness 2.64
Test::More 1.302188
YAML 1.30
YAML::Syck n/a
version 0.9929
--
Summary of my perl5 (revision 5 version 8 subversion 9) configuration:
Platform:
osname=freebsd, osvers=13.0-release-p7, archname=amd64-freebsd
uname='freebsd cpantesting-freebsd-utm.local 13.0-release-p7 freebsd 13.0-release-p7 #0: mon jan 31 18:24:03 utc 2022 root@amd64-builder.daemonology.net:usrobjusrsrcamd64.amd64sysgeneric amd64 '
config_args='-de -Dprefix=/home/david/cpantesting/perl-5.8.9'
hint=recommended, useposix=true, d_sigaction=define
usethreads=undef use5005threads=undef useithreads=undef usemultiplicity=undef
useperlio=define d_sfio=undef uselargefiles=define usesocks=undef
use64bitint=define use64bitall=define uselongdouble=undef
usemymalloc=n, bincompat5005=undef
Compiler:
cc='cc', ccflags ='-DHAS_FPSETMASK -DHAS_FLOATINGPOINT_H -fno-strict-aliasing -pipe -I/usr/local/include',
optimize='-O2',
cppflags='-DHAS_FPSETMASK -DHAS_FLOATINGPOINT_H -fno-strict-aliasing -pipe -I/usr/local/include'
ccversion='', gccversion='FreeBSD Clang 11.0.1 (git@github.com:llvm/llvm-project.git llvmorg-11.0.1-0-g43ff75f2c3fe)', gccosandvers=''
intsize=4, longsize=8, ptrsize=8, doublesize=8, byteorder=12345678
d_longlong=define, longlongsize=8, d_longdbl=define, longdblsize=16
ivtype='long', ivsize=8, nvtype='double', nvsize=8, Off_t='off_t', lseeksize=8
alignbytes=8, prototype=define
Linker and Libraries:
ld='cc', ldflags ='-Wl,-E -L/usr/local/lib'
libpth=/usr/lib /usr/local/lib
libs=-lgdbm -ldl -lm -lcrypt -lutil -lc
perllibs=-ldl -lm -lcrypt -lutil -lc
libc=, so=so, useshrplib=false, libperl=libperl.a
gnulibc_version=''
Dynamic Linking:
dlsrc=dl_dlopen.xs, dlext=so, d_dlsymun=undef, ccdlflags=' '
cccdlflags='-DPIC -fPIC', lddlflags='-shared -L/usr/local/lib'
Characteristics of this binary (from libperl):
Compile-time options: PERL_MALLOC_WRAP USE_64_BIT_ALL USE_64_BIT_INT
USE_FAST_STDIO USE_LARGE_FILES USE_PERLIO
Locally applied patches:
Devel::PatchPerl 2.08
Built under freebsd
Compiled at Feb 3 2022 12:51:08
%ENV:
PERL="5.8.9"
PERL5LIB=""
PERL5OPT=""
PERL5_CPANPLUS_IS_RUNNING="44888"
PERL5_CPAN_IS_RUNNING="44888"
PERLBREW_HOME="/home/david/.perlbrew"
PERLBREW_MANPATH="/home/david/perl5/perlbrew/perls/perl-5.30.2/man"
PERLBREW_PATH="/home/david/perl5/perlbrew/bin:/home/david/perl5/perlbrew/perls/perl-5.30.2/bin"
PERLBREW_PERL="perl-5.30.2"
PERLBREW_ROOT="/home/david/perl5/perlbrew"
PERLBREW_SHELLRC_VERSION="0.89"
PERLBREW_VERSION="0.89"
PERLVER="5.8.9"
PERL_INLINE_DIRECTORY="/home/david/.Inline-5.8.9"
PERL_MM_USE_DEFAULT="1"
PERL_USE_UNSAFE_INC="0"
@INC:
/home/david/cpantesting/perl-5.8.9/lib/5.8.9/amd64-freebsd
/home/david/cpantesting/perl-5.8.9/lib/5.8.9
/home/david/cpantesting/perl-5.8.9/lib/site_perl/5.8.9/amd64-freebsd
/home/david/cpantesting/perl-5.8.9/lib/site_perl/5.8.9
.