SysV-Init-Service v0.07 Perl 5 v5.38.2 i686-linux-thread-multi-64int

Status
Pass
From
Chris Williams (BINGOS)
Dist
SysV-Init-Service v0.07
Platform
Perl 5 v5.38.2 i686-linux-thread-multi-64int
Date
2023-12-13T20:16:30
ID
8071b6c4-99f4-11ee-98b0-b3c3213a625c
This distribution has been tested as part of the CPAN Testers
project, supporting the Perl programming language.  See
http://wiki.cpantesters.org/ for more information or email
questions to cpan-testers-discuss@perl.org


--

Dear SKIM,

This is a computer-generated error report created automatically by
CPANPLUS, version 0.9914. Testers personal comments may appear
at the end of this report.


Thank you for uploading your work to CPAN.  Congratulations!
All tests were successful.

TEST RESULTS:

Below is the error stack from stage 'make test':

PERL_DL_NONLAZY=1 "/home/cpan/pit/rel/perl-5.38.2/bin/perl" "-MExtUtils::Command::MM" "-MTest::Harness" "-e" "undef *Test::Harness::Switches; test_harness(0, 'inc', 'blib/lib', 'blib/arch')" t/SysV-Init-Service/*.t
t/SysV-Init-Service/01-use.t ....... ok
t/SysV-Init-Service/02-version.t ... ok
t/SysV-Init-Service/03-new.t ....... ok
t/SysV-Init-Service/04-commands.t .. ok
t/SysV-Init-Service/05-name.t ...... ok
t/SysV-Init-Service/06-status.t .... ok
All tests successful.
Files=6, Tests=21,  1 wallclock secs ( 0.02 usr  0.00 sys +  0.50 cusr  0.04 csys =  0.56 CPU)
Result: PASS


PREREQUISITES:

Here is a list of prerequisites you specified and versions we
managed to load:

	  Module Name                        Have     Want
	  Capture::Tiny                      0.48        0
	  Class::Utils                       0.14     0.05
	  English                            1.11        0
	  Error::Pure                        0.31     0.15
	  ExtUtils::MakeMaker                7.70     6.36
	  File::Object                       0.18     0.07
	  File::Spec::Functions              3.88        0
	  List::MoreUtils                   0.430        0
	  Test::More                     1.302198        0
	  Test::NoWarnings                   1.06        0

Perl module toolchain versions installed:
	Module Name                        Have
	CPANPLUS                         0.9914
	CPANPLUS::Dist::Build              0.90
	Cwd                                3.89
	ExtUtils::CBuilder             0.280238
	ExtUtils::Command                  7.70
	ExtUtils::Install                  2.22
	ExtUtils::MakeMaker                7.70
	ExtUtils::Manifest                 1.75
	ExtUtils::ParseXS                  3.51
	File::Spec                         3.88
	Module::Build                    0.4234
	Pod::Parser                           0
	Pod::Simple                        3.43
	Test2                          1.302198
	Test::Harness                      3.48
	Test::More                     1.302198
	version                          0.9930

******************************** NOTE ********************************
The comments above are created mechanically, possibly without manual
checking by the sender.  As there are many people performing automatic
tests on each upload to CPAN, it is likely that you will receive
identical messages about the same problem.

If you believe that the message is mistaken, please reply to the first
one with correction and/or additional informations, and do not take
it personally.  We appreciate your patience. :)
**********************************************************************

Additional comments:


This report was machine-generated by CPANPLUS::Dist::YACSmoke 1.08.
Powered by minismokebox version 0.68

CPANPLUS is prefering Build.PL

------------------------------
ENVIRONMENT AND OTHER CONTEXT
------------------------------

Environment variables:

    AUTOMATED_TESTING = 1
    LANG = en_GB.UTF-8
    LANGUAGE = en_GB:en
    NONINTERACTIVE_TESTING = 1
    PATH = /usr/local/bin:/usr/bin:/bin:/usr/local/games:/usr/games
    PERL5LIB = /home/cpan/pit/jail/RotHKxvV9a/lib/perl5:/home/cpan/pit/rel/conf/perl-5.38.2/.cpanplus/5.38.2/build/aCtPWXYlAQ/SysV-Init-Service-0.07/blib/lib:/home/cpan/pit/rel/conf/perl-5.38.2/.cpanplus/5.38.2/build/aCtPWXYlAQ/SysV-Init-Service-0.07/blib/arch
    PERL5_CPANPLUS_IS_RUNNING = 28476
    PERL5_CPANPLUS_IS_VERSION = 0.9914
    PERL5_MINISMOKEBOX = 0.68
    PERL5_YACSMOKE_BASE = /home/cpan/pit/rel/conf/perl-5.38.2
    PERL_EXTUTILS_AUTOINSTALL = --defaultdeps
    PERL_LOCAL_LIB_ROOT = /home/cpan/pit/jail/RotHKxvV9a
    PERL_MB_OPT = --install_base "/home/cpan/pit/jail/RotHKxvV9a"
    PERL_MM_OPT = INSTALL_BASE=/home/cpan/pit/jail/RotHKxvV9a
    PERL_MM_USE_DEFAULT = 1
    SHELL = /bin/bash
    TERM = screen.xterm-256color

Perl special variables (and OS-specific diagnostics, for MSWin32):

    Perl: $^X = /home/cpan/pit/rel/perl-5.38.2/bin/perl
    UID:  $<  = 1001
    EUID: $>  = 1001
    GID:  $(  = 1001 1001
    EGID: $)  = 1001 1001


-------------------------------


--

Summary of my perl5 (revision 5 version 38 subversion 2) configuration:
   
  Platform:
    osname=linux
    osvers=6.1.0-15-686
    archname=i686-linux-thread-multi-64int
    uname='linux dagobah 6.1.0-15-686 #1 smp preempt_dynamic debian 6.1.66-1 (2023-12-09) i686 gnulinux '
    config_args='-des -Dprefix=/home/cpan/pit/rel/perl-5.38.2 -Dusethreads -Duse64bitint'
    hint=recommended
    useposix=true
    d_sigaction=define
    useithreads=define
    usemultiplicity=define
    use64bitint=define
    use64bitall=undef
    uselongdouble=undef
    usemymalloc=n
    default_inc_excludes_dot=define
  Compiler:
    cc='cc'
    ccflags ='-D_REENTRANT -D_GNU_SOURCE -fwrapv -fno-strict-aliasing -pipe -fstack-protector-strong -I/usr/local/include -D_LARGEFILE_SOURCE -D_FILE_OFFSET_BITS=64 -D_FORTIFY_SOURCE=2'
    optimize='-O2'
    cppflags='-D_REENTRANT -D_GNU_SOURCE -fwrapv -fno-strict-aliasing -pipe -fstack-protector-strong -I/usr/local/include'
    ccversion=''
    gccversion='12.2.0'
    gccosandvers=''
    intsize=4
    longsize=4
    ptrsize=4
    doublesize=8
    byteorder=12345678
    doublekind=3
    d_longlong=define
    longlongsize=8
    d_longdbl=define
    longdblsize=12
    longdblkind=3
    ivtype='long long'
    ivsize=8
    nvtype='double'
    nvsize=8
    Off_t='off_t'
    lseeksize=8
    alignbytes=4
    prototype=define
  Linker and Libraries:
    ld='cc'
    ldflags =' -fstack-protector-strong -L/usr/local/lib'
    libpth=/usr/local/lib /usr/lib/i386-linux-gnu /usr/lib /usr/lib64
    libs=-lpthread -lgdbm -ldl -lm -lcrypt -lutil -lc
    perllibs=-lpthread -ldl -lm -lcrypt -lutil -lc
    libc=/lib/i386-linux-gnu/libc.so.6
    so=so
    useshrplib=false
    libperl=libperl.a
    gnulibc_version='2.36'
  Dynamic Linking:
    dlsrc=dl_dlopen.xs
    dlext=so
    d_dlsymun=undef
    ccdlflags='-Wl,-E'
    cccdlflags='-fPIC'
    lddlflags='-shared -O2 -L/usr/local/lib -fstack-protector-strong'


Characteristics of this binary (from libperl): 
  Compile-time options:
    HAS_LONG_DOUBLE
    HAS_STRTOLD
    HAS_TIMES
    MULTIPLICITY
    PERLIO_LAYERS
    PERL_COPY_ON_WRITE
    PERL_DONT_CREATE_GVSV
    PERL_HASH_FUNC_SIPHASH13
    PERL_HASH_USE_SBOX32
    PERL_MALLOC_WRAP
    PERL_OP_PARENT
    PERL_PRESERVE_IVUV
    PERL_USE_SAFE_PUTENV
    USE_64_BIT_INT
    USE_ITHREADS
    USE_LARGE_FILES
    USE_LOCALE
    USE_LOCALE_COLLATE
    USE_LOCALE_CTYPE
    USE_LOCALE_NUMERIC
    USE_LOCALE_TIME
    USE_PERLIO
    USE_PERL_ATOF
    USE_REENTRANT_API
    USE_THREAD_SAFE_LOCALE
  Built under linux
  Compiled at Dec 11 2023 23:26:46
  %ENV:
    PERL5LIB="/home/cpan/pit/jail/RotHKxvV9a/lib/perl5:/home/cpan/pit/rel/conf/perl-5.38.2/.cpanplus/5.38.2/build/aCtPWXYlAQ/SysV-Init-Service-0.07/blib/lib:/home/cpan/pit/rel/conf/perl-5.38.2/.cpanplus/5.38.2/build/aCtPWXYlAQ/SysV-Init-Service-0.07/blib/arch"
    PERL5_CPANPLUS_IS_RUNNING="28476"
    PERL5_CPANPLUS_IS_VERSION="0.9914"
    PERL5_MINISMOKEBOX="0.68"
    PERL5_YACSMOKE_BASE="/home/cpan/pit/rel/conf/perl-5.38.2"
    PERL_EXTUTILS_AUTOINSTALL="--defaultdeps"
    PERL_LOCAL_LIB_ROOT="/home/cpan/pit/jail/RotHKxvV9a"
    PERL_MB_OPT="--install_base "/home/cpan/pit/jail/RotHKxvV9a""
    PERL_MM_OPT="INSTALL_BASE=/home/cpan/pit/jail/RotHKxvV9a"
    PERL_MM_USE_DEFAULT="1"
  @INC:
    /home/cpan/pit/jail/RotHKxvV9a/lib/perl5/5.38.2/i686-linux-thread-multi-64int
    /home/cpan/pit/jail/RotHKxvV9a/lib/perl5/5.38.2
    /home/cpan/pit/jail/RotHKxvV9a/lib/perl5/i686-linux-thread-multi-64int
    /home/cpan/pit/jail/RotHKxvV9a/lib/perl5
    /home/cpan/pit/rel/conf/perl-5.38.2/.cpanplus/5.38.2/build/aCtPWXYlAQ/SysV-Init-Service-0.07/blib/lib
    /home/cpan/pit/rel/conf/perl-5.38.2/.cpanplus/5.38.2/build/aCtPWXYlAQ/SysV-Init-Service-0.07/blib/arch
    /home/cpan/pit/rel/perl-5.38.2/lib/site_perl/5.38.2/i686-linux-thread-multi-64int
    /home/cpan/pit/rel/perl-5.38.2/lib/site_perl/5.38.2
    /home/cpan/pit/rel/perl-5.38.2/lib/5.38.2/i686-linux-thread-multi-64int
    /home/cpan/pit/rel/perl-5.38.2/lib/5.38.2