Data-NDS-Multifile v3.12 Perl 5 v5.12.1 i386-freebsd

Status
Pass
From
Slaven Rezić (SREZIC)
Dist
Data-NDS-Multifile v3.12
Platform
Perl 5 v5.12.1 i386-freebsd
Date
2010-09-01T07:57:01
ID
80cd7ee4-b59e-11df-a09c-94962fd982fc
This distribution has been tested as part of the CPAN Testers
project, supporting the Perl programming language.  See
http://wiki.cpantesters.org/ for more information or email
questions to cpan-testers-discuss@perl.org


--
Dear Sullivan Beck,

This is a computer-generated report for Data-NDS-Multifile-3.12
on perl 5.12.1, created by CPAN-Reporter-1.18.

Thank you for uploading your work to CPAN.  Congratulations!
All tests were successful.

Sections of this report:

    * Tester comments
    * Program output
    * Prerequisites
    * Environment and other context

------------------------------
TESTER COMMENTS
------------------------------

Additional comments from tester:

none provided

------------------------------
PROGRAM OUTPUT
------------------------------

Output from '/usr/bin/make test':

PERL_DL_NONLAZY=1 /usr/home/cpansand/var/ctps/5122_rc1/install/perl-5.12.1/bin/perl5.12.1 "-MExtUtils::Command::MM" "-e" "test_harness(0, 'blib/lib', 'blib/arch')" t/*.t
t/add_ele.hash.t ........... ok
t/add_ele.list.t ........... ok
t/copy_hash.t .............. ok
t/copy_list.t .............. ok
t/default_element.hash.t ... ok
t/default_element.list.t ... ok
t/delete_ele.hash.t ........ ok
t/delete_ele.list.t ........ ok
t/ele.hash.t ............... ok
t/ele.list.t ............... ok
t/eles.hash.t .............. ok
t/eles.list.t .............. ok
t/file.hash.error.t ........ ok
t/file.hash.t .............. ok
t/file.list.error.t ........ ok
t/file.list.t .............. ok
t/is_default_value.hash.t .. ok
t/keys.t ................... ok
t/path_in_use.t ............ ok
t/path_valid.t ............. ok
t/path_values.hash.t ....... ok
t/path_values.list.t ....... ok
t/pod.t .................... ok
t/pod_coverage.t ........... ok
t/rename_ele.hash.t ........ ok
t/update_ele.t ............. ok
t/value.t .................. ok
t/values.t ................. ok
t/which.hash.t ............. ok
t/which.list.t ............. ok
All tests successful.
Files=30, Tests=186,  5 wallclock secs ( 0.12 usr  0.07 sys +  2.01 cusr  0.32 csys =  2.52 CPU)
Result: PASS

------------------------------
PREREQUISITES
------------------------------

Prerequisite modules loaded:

requires:

    Module              Need Have  
    ------------------- ---- ------
    Data::NDS           0    3.11  
    Data::NDS::Multiele 0    3.12  
    Storable            0    2.22  
    Test::More          0    0.94  
    Test::Pod           0    1.44  
    Test::Pod::Coverage 0    1.08  
    YAML::Syck          0    1.14  

configure_requires:

    Module              Need Have  
    ------------------- ---- ------
    Module::Build       0.36 0.3603


------------------------------
ENVIRONMENT AND OTHER CONTEXT
------------------------------

Environment variables:

    DBIC_NO_WARN_BAD_PERL = 1
    PATH = /usr/local/bin:/usr/X11R6/bin:/usr/X11/bin:/usr/perl5.8.0/bin:/usr/bin:/bin:/usr/local/sbin:/usr/sbin:/sbin:/usr/local/pilot/bin:/home/cpansand/bin/freebsd8.0:/home/cpansand/bin/sh:/home/cpansand/bin:/usr/X386/bin:/usr/games:/home/cpansand/devel:/usr/home/e/eserte/src/perl/CPAN-Testers-ParallelSmoker/utils
    PERL5LIB = 
    PERL5OPT = 
    PERL5_CPANPLUS_IS_RUNNING = 11612
    PERL5_CPAN_IS_RUNNING = 11612
    PERL5_CPAN_IS_RUNNING_IN_RECURSION = 65169,11612
    PERL_BATCH = yes
    PERL_CPAN_REPORTER_DIR = /home/cpansand/var/ctps/5122_rc1/config/perl-5.12.1/cpanreporter
    PERL_EXTUTILS_AUTOINSTALL = --defaultdeps
    PERL_HTML_DISPLAY_CLASS = HTML::Display::Mozilla
    SHELL = /usr/local/bin/zsh
    TERM = xterm
    TMPDIR = /tmp/cpansmoker-1023

Perl special variables (and OS-specific diagnostics, for MSWin32):

    $^X = /usr/home/cpansand/var/ctps/5122_rc1/install/perl-5.12.1/bin/perl5.12.1
    $UID/$EUID = 1023 / 1023
    $GID = 1023 1023
    $EGID = 1023 1023

Perl module toolchain versions installed:

    Module              Have   
    ------------------- -------
    CPAN                1.94_56
    Cwd                 3.31   
    ExtUtils::CBuilder  0.27   
    ExtUtils::Command   1.16   
    ExtUtils::Install   1.55   
    ExtUtils::MakeMaker 6.56   
    ExtUtils::Manifest  1.57   
    ExtUtils::ParseXS   2.21   
    File::Spec          3.31   
    Module::Build       0.3603 
    Module::Signature   n/a    
    Test::Harness       3.17   
    Test::More          0.94   
    YAML                0.71   
    YAML::Syck          1.14   
    version             0.82   


--

Summary of my perl5 (revision 5 version 12 subversion 1) configuration:
   
  Platform:
    osname=freebsd, osvers=8.0-release, archname=i386-freebsd
    uname='freebsd biokovo.herceg.de 8.0-release freebsd 8.0-release #0: sat nov 21 15:48:17 utc 2009 root@almeida.cse.buffalo.edu:usrobjusrsrcsysgeneric i386 '
    config_args='-ds -e -Dprefix=/home/cpansand/var/ctps/5122_rc1/install/perl-5.12.1'
    hint=recommended, useposix=true, d_sigaction=define
    useithreads=undef, usemultiplicity=undef
    useperlio=define, d_sfio=undef, uselargefiles=define, usesocks=undef
    use64bitint=undef, use64bitall=undef, uselongdouble=undef
    usemymalloc=n, bincompat5005=undef
  Compiler:
    cc='cc', ccflags ='-DHAS_FPSETMASK -DHAS_FLOATINGPOINT_H -fno-strict-aliasing -pipe -fstack-protector -I/usr/local/include',
    optimize='-O',
    cppflags='-DHAS_FPSETMASK -DHAS_FLOATINGPOINT_H -fno-strict-aliasing -pipe -fstack-protector -I/usr/local/include'
    ccversion='', gccversion='4.2.1 20070719  [FreeBSD]', gccosandvers=''
    intsize=4, longsize=4, ptrsize=4, doublesize=8, byteorder=1234
    d_longlong=define, longlongsize=8, d_longdbl=define, longdblsize=12
    ivtype='long', ivsize=4, nvtype='double', nvsize=8, Off_t='off_t', lseeksize=8
    alignbytes=4, prototype=define
  Linker and Libraries:
    ld='cc', ldflags ='-Wl,-E  -fstack-protector -L/usr/local/lib'
    libpth=/usr/lib /usr/local/lib
    libs=-lgdbm -lm -lcrypt -lutil -lc
    perllibs=-lm -lcrypt -lutil -lc
    libc=, so=so, useshrplib=false, libperl=libperl.a
    gnulibc_version=''
  Dynamic Linking:
    dlsrc=dl_dlopen.xs, dlext=so, d_dlsymun=undef, ccdlflags=' '
    cccdlflags='-DPIC -fPIC', lddlflags='-shared  -L/usr/local/lib -fstack-protector'


Characteristics of this binary (from libperl): 
  Compile-time options: PERL_DONT_CREATE_GVSV PERL_MALLOC_WRAP
                        USE_LARGE_FILES USE_PERLIO USE_PERL_ATOF
  Built under freebsd
  Compiled at Aug 31 2010 23:17:19
  %ENV:
    PERL5LIB=""
    PERL5OPT=""
    PERL5_CPANPLUS_IS_RUNNING="11612"
    PERL5_CPAN_IS_RUNNING="11612"
    PERL5_CPAN_IS_RUNNING_IN_RECURSION="65169,11612"
    PERL_BATCH="yes"
    PERL_CPAN_REPORTER_DIR="/home/cpansand/var/ctps/5122_rc1/config/perl-5.12.1/cpanreporter"
    PERL_EXTUTILS_AUTOINSTALL="--defaultdeps"
    PERL_HTML_DISPLAY_CLASS="HTML::Display::Mozilla"
  @INC:
    /home/cpansand/var/ctps/5122_rc1/install/perl-5.12.1/lib/site_perl/5.12.1/i386-freebsd
    /home/cpansand/var/ctps/5122_rc1/install/perl-5.12.1/lib/site_perl/5.12.1
    /home/cpansand/var/ctps/5122_rc1/install/perl-5.12.1/lib/5.12.1/i386-freebsd
    /home/cpansand/var/ctps/5122_rc1/install/perl-5.12.1/lib/5.12.1
    .