Task-App-ZofCMS v0.0108 Perl 5 v5.13.1 i686-linux-thread-multi

Status
Pass
From
Serguei Trouchelle (STRO)
Dist
Task-App-ZofCMS v0.0108
Platform
Perl 5 v5.13.1 i686-linux-thread-multi
Date
2010-06-10T15:19:03
ID
80f6b11a-74a3-11df-9a65-651732f0e683
This distribution has been tested as part of the CPAN Testers
project, supporting the Perl programming language.  See
http://wiki.cpantesters.org/ for more information or email
questions to cpan-testers-discuss@perl.org


--
Dear Zoffix Znet,

This is a computer-generated report for Task-App-ZofCMS-0.0108
on perl 5.13.1, created by CPAN-Reporter-1.1711.

Thank you for uploading your work to CPAN.  Congratulations!
All tests were successful.

Sections of this report:

    * Tester comments
    * Program output
    * Prerequisites
    * Environment and other context

------------------------------
TESTER COMMENTS
------------------------------

Additional comments from tester:

this report is from an automated smoke testing program
and was not reviewed by a human for accuracy

------------------------------
PROGRAM OUTPUT
------------------------------

Output from './Build test':

Use of uninitialized value $Task::App::ZofCMS::VERSION in concatenation (.) or string at t/00-load.t line 57.
# Testing Task::App::ZofCMS , Perl 5.013001, /home/stro/perl5131m/bin/perl
t/00-load.t ....... ok
t/pod-coverage.t .. ok
t/pod.t ........... ok
All tests successful.
Files=3, Tests=51,  1 wallclock secs ( 0.02 usr  0.03 sys +  0.30 cusr  0.17 csys =  0.52 CPU)
Result: PASS

------------------------------
PREREQUISITES
------------------------------

Prerequisite modules loaded:

requires:

    Module                                         Need   Have  
    ---------------------------------------------- ------ ------
    App::ZofCMS                                    0.0111 0.0221
    App::ZofCMS::Plugin::AntiSpamMailTo            0.0101 0.0101
    App::ZofCMS::Plugin::AutoIMGSize               0.0102 0.0102
    App::ZofCMS::Plugin::Base                      0.0103 0.0105
    App::ZofCMS::Plugin::BasicLWP                  0.0102 0.0104
    App::ZofCMS::Plugin::BreadCrumbs               0.0102 0.0103
    App::ZofCMS::Plugin::Comments                  0.0102 0.0102
    App::ZofCMS::Plugin::ConditionalRedirect       0.0101 0.0101
    App::ZofCMS::Plugin::ConfigToTemplate          0.0102 0.0104
    App::ZofCMS::Plugin::Cookies                   0.0103 0.0104
    App::ZofCMS::Plugin::DateSelector              0.0112 0.0112
    App::ZofCMS::Plugin::DBI                       0.0331 0.0342
    App::ZofCMS::Plugin::Debug::Dumper             0.0101 0.0102
    App::ZofCMS::Plugin::Debug::Validator::HTML    0.0102 0.0102
    App::ZofCMS::Plugin::DirTreeBrowse             0.0102 0.0105
    App::ZofCMS::Plugin::Doctypes                  0.0101 0.0101
    App::ZofCMS::Plugin::FileList                  0.0101 0.0101
    App::ZofCMS::Plugin::FileToTemplate            0.0101 0.0101
    App::ZofCMS::Plugin::FileTypeIcon              0.0103 0.0105
    App::ZofCMS::Plugin::FileUpload                0.0112 0.0113
    App::ZofCMS::Plugin::FloodControl              0.0101 0.0103
    App::ZofCMS::Plugin::FormChecker               0.0341 0.0341
    App::ZofCMS::Plugin::FormFiller                0.0101 0.0101
    App::ZofCMS::Plugin::FormMailer                0.0201 0.0222
    App::ZofCMS::Plugin::FormToDatabase            0.0101 0.0101
    App::ZofCMS::Plugin::HTMLFactory               0.0102 0.0102
    App::ZofCMS::Plugin::HTMLFactory::Entry        0.0101 0.0101
    App::ZofCMS::Plugin::HTMLFactory::PageToBodyId 0.001  0.0102
    App::ZofCMS::Plugin::ImageGallery              0.0202 0.0203
    App::ZofCMS::Plugin::ImageResize               0.0102 0.0103
    App::ZofCMS::Plugin::LinksToSpecs::CSS         0.0101 0.0104
    App::ZofCMS::Plugin::LinksToSpecs::HTML        0.0101 0.0101
    App::ZofCMS::Plugin::NavMaker                  0.0103 0.0103
    App::ZofCMS::Plugin::QueryToTemplate           0.0102 0.0102
    App::ZofCMS::Plugin::QuickNote                 0.0106 0.0107
    App::ZofCMS::Plugin::RandomPasswordGenerator   0.0101 0.0102
    App::ZofCMS::Plugin::Search::Indexer           0.0102 0.0102
    App::ZofCMS::Plugin::SplitPriceSelect          0.0102 0.0103
    App::ZofCMS::Plugin::StyleSwitcher             0.0101 0.0102
    App::ZofCMS::Plugin::Sub                       0.0101 0.0101
    App::ZofCMS::Plugin::Syntax::Highlight::CSS    0.0102 0.0102
    App::ZofCMS::Plugin::Syntax::Highlight::HTML   0.0101 0.0101
    App::ZofCMS::Plugin::TagCloud                  0.0103 0.0103
    App::ZofCMS::Plugin::Tagged                    0.0252 0.0252
    App::ZofCMS::Plugin::TOC                       0.0103 0.0103
    App::ZofCMS::Plugin::UserLogin                 0.0103 0.0116
    App::ZofCMS::Plugin::ValidationLinks           0.0101 0.0101
    App::ZofCMS::Plugin::YouTube                   0.0103 0.0104
    App::ZofCMS::PluginReference                   0.0106 0.0106
    App::ZofCMS::Test::Plugin                      0.0104 0.0104

build_requires:

    Module                                         Need   Have  
    ---------------------------------------------- ------ ------
    Test::More                                     0      0.94  


------------------------------
ENVIRONMENT AND OTHER CONTEXT
------------------------------

Environment variables:

    AUTOMATED_TESTING = 1
    LANG = en_US.UTF-8
    PATH = /usr/local/bin:/usr/bin:/bin:/usr/games
    PERL5LIB = 
    PERL5OPT = 
    PERL5_CPANPLUS_IS_RUNNING = 13522
    PERL5_CPAN_IS_RUNNING = 13522
    PERL5_CPAN_IS_RUNNING_IN_RECURSION = 16643,13522
    PERL_CR_SMOKER_CURRENT = Task-App-ZofCMS-0.0108
    PERL_EXTUTILS_AUTOINSTALL = --defaultdeps
    PERL_MM_USE_DEFAULT = 1
    SHELL = /bin/bash
    TERM = xterm

Perl special variables (and OS-specific diagnostics, for MSWin32):

    $^X = /home/stro/perl5131m/bin/perl
    $UID/$EUID = 1000 / 1000
    $GID = 1000 20 24 25 29 44 46 1000
    $EGID = 1000 20 24 25 29 44 46 1000

Perl module toolchain versions installed:

    Module              Have   
    ------------------- -------
    CPAN                1.94_57
    Cwd                 3.31   
    ExtUtils::CBuilder  0.2703 
    ExtUtils::Command   1.16   
    ExtUtils::Install   1.54   
    ExtUtils::MakeMaker 6.56   
    ExtUtils::Manifest  1.58   
    ExtUtils::ParseXS   2.2205 
    File::Spec          3.31   
    Module::Build       0.3607 
    Module::Signature   0.64   
    Test::Harness       3.21   
    Test::More          0.94   
    YAML                0.71   
    YAML::Syck          1.10   
    version             0.82   


--

Summary of my perl5 (revision 5 version 13 subversion 1) configuration:
   
  Platform:
    osname=linux, osvers=2.6.26-2-686, archname=i686-linux-multi
    uname='linux debian5 2.6.26-2-686 #1 smp wed may 12 21:56:10 utc 2010 i686 gnulinux '
    config_args=''
    hint=recommended, useposix=true, d_sigaction=define
    useithreads=undef, usemultiplicity=define
    useperlio=define, d_sfio=undef, uselargefiles=define, usesocks=undef
    use64bitint=undef, use64bitall=undef, uselongdouble=undef
    usemymalloc=n, bincompat5005=undef
  Compiler:
    cc='cc', ccflags ='-fno-strict-aliasing -pipe -fstack-protector -I/usr/local/include -D_LARGEFILE_SOURCE -D_FILE_OFFSET_BITS=64',
    optimize='-O2',
    cppflags='-fno-strict-aliasing -pipe -fstack-protector -I/usr/local/include'
    ccversion='', gccversion='4.3.2', gccosandvers=''
    intsize=4, longsize=4, ptrsize=4, doublesize=8, byteorder=1234
    d_longlong=define, longlongsize=8, d_longdbl=define, longdblsize=12
    ivtype='long', ivsize=4, nvtype='double', nvsize=8, Off_t='off_t', lseeksize=8
    alignbytes=4, prototype=define
  Linker and Libraries:
    ld='cc', ldflags =' -fstack-protector -L/usr/local/lib'
    libpth=/usr/local/lib /lib /usr/lib
    libs=-lnsl -ldl -lm -lcrypt -lutil -lc
    perllibs=-lnsl -ldl -lm -lcrypt -lutil -lc
    libc=/lib/libc-2.7.so, so=so, useshrplib=false, libperl=libperl.a
    gnulibc_version='2.7'
  Dynamic Linking:
    dlsrc=dl_dlopen.xs, dlext=so, d_dlsymun=undef, ccdlflags='-Wl,-E'
    cccdlflags='-fPIC', lddlflags='-shared -O2 -L/usr/local/lib -fstack-protector'


Characteristics of this binary (from libperl): 
  Compile-time options: MULTIPLICITY PERL_DONT_CREATE_GVSV
                        PERL_IMPLICIT_CONTEXT PERL_MALLOC_WRAP
                        USE_LARGE_FILES USE_PERLIO USE_PERL_ATOF
  Built under linux
  Compiled at Jun  2 2010 14:19:32
  %ENV:
    PERL5LIB=""
    PERL5OPT=""
    PERL5_CPANPLUS_IS_RUNNING="13522"
    PERL5_CPAN_IS_RUNNING="13522"
    PERL5_CPAN_IS_RUNNING_IN_RECURSION="16643,13522"
    PERL_CR_SMOKER_CURRENT="Task-App-ZofCMS-0.0108"
    PERL_EXTUTILS_AUTOINSTALL="--defaultdeps"
    PERL_MM_USE_DEFAULT="1"
  @INC:
    /home/stro/perl5131m/lib/site_perl/5.13.1/i686-linux-multi
    /home/stro/perl5131m/lib/site_perl/5.13.1
    /home/stro/perl5131m/lib/5.13.1/i686-linux-multi
    /home/stro/perl5131m/lib/5.13.1
    .