Report for MooseX-App-Cmd-0.27

Back
From: metabase:user:30977d10-2aae-11df-837a-5e0a49663a4f
Subject: PASS MooseX-App-Cmd-0.27 v5.16.3 Mac OS X
Date: 2013-12-31T21:57:16Z

This distribution has been tested as part of the CPAN Testers
project, supporting the Perl programming language.  See
http://wiki.cpantesters.org/ for more information or email
questions to cpan-testers-discuss@perl.org


--
Dear Mark Gardner,

This is a computer-generated report for MooseX-App-Cmd-0.27
on perl 5.16.3, created by CPAN-Reporter-1.2010.

Thank you for uploading your work to CPAN.  Congratulations!
All tests were successful.

Sections of this report:

    * Tester comments
    * Program output
    * Prerequisites
    * Environment and other context

------------------------------
TESTER COMMENTS
------------------------------

Additional comments from tester:

this report is from an automated smoke testing program
and was not reviewed by a human for accuracy

------------------------------
PROGRAM OUTPUT
------------------------------

Output from '/usr/bin/make test':

PERL_DL_NONLAZY=1 /Users/trushel/perl/5.16.3-th/bin/perl "-MExtUtils::Command::MM" "-MTest::Harness" "-e" "undef *Test::Harness::Switches; test_harness(0, 'blib/lib', 'blib/arch')" t/*.t
t/00-compile.t .......................... ok
# Testing with Perl 5.016003, /Users/trushel/perl/5.16.3-th/bin/perl
#     Any::Moose version is 0.21
#     App::Cmd version is 0.322
#     App::Cmd::Command version is 0.322
#     Carp version is 1.26
#     Data::Dumper version is 2.145
#     English version is 1.05
#     ExtUtils::MakeMaker version is 6.84
#     File::Basename version is 2.84
#     File::Spec version is 3.40
#     Getopt::Long::Descriptive version is 0.093
#     IO::Handle version is 1.33
#     IPC::Open3 version is 1.12
#     MouseX::Getopt version is 0.34
#     Scalar::Util version is 1.32
#     Test::More version is 1.001002
#     Test::Output version is 1.02
#     Test::use::ok version is 0.11
#     YAML version is 0.84
#     base version is 2.18
#     lib version is 0.63
#     namespace::clean version is 0.24
#     strict version is 1.07
#     warnings version is 1.13
t/000-report-versions.t ................. ok
t/author-critic.t ....................... skipped: these tests are for testing by the author
t/author-test-eol.t ..................... skipped: these tests are for testing by the author
t/basic.t ............................... ok
t/build_emulates_new.t .................. ok
t/configfile.t .......................... skipped: These tests require Mo(o|u)seX::ConfigFromFile and YAML
t/moose.t ............................... ok
t/mouse.t ............................... ok
t/release-changes_has_content.t ......... skipped: these tests are for release candidate testing
t/release-cpan-changes.t ................ skipped: these tests are for release candidate testing
t/release-dist-manifest.t ............... skipped: these tests are for release candidate testing
t/release-distmeta.t .................... skipped: these tests are for release candidate testing
t/release-kwalitee.t .................... skipped: these tests are for release candidate testing
t/release-localbrew-perl-latest-TEST.t .. skipped: these tests are for release candidate testing
t/release-meta-json.t ................... skipped: these tests are for release candidate testing
t/release-minimum-version.t ............. skipped: these tests are for release candidate testing
t/release-mojibake.t .................... skipped: these tests are for release candidate testing
t/release-no-tabs.t ..................... skipped: these tests are for release candidate testing
t/release-pod-coverage.t ................ skipped: these tests are for release candidate testing
t/release-pod-linkcheck.t ............... skipped: these tests are for release candidate testing
t/release-pod-syntax.t .................. skipped: these tests are for release candidate testing
t/release-portability.t ................. skipped: these tests are for release candidate testing
t/release-synopsis.t .................... skipped: these tests are for release candidate testing
t/release-test-version.t ................ skipped: these tests are for release candidate testing
t/release-unused-vars.t ................. skipped: these tests are for release candidate testing
All tests successful.
Files=26, Tests=44,  2 wallclock secs ( 0.08 usr  0.04 sys +  1.62 cusr  0.21 csys =  1.95 CPU)
Result: PASS

------------------------------
PREREQUISITES
------------------------------

Prerequisite modules loaded:

requires:

    Module                    Need  Have    
    ------------------------- ----- --------
    Any::Moose                0     0.21    
    App::Cmd                  0.321 0.322   
    App::Cmd::Command         0     0.322   
    English                   0     1.05    
    File::Basename            0     2.84    
    Getopt::Long::Descriptive 0.091 0.093   
    MouseX::Getopt            0     0.34    
    namespace::clean          0     0.24    
    Test::use::ok             0     0.11    

build_requires:

    Module                    Need  Have    
    ------------------------- ----- --------
    base                      0     2.18    
    Carp                      0     1.26    
    Data::Dumper              0     2.145   
    ExtUtils::MakeMaker       0     6.84    
    File::Spec                0     3.40    
    IO::Handle                0     1.33    
    IPC::Open3                0     1.12    
    lib                       0     0.63    
    Scalar::Util              0     1.32    
    strict                    0     1.07    
    Test::More                0.94  1.001002
    Test::Output              0     1.02    
    warnings                  0     1.13    
    YAML                      0     0.84    

configure_requires:

    Module                    Need  Have    
    ------------------------- ----- --------
    ExtUtils::MakeMaker       6.30  6.84    


------------------------------
ENVIRONMENT AND OTHER CONTEXT
------------------------------

Environment variables:

    AUTOMATED_TESTING = 1
    LANG = en_US.UTF-8
    PATH = /usr/bin:/bin:/usr/sbin:/sbin:/usr/local/bin:/usr/local/bin/g4bin:/usr/local/sbin
    PERL5LIB = 
    PERL5OPT = 
    PERL5_CPANPLUS_IS_RUNNING = 3919
    PERL5_CPAN_IS_RUNNING = 3919
    PERL5_CPAN_IS_RUNNING_IN_RECURSION = 94231,3919
    PERL_CR_SMOKER_CURRENT = MooseX-App-Cmd-0.27
    PERL_EXTUTILS_AUTOINSTALL = --defaultdeps
    PERL_MM_USE_DEFAULT = 1
    SHELL = /bin/bash
    TERM = xterm-256color
    TMPDIR = /var/folders/00/11s1r000h01000cxqpysvccm004747/T/

Perl special variables (and OS-specific diagnostics, for MSWin32):

    $^X = /Users/trushel/perl/5.16.3-th/bin/perl
    $UID/$EUID = 138375 / 138375
    $GID = 5762 5762
    $EGID = 5762 5762

Perl module toolchain versions installed:

    Module              Have    
    ------------------- --------
    CPAN                1.9800  
    CPAN::Meta          2.131560
    Cwd                 3.40    
    ExtUtils::CBuilder  0.280206
    ExtUtils::Command   1.17    
    ExtUtils::Install   1.58    
    ExtUtils::MakeMaker 6.84    
    ExtUtils::Manifest  1.61    
    ExtUtils::ParseXS   3.22    
    File::Spec          3.40    
    JSON                2.59    
    JSON::PP            2.27203 
    Module::Build       0.4203  
    Module::Signature   n/a     
    Parse::CPAN::Meta   1.4409  
    Test::Harness       3.30    
    Test::More          1.001002
    YAML                0.84    
    YAML::Syck          1.27    
    version             0.9904  


--

Summary of my perl5 (revision 5 version 16 subversion 3) configuration:
   
  Platform:
    osname=darwin, osvers=12.4.0, archname=darwin-thread-multi-2level
    uname='darwin trushel-macbookpro.local 12.4.0 darwin kernel version 12.4.0: wed may 1 17:57:12 pdt 2013; root:xnu-2050.24.15~1release_x86_64 x86_64 '
    config_args=''
    hint=recommended, useposix=true, d_sigaction=define
    useithreads=define, usemultiplicity=define
    useperlio=define, d_sfio=undef, uselargefiles=define, usesocks=undef
    use64bitint=define, use64bitall=define, uselongdouble=undef
    usemymalloc=n, bincompat5005=undef
  Compiler:
    cc='cc', ccflags ='-fno-common -DPERL_DARWIN -fno-strict-aliasing -pipe -fstack-protector',
    optimize='-O3',
    cppflags='-fno-common -DPERL_DARWIN -fno-strict-aliasing -pipe -fstack-protector'
    ccversion='', gccversion='4.2.1 Compatible Apple LLVM 4.2 (clang-425.0.28)', gccosandvers=''
    intsize=4, longsize=8, ptrsize=8, doublesize=8, byteorder=12345678
    d_longlong=define, longlongsize=8, d_longdbl=define, longdblsize=16
    ivtype='long', ivsize=8, nvtype='double', nvsize=8, Off_t='off_t', lseeksize=8
    alignbytes=8, prototype=define
  Linker and Libraries:
    ld='env MACOSX_DEPLOYMENT_TARGET=10.3 cc', ldflags =' -fstack-protector -L/usr/local/lib'
    libpth=/usr/local/lib /usr/lib
    libs=-ldbm -ldl -lm -lutil -lc
    perllibs=-ldl -lm -lutil -lc
    libc=, so=dylib, useshrplib=false, libperl=libperl.a
    gnulibc_version=''
  Dynamic Linking:
    dlsrc=dl_dlopen.xs, dlext=bundle, d_dlsymun=undef, ccdlflags=' '
    cccdlflags=' ', lddlflags=' -bundle -undefined dynamic_lookup -L/usr/local/lib -fstack-protector'


Characteristics of this binary (from libperl): 
  Compile-time options: HAS_TIMES MULTIPLICITY PERLIO_LAYERS
                        PERL_DONT_CREATE_GVSV PERL_IMPLICIT_CONTEXT
                        PERL_MALLOC_WRAP PERL_PRESERVE_IVUV USE_64_BIT_ALL
                        USE_64_BIT_INT USE_ITHREADS USE_LARGE_FILES
                        USE_LOCALE USE_LOCALE_COLLATE USE_LOCALE_CTYPE
                        USE_LOCALE_NUMERIC USE_PERLIO USE_PERL_ATOF
  Built under darwin
  Compiled at Jul 13 2013 13:04:54
  %ENV:
    PERL5LIB=""
    PERL5OPT=""
    PERL5_CPANPLUS_IS_RUNNING="3919"
    PERL5_CPAN_IS_RUNNING="3919"
    PERL5_CPAN_IS_RUNNING_IN_RECURSION="94231,3919"
    PERL_CR_SMOKER_CURRENT="MooseX-App-Cmd-0.27"
    PERL_EXTUTILS_AUTOINSTALL="--defaultdeps"
    PERL_MM_USE_DEFAULT="1"
  @INC:
    /Users/trushel/perl/5.16.3-th/lib/site_perl/5.16.3/darwin-thread-multi-2level
    /Users/trushel/perl/5.16.3-th/lib/site_perl/5.16.3
    /Users/trushel/perl/5.16.3-th/lib/5.16.3/darwin-thread-multi-2level
    /Users/trushel/perl/5.16.3-th/lib/5.16.3
    .