Back
From: metabase:user:314402c4-2aae-11df-837a-5e0a49663a4f
Subject: PASS TCPIP-MitM-0.01_02 v5.10.1 FreeBSD
Date: 2013-04-07T13:24:45Z
This distribution has been tested as part of the CPAN Testers
project, supporting the Perl programming language.  See
http://wiki.cpantesters.org/ for more information or email
questions to cpan-testers-discuss@perl.org
--
Dear Ben Aveling,
This is a computer-generated report for TCPIP-MitM-0.01_02
on perl 5.10.1, created by CPAN-Reporter-1.2007.
Thank you for uploading your work to CPAN.  Congratulations!
All tests were successful.
Sections of this report:
    * Tester comments
    * Program output
    * Prerequisites
    * Environment and other context
------------------------------
TESTER COMMENTS
------------------------------
Additional comments from tester:
none provided
------------------------------
PROGRAM OUTPUT
------------------------------
Output from '/usr/bin/make test':
PERL_DL_NONLAZY=1 /usr/perl5.10.1/bin/perl5.10.1 "-MExtUtils::Command::MM" "-e" "test_harness(0, 'blib/lib', 'blib/arch')" t/*.t
# Testing TCPIP::MitM 0.01_02, Perl 5.010001, /usr/perl5.10.1/bin/perl5.10.1
t/00-load.t ....... ok
t/01-kwalitee.t ... ok
t/manifest.t ...... skipped: Author tests not required for installation
t/mitm.t .......... ok
t/pod-coverage.t .. ok
t/pod.t ........... ok
All tests successful.
Files=6, Tests=21,  6 wallclock secs ( 0.05 usr  0.02 sys +  1.23 cusr  0.17 csys =  1.48 CPU)
Result: PASS
------------------------------
PREREQUISITES
------------------------------
Prerequisite modules loaded:
requires:
    Module              Need  Have    
    ------------------- ----- --------
    perl                5.006 5.010001
build_requires:
    Module              Need  Have    
    ------------------- ----- --------
    Test::More          0     0.98    
configure_requires:
    Module              Need  Have    
    ------------------- ----- --------
    ExtUtils::MakeMaker 0     6.62    
------------------------------
ENVIRONMENT AND OTHER CONTEXT
------------------------------
Environment variables:
    DBIC_NO_WARN_BAD_PERL = 1
    PATH = /usr/local/bin:/usr/X11R6/bin:/usr/X11/bin:/usr/perl5.8.0/bin:/usr/bin:/bin:/usr/local/sbin:/usr/sbin:/sbin:/usr/local/pilot/bin:/home/cpansand/bin/freebsd8.0:/home/cpansand/bin/sh:/home/cpansand/bin:/usr/X386/bin:/usr/games:/home/cpansand/devel:/usr/home/e/eserte/work/srezic-misc/scripts
    PERL5LIB = /usr/local/src/CPAN/build/SQL-Yapp-2-Ln02bN/blib/arch:/usr/local/src/CPAN/build/SQL-Yapp-2-Ln02bN/blib/lib:/usr/local/src/CPAN/build/IO-Pager-0.31-yrwSAo/blib/arch:/usr/local/src/CPAN/build/IO-Pager-0.31-yrwSAo/blib/lib
    PERL5OPT = 
    PERL5_CPANPLUS_IS_RUNNING = 63605
    PERL5_CPAN_IS_RUNNING = 63605
    PERL5_CPAN_IS_RUNNING_IN_RECURSION = 63584,63605
    PERL_BATCH = yes
    PERL_CPAN_REPORTER_CONFIG = /var/tmp/cpansmoker-1023/aSjCXCO3fd_config.ini
    PERL_EXTUTILS_AUTOINSTALL = --defaultdeps
    PERL_HTML_DISPLAY_CLASS = HTML::Display::Mozilla
    SHELL = /usr/local/bin/zsh
    TERM = screen
    TMPDIR = /var/tmp/cpansmoker-1023
Perl special variables (and OS-specific diagnostics, for MSWin32):
    $^X = /usr/perl5.10.1/bin/perl5.10.1
    $UID/$EUID = 1023 / 1023
    $GID = 1023 1023
    $EGID = 1023 1023
Perl module toolchain versions installed:
    Module              Have    
    ------------------- --------
    CPAN                1.9800  
    CPAN::Meta          2.112150
    Cwd                 3.40    
    ExtUtils::CBuilder  0.280205
    ExtUtils::Command   1.17    
    ExtUtils::Install   1.54    
    ExtUtils::MakeMaker 6.62    
    ExtUtils::Manifest  1.60    
    ExtUtils::ParseXS   3.15    
    File::Spec          3.40    
    JSON                2.53    
    JSON::PP            2.27200 
    Module::Build       0.4004  
    Module::Signature   0.68    
    Parse::CPAN::Meta   1.4403  
    Test::Harness       3.23    
    Test::More          0.98    
    YAML                0.84    
    YAML::Syck          1.20    
    version             0.9901  
--
Summary of my perl5 (revision 5 version 10 subversion 1) configuration:
   
  Platform:
    osname=freebsd, osvers=8.0-release, archname=i386-freebsd
    uname='freebsd biokovo.herceg.de 8.0-release freebsd 8.0-release #0: sat nov 21 15:48:17 utc 2009 root@almeida.cse.buffalo.edu:usrobjusrsrcsysgeneric i386 '
    config_args='-Dprefix=/usr/perl5.10.1 -Dusemymalloc=n -D cc=ccache cc -Dgccansipedantic -Duse64bit -de -D hintfile=myfreebsd'
    hint=recommended, useposix=true, d_sigaction=define
    useithreads=undef, usemultiplicity=undef
    useperlio=define, d_sfio=undef, uselargefiles=define, usesocks=undef
    use64bitint=undef, use64bitall=undef, uselongdouble=undef
    usemymalloc=n, bincompat5005=undef
  Compiler:
    cc='ccache cc', ccflags ='-DHAS_FPSETMASK -DHAS_FLOATINGPOINT_H -fno-strict-aliasing -pipe -fstack-protector -I/usr/local/include',
    optimize='-O2 -mtune=athlon64 -pipe',
    cppflags='-DHAS_FPSETMASK -DHAS_FLOATINGPOINT_H -fno-strict-aliasing -pipe -fstack-protector -I/usr/local/include'
    ccversion='', gccversion='4.2.1 20070719  [FreeBSD]', gccosandvers=''
    intsize=4, longsize=4, ptrsize=4, doublesize=8, byteorder=1234
    d_longlong=define, longlongsize=8, d_longdbl=define, longdblsize=12
    ivtype='long', ivsize=4, nvtype='double', nvsize=8, Off_t='off_t', lseeksize=8
    alignbytes=4, prototype=define
  Linker and Libraries:
    ld='ccache cc', ldflags ='-Wl,-E  -fstack-protector -L/usr/local/lib'
    libpth=/usr/lib /usr/local/lib
    libs=-lgdbm -lm -lcrypt -lutil -lc
    perllibs=-lm -lcrypt -lutil -lc
    libc=, so=so, useshrplib=false, libperl=libperl.a
    gnulibc_version=''
  Dynamic Linking:
    dlsrc=dl_dlopen.xs, dlext=so, d_dlsymun=undef, ccdlflags=' '
    cccdlflags='-DPIC -fPIC', lddlflags='-shared  -L/usr/local/lib -fstack-protector'
Characteristics of this binary (from libperl): 
  Compile-time options: PERL_DONT_CREATE_GVSV PERL_MALLOC_WRAP PERL_USE_DEVEL
                        USE_LARGE_FILES USE_PERLIO
  Built under freebsd
  Compiled at Feb  6 2010 13:47:51
  %ENV:
    PERL5LIB="/usr/local/src/CPAN/build/SQL-Yapp-2-Ln02bN/blib/arch:/usr/local/src/CPAN/build/SQL-Yapp-2-Ln02bN/blib/lib:/usr/local/src/CPAN/build/IO-Pager-0.31-yrwSAo/blib/arch:/usr/local/src/CPAN/build/IO-Pager-0.31-yrwSAo/blib/lib"
    PERL5OPT=""
    PERL5_CPANPLUS_IS_RUNNING="63605"
    PERL5_CPAN_IS_RUNNING="63605"
    PERL5_CPAN_IS_RUNNING_IN_RECURSION="63584,63605"
    PERL_BATCH="yes"
    PERL_CPAN_REPORTER_CONFIG="/var/tmp/cpansmoker-1023/aSjCXCO3fd_config.ini"
    PERL_EXTUTILS_AUTOINSTALL="--defaultdeps"
    PERL_HTML_DISPLAY_CLASS="HTML::Display::Mozilla"
  @INC:
    /usr/local/src/CPAN/build/SQL-Yapp-2-Ln02bN/blib/arch
    /usr/local/src/CPAN/build/SQL-Yapp-2-Ln02bN/blib/lib
    /usr/local/src/CPAN/build/IO-Pager-0.31-yrwSAo/blib/arch
    /usr/local/src/CPAN/build/IO-Pager-0.31-yrwSAo/blib/lib
    /usr/perl5.10.1/lib/5.10.1/i386-freebsd
    /usr/perl5.10.1/lib/5.10.1
    /usr/perl5.10.1/lib/site_perl/5.10.1/i386-freebsd
    /usr/perl5.10.1/lib/site_perl/5.10.1
    .