Test-WWW-Mechanize-Catalyst v0.62 Perl 5 v5.33.7 OpenBSD.amd64-openbsd
- Status
- Pass
- From
- Carlos Guevara
- Dist
-
Test-WWW-Mechanize-Catalyst v0.62
- Platform
- Perl 5 v5.33.7 OpenBSD.amd64-openbsd
- Date
- 2021-02-13 02:38:11
- ID
- 83c63342-6da4-11eb-8ffc-019ce3cf3e1e
This distribution has been tested as part of the CPAN Testers
project, supporting the Perl programming language. See
http://wiki.cpantesters.org/ for more information or email
questions to cpan-testers-discuss@perl.org
--
Dear Matt S Trout,
This is a computer-generated report for Test-WWW-Mechanize-Catalyst-0.62
on perl 5.33.7, created by CPAN-Reporter-1.2018.
Thank you for uploading your work to CPAN. Congratulations!
All tests were successful.
Sections of this report:
* Tester comments
* Program output
* Prerequisites
* Environment and other context
------------------------------
TESTER COMMENTS
------------------------------
Additional comments from tester:
this report is from an automated smoke testing program
and was not reviewed by a human for accuracy
------------------------------
PROGRAM OUTPUT
------------------------------
Output from '/usr/bin/make test':
PERL_DL_NONLAZY=1 "/home/cpan/bin/perl-blead/bin/perl5.33.7" "-MExtUtils::Command::MM" "-MTest::Harness" "-e" "undef *Test::Harness::Switches; test_harness(0, 'inc', 'blib/lib', 'blib/arch')" t/*.t
t/auth-test.t ........... ok
t/cookies.t ............. ok
t/decoded_content.t ..... ok
#
# ###################################################################
# Starting an external Catalyst HTTP server on port 7357
# To change the port, please set the TWMC_TEST_PORT env variable.
# (The server will be automatically shut-down right after the tests).
# ###################################################################
HTTP::Server::PSGI: Accepting connections at http://0:7357/
t/multi_content_type.t .. ok
t/pod.t ................. skipped: Test::Pod 1.14 required for testing POD: Can't locate Test/Pod.pm in @INC (you may need to install the Test::Pod module) (@INC contains: /home/cpan/.cpan/build/Test-WWW-Mechanize-Catalyst-0.62-0/inc /home/cpan/.cpan/build/Test-WWW-Mechanize-Catalyst-0.62-0/blib/lib /home/cpan/.cpan/build/Test-WWW-Mechanize-Catalyst-0.62-0/blib/arch /home/cpan/bin/perl-blead/lib/site_perl/5.33.7/OpenBSD.amd64-openbsd /home/cpan/bin/perl-blead/lib/site_perl/5.33.7 /home/cpan/bin/perl-blead/lib/5.33.7/OpenBSD.amd64-openbsd /home/cpan/bin/perl-blead/lib/5.33.7 .) at (eval 8) line 1.
t/redirect.t ............ ok
t/simple.t .............. ok
t/two_app.t ............. ok
t/useragent.t ........... ok
t/utf8.t ................ ok
t/white_label.t ......... ok
All tests successful.
Files=11, Tests=108, 34 wallclock secs ( 0.07 usr 0.12 sys + 17.82 cusr 4.97 csys = 22.98 CPU)
Result: PASS
------------------------------
PREREQUISITES
------------------------------
Prerequisite modules loaded:
requires:
Module Need Have
---------------------------------------- -------- --------
Catalyst 5.90 5.90128
Class::Load 0.19 0.25
LWP 5.816 6.52
Moose 0.67 2.2014
namespace::clean 0.09 0.27
perl 5.008004 5.033007
Test::WWW::Mechanize 1.14 1.54
WWW::Mechanize 1.54 2.03
build_requires:
Module Need Have
---------------------------------------- -------- --------
Catalyst::Plugin::Session::State::Cookie 0 0.18
Catalyst::Plugin::Session::Store::Dummy 0 0
ExtUtils::MakeMaker 6.59 7.58
Test::Exception 0 0.43
Test::More 0.88 1.302183
Test::utf8 0 1.02
configure_requires:
Module Need Have
---------------------------------------- -------- --------
ExtUtils::MakeMaker 6.59 7.58
------------------------------
ENVIRONMENT AND OTHER CONTEXT
------------------------------
Environment variables:
AUTOMATED_TESTING = 1
DATE_MANIP_TEST_DM5 = 1
LC_ALL = C
NONINTERACTIVE_TESTING = 1
PATH = /home/cpan/bin/perl-blead/bin:/home/cpan/bin:/home/cpan/bin:/bin:/sbin:/usr/bin:/usr/sbin:/usr/X11R6/bin:/usr/local/bin:/usr/local/sbin:/usr/games
PERL5LIB =
PERL5OPT =
PERL5_CPANPLUS_IS_RUNNING = 55263
PERL5_CPAN_IS_RUNNING = 55263
PERL_MM_USE_DEFAULT = 1
PERL_USE_UNSAFE_INC = 1
PERL_VERSION = blead
SHELL = /usr/local/bin/bash
TERM = screen.xterm-256color
TMPDIR = /home/cpan/tmp
Perl special variables (and OS-specific diagnostics, for MSWin32):
$^X = /home/cpan/bin/perl-blead/bin/perl5.33.7
$UID/$EUID = 1001 / 1001
$GID = 1001 1001
$EGID = 1001 1001
Perl module toolchain versions installed:
Module Have
------------------- --------
CPAN 2.28
CPAN::Meta 2.150010
Cwd 3.80
ExtUtils::CBuilder 0.280236
ExtUtils::Command 7.58
ExtUtils::Install 2.20
ExtUtils::MakeMaker 7.58
ExtUtils::Manifest 1.73
ExtUtils::ParseXS 3.42
File::Spec 3.80
JSON 4.03
JSON::PP 4.05
Module::Build 0.4231
Module::Signature n/a
Parse::CPAN::Meta 2.150010
Test::Harness 3.43
Test::More 1.302183
YAML n/a
YAML::Syck n/a
version 0.9928
--
Summary of my perl5 (revision 5 version 33 subversion 7) configuration:
Commit id: 64901762e5e760756c8a2f3d72e81a16d2213c53
Platform:
osname=openbsd
osvers=6.8
archname=OpenBSD.amd64-openbsd
uname='openbsd cjg-openbsd6 6.8 generic#4 amd64 '
config_args='-des -Dprefix=~/bin/perl-blead -Dscriptdir=~/bin/perl-blead/bin -Dusedevel -Duse64bitall'
hint=recommended
useposix=true
d_sigaction=define
useithreads=undef
usemultiplicity=undef
use64bitint=define
use64bitall=define
uselongdouble=undef
usemymalloc=n
default_inc_excludes_dot=define
Compiler:
cc='cc'
ccflags ='-fno-strict-aliasing -pipe -fstack-protector-strong -I/usr/local/include'
optimize='-O2'
cppflags='-fno-strict-aliasing -pipe -fstack-protector-strong -I/usr/local/include'
ccversion=''
gccversion='OpenBSD Clang 10.0.1 '
gccosandvers=''
intsize=4
longsize=8
ptrsize=8
doublesize=8
byteorder=12345678
doublekind=3
d_longlong=define
longlongsize=8
d_longdbl=define
longdblsize=16
longdblkind=3
ivtype='long'
ivsize=8
nvtype='double'
nvsize=8
Off_t='off_t'
lseeksize=8
alignbytes=8
prototype=define
Linker and Libraries:
ld='cc'
ldflags ='-Wl,-E -fstack-protector-strong -L/usr/local/lib'
libpth=/usr/lib /usr/local/lib
libs=-lpthread -lm -lutil -lc
perllibs=-lpthread -lm -lutil -lc
libc=/usr/lib/libc.so.96.0
so=so
useshrplib=false
libperl=libperl.a
gnulibc_version=''
Dynamic Linking:
dlsrc=dl_dlopen.xs
dlext=so
d_dlsymun=undef
ccdlflags=' '
cccdlflags='-DPIC -fPIC '
lddlflags='-shared -fPIC -L/usr/local/lib -fstack-protector-strong'
Characteristics of this binary (from libperl):
Compile-time options:
HAS_TIMES
PERLIO_LAYERS
PERL_COPY_ON_WRITE
PERL_DONT_CREATE_GVSV
PERL_MALLOC_WRAP
PERL_OP_PARENT
PERL_PRESERVE_IVUV
PERL_USE_DEVEL
USE_64_BIT_ALL
USE_64_BIT_INT
USE_LARGE_FILES
USE_LOCALE
USE_LOCALE_COLLATE
USE_LOCALE_CTYPE
USE_LOCALE_NUMERIC
USE_LOCALE_TIME
USE_PERLIO
USE_PERL_ATOF
Built under openbsd
Compiled at Feb 12 2021 18:17:09
%ENV:
PERL5LIB=""
PERL5OPT=""
PERL5_CPANPLUS_IS_RUNNING="55263"
PERL5_CPAN_IS_RUNNING="55263"
PERL_MM_USE_DEFAULT="1"
PERL_USE_UNSAFE_INC="1"
PERL_VERSION="blead"
@INC:
/home/cpan/bin/perl-blead/lib/site_perl/5.33.7/OpenBSD.amd64-openbsd
/home/cpan/bin/perl-blead/lib/site_perl/5.33.7
/home/cpan/bin/perl-blead/lib/5.33.7/OpenBSD.amd64-openbsd
/home/cpan/bin/perl-blead/lib/5.33.7
.