Sys-SigAction v0.24 Perl 5 v5.40.2 darwin-thread-multi-2level

Status
Pass
From
Stanislaw Pusep
Dist
Sys-SigAction v0.24
Platform
Perl 5 v5.40.2 darwin-thread-multi-2level
Date
2025-09-16 17:35:20
ID
848100ce-9323-11f0-917b-9ed1a574853c
This distribution has been tested as part of the CPAN Testers
project, supporting the Perl programming language.  See
http://wiki.cpantesters.org/ for more information or email
questions to cpan-testers-discuss@perl.org


--
Dear LBAXTER,

This is a computer-generated report for Sys-SigAction-0.24
on perl 5.40.2, created by App::cpanminus::reporter 0.22 (1.7048).

Thank you for uploading your work to CPAN.  Congratulations!
All tests were successful.

Sections of this report:

    * Tester comments
    * Program output
    * Prerequisites
    * Environment and other context

------------------------------
TESTER COMMENTS
------------------------------

Additional comments from tester:

none provided

------------------------------
PROGRAM OUTPUT
------------------------------

Output from '':

Building and testing Sys-SigAction-0.24
cp lib/Sys/SigAction.pm blib/lib/Sys/SigAction.pm
cp lib/Sys/SigAction/Alarm.pm blib/lib/Sys/SigAction/Alarm.pm
Manifying 1 pod document
PERL_DL_NONLAZY=1 "/opt/homebrew/Cellar/perl/5.40.2/bin/perl" "-MExtUtils::Command::MM" "-MTest::Harness" "-e" "undef *Test::Harness::Switches; test_harness(0, 'blib/lib', 'blib/arch')" t/*.t
t/alternatives.t ...... ok
t/inline_nested.t ..... ok
t/mask.t .............. ok
t/name.t .............. ok
t/number.t ............ ok
t/recursive_nested.t .. ok

         
     NOTE: Setting safe=>1... with masked signals does not seem to work.
     The problem is that the masked signals are not masked when safe=>1.
     When safe=>0 they are.  

     If you have an application for safe=>1 and can come up with a patch
     for Sys::SigAction that gets this test working, or a patch to the test
     that shows how to fix it, please send it to me or create a pull request
     for https://github.com/labaxter/sys-sigaction

     See the block below this one... which if executed would test safe mode
     with masked signals... it is a clone of part of mask.t that proves this
     is broken.

     This test can be executed from the command line as follows:

         SAFE_T=1 perl -Ilib t/safe.t

     Lincoln

     

t/safe.t .............. ok
# delta time was 0.105264, timer was for 0.1 secconds
t/timeout.t ........... ok
All tests successful.
Files=8, Tests=87,  8 wallclock secs ( 0.01 usr  0.01 sys +  0.23 cusr  0.05 csys =  0.30 CPU)
Result: PASS

------------------------------
PREREQUISITES
------------------------------

Prerequisite modules loaded:

runtime:

    Module              Need     Have    
    ------------------- -------- --------
    perl                5.006000 5.040002
    POSIX               0        2.20    
    Test::More          0        1.302214

build:

    Module              Need     Have    
    ------------------- -------- --------
    ExtUtils::MakeMaker 0        7.76    

configure:

    Module              Need     Have    
    ------------------- -------- --------
    ExtUtils::MakeMaker 0        7.76    


------------------------------
ENVIRONMENT AND OTHER CONTEXT
------------------------------

Environment variables:

    LANG = en_US.UTF-8
    LC_ALL = en_US.UTF-8
    LDFLAGS = -L/opt/homebrew/opt/curl/lib
    PATH = /opt/homebrew/opt/node@18/bin:/opt/homebrew/Cellar/perl/5.36.1/bin:/opt/homebrew/opt/curl/bin:/opt/homebrew/bin:/opt/homebrew/sbin:/usr/local/bin:/System/Cryptexes/App/usr/bin:/usr/bin:/bin:/usr/sbin:/sbin:/var/run/com.apple.security.cryptexd/codex.system/bootstrap/usr/local/bin:/var/run/com.apple.security.cryptexd/codex.system/bootstrap/usr/bin:/var/run/com.apple.security.cryptexd/codex.system/bootstrap/usr/appleinternal/bin:/Library/Apple/usr/bin:/Applications/Little Snitch.app/Contents/Components:/Users/stanislawpusep/.vim/bin:/Users/stanislawpusep/bin:/Users/stanislawpusep/.local/bin:/Users/stanislawpusep/node_modules/.bin:/usr/local/sbin:/opt/homebrew/opt/node@18/bin:/opt/homebrew/Cellar/perl/5.36.1/bin:/Users/stanislawpusep/perl5/bin:/opt/homebrew/opt/curl/bin:/Applications/kitty.app/Contents/MacOS
    PERL5LIB = /Users/stanislawpusep/perl5/lib/perl5
    PERL_LOCAL_LIB_ROOT = /Users/stanislawpusep/perl5
    PERL_MB_OPT = --install_base "/Users/stanislawpusep/perl5"
    PERL_MM_OPT = INSTALL_BASE=/Users/stanislawpusep/perl5
    PERL_MM_USE_DEFAULT = 1
    SHELL = /bin/zsh
    TERM = tmux-256color
    TMPDIR = /var/folders/w1/125w8syj3fx4505hrl72wjjm0000gp/T/

Perl special variables (and OS-specific diagnostics, for MSWin32):

    EGID = 20 20 12 61 79 80 81 98 701 33 100 204 250 395 398 399 400
    EUID = 502
    EXECUTABLE_NAME = /opt/homebrew/Cellar/perl/5.40.2/bin/perl
    GID = 20 20 12 61 79 80 81 98 701 33 100 204 250 395 398 399 400
    UID = 502

Perl module toolchain versions installed:

    Module              Have    
    ------------------- --------
    CPAN                2.38    
    CPAN::Meta          2.150010
    Cwd                 3.91    
    ExtUtils::CBuilder  0.280240
    ExtUtils::Command   7.76    
    ExtUtils::Install   2.22    
    ExtUtils::MakeMaker 7.76    
    ExtUtils::Manifest  1.75    
    ExtUtils::ParseXS   3.59    
    File::Spec          3.91    
    JSON                4.10    
    JSON::PP            4.16    
    Module::Build       0.4234  
    Module::Signature   n/a     
    Parse::CPAN::Meta   2.150010
    Test::Harness       3.52    
    Test::More          1.302214
    YAML                1.31    
    YAML::Syck          n/a     
    version             0.9933  


--

Summary of my perl5 (revision 5 version 40 subversion 2) configuration:
   
  Platform:
    osname=darwin
    osvers=25.0.0
    archname=darwin-thread-multi-2level
    uname='darwin tahoe-arm64.local 25.0.0 darwin kernel version 25.0.0: mon aug 25 21:17:21 pdt 2025; root:xnu-12377.1.9~3release_arm64_vmapple arm64 '
    config_args='-des -Dinstallstyle=lib/perl5 -Dinstallprefix=/opt/homebrew/Cellar/perl/5.40.2 -Dprefix=/opt/homebrew/opt/perl -Dprivlib=/opt/homebrew/opt/perl/lib/perl5/5.40 -Dsitelib=/opt/homebrew/opt/perl/lib/perl5/site_perl/5.40 -Dotherlibdirs=/opt/homebrew/lib/perl5/site_perl/5.40 -Dperlpath=/opt/homebrew/opt/perl/bin/perl -Dstartperl=#!/opt/homebrew/opt/perl/bin/perl -Dman1dir=/opt/homebrew/opt/perl/share/man/man1 -Dman3dir=/opt/homebrew/opt/perl/share/man/man3 -Duseshrplib -Duselargefiles -Dusethreads'
    hint=recommended
    useposix=true
    d_sigaction=define
    useithreads=define
    usemultiplicity=define
    use64bitint=define
    use64bitall=define
    uselongdouble=undef
    usemymalloc=n
    default_inc_excludes_dot=define
  Compiler:
    cc='cc'
    ccflags ='-fno-common -DPERL_DARWIN -mmacosx-version-min=26.0 -DNO_THREAD_SAFE_QUERYLOCALE -DNO_POSIX_2008_LOCALE -fno-strict-aliasing -pipe -fstack-protector-strong'
    optimize='-O3'
    cppflags='-fno-common -DPERL_DARWIN -mmacosx-version-min=26.0 -DNO_THREAD_SAFE_QUERYLOCALE -DNO_POSIX_2008_LOCALE -fno-strict-aliasing -pipe -fstack-protector-strong'
    ccversion=''
    gccversion='Apple LLVM 17.0.0 (clang-1700.3.19.1)'
    gccosandvers=''
    intsize=4
    longsize=8
    ptrsize=8
    doublesize=8
    byteorder=12345678
    doublekind=3
    d_longlong=define
    longlongsize=8
    d_longdbl=define
    longdblsize=8
    longdblkind=0
    ivtype='long'
    ivsize=8
    nvtype='double'
    nvsize=8
    Off_t='off_t'
    lseeksize=8
    alignbytes=8
    prototype=define
  Linker and Libraries:
    ld='cc'
    ldflags =' -mmacosx-version-min=26.0 -fstack-protector-strong'
    libpth=/opt/homebrew/Cellar/berkeley-db@5/5.3.28_1/lib /opt/homebrew/lib /Applications/Xcode.app/Contents/Developer/Toolchains/XcodeDefault.xctoolchain/usr/lib/clang/17/lib /Library/Developer/CommandLineTools/SDKs/MacOSX26.0.sdk/usr/lib /Applications/Xcode.app/Contents/Developer/Toolchains/XcodeDefault.xctoolchain/usr/lib /usr/lib
    libs=-lgdbm -ldb
    perllibs=
    libc=
    so=dylib
    useshrplib=true
    libperl=libperl.dylib
    gnulibc_version=''
  Dynamic Linking:
    dlsrc=dl_dlopen.xs
    dlext=bundle
    d_dlsymun=undef
    ccdlflags=' '
    cccdlflags=' '
    lddlflags=' -mmacosx-version-min=26.0 -bundle -undefined dynamic_lookup -fstack-protector-strong'


Characteristics of this binary (from libperl): 
  Compile-time options:
    HAS_LONG_DOUBLE
    HAS_STRTOLD
    HAS_TIMES
    MULTIPLICITY
    PERLIO_LAYERS
    PERL_COPY_ON_WRITE
    PERL_DONT_CREATE_GVSV
    PERL_HASH_FUNC_SIPHASH13
    PERL_HASH_USE_SBOX32
    PERL_MALLOC_WRAP
    PERL_OP_PARENT
    PERL_PRESERVE_IVUV
    PERL_USE_SAFE_PUTENV
    USE_64_BIT_ALL
    USE_64_BIT_INT
    USE_ITHREADS
    USE_LARGE_FILES
    USE_LOCALE
    USE_LOCALE_COLLATE
    USE_LOCALE_CTYPE
    USE_LOCALE_NUMERIC
    USE_LOCALE_TIME
    USE_PERLIO
    USE_PERL_ATOF
    USE_REENTRANT_API
  Built under darwin
  Compiled at Apr 13 2025 08:52:33
  %ENV:
    PERL5LIB="/Users/stanislawpusep/perl5/lib/perl5"
    PERL_LOCAL_LIB_ROOT="/Users/stanislawpusep/perl5"
    PERL_MB_OPT="--install_base "/Users/stanislawpusep/perl5""
    PERL_MM_OPT="INSTALL_BASE=/Users/stanislawpusep/perl5"
    PERL_MM_USE_DEFAULT="1"
  @INC:
    /Users/stanislawpusep/perl5/lib/perl5/5.40.2/darwin-thread-multi-2level
    /Users/stanislawpusep/perl5/lib/perl5/5.40.2
    /Users/stanislawpusep/perl5/lib/perl5/darwin-thread-multi-2level
    /Users/stanislawpusep/perl5/lib/perl5
    /opt/homebrew/opt/perl/lib/perl5/site_perl/5.40/darwin-thread-multi-2level
    /opt/homebrew/opt/perl/lib/perl5/site_perl/5.40
    /opt/homebrew/opt/perl/lib/perl5/5.40/darwin-thread-multi-2level
    /opt/homebrew/opt/perl/lib/perl5/5.40
    /opt/homebrew/lib/perl5/site_perl/5.40