CGI v4.64 Perl 5 v5.26.1 amd64-freebsd

Status
Pass
From
Slaven Rezić
Dist
CGI v4.64
Platform
Perl 5 v5.26.1 amd64-freebsd
Date
2024-03-18 12:17:43
ID
85bcd41a-e521-11ee-858b-18f66d8775ea
This distribution has been tested as part of the CPAN Testers
project, supporting the Perl programming language.  See
http://wiki.cpantesters.org/ for more information or email
questions to cpan-testers-discuss@perl.org


--
Dear Lee Johnson,

This is a computer-generated report for CGI-4.64
on perl 5.26.1, created by CPAN-Reporter-1.2018.

Thank you for uploading your work to CPAN.  Congratulations!
All tests were successful.

Sections of this report:

    * Tester comments
    * Program output
    * Prerequisites
    * Environment and other context

------------------------------
TESTER COMMENTS
------------------------------

Additional comments from tester:

none provided

------------------------------
PROGRAM OUTPUT
------------------------------

Output from '/usr/bin/make test':

PERL_DL_NONLAZY=1 "/usr/perl5.26.1p/bin/perl" "-MExtUtils::Command::MM" "-MTest::Harness" "-e" "undef *Test::Harness::Switches; test_harness(0, 'blib/lib', 'blib/arch')" t/*.t t/headers/*.t
t/append_query.t ............ ok
t/arbitrary_handles.t ....... ok
t/autoescape.t .............. ok
t/can.t ..................... ok
[Mon Mar 18 13:16:59 2024] carp.t: foo at /home/cpansand/.cpan/build/2024031813/CGI-4.64-0/blib/lib/CGI/Carp.pm line 360.
t/carp.t .................... ok
# cgi-lib.pl routines
private_tempfiles has been deprecated at /home/cpansand/.cpan/build/2024031813/CGI-4.64-0/blib/lib/CGI.pm line 3241.
t/cgi.t ..................... ok
t/charset.t ................. ok
t/checkbox_group.t .......... ok
t/command_line.t ............ ok
t/compiles_pod.t ............ ok
t/cookie.t .................. ok
t/delete.t .................. ok
t/Dump.t .................... ok
t/end_form.t ................ ok
t/form.t .................... ok
t/function.t ................ ok
t/gh-155.t .................. ok
t/headers.t ................. ok
t/headers/attachment.t ...... ok
t/headers/charset.t ......... ok
t/headers/cookie.t .......... ok
t/headers/default.t ......... ok
t/headers/nph.t ............. ok
t/headers/p3p.t ............. ok
t/headers/target.t .......... ok
t/headers/type.t ............ ok
t/hidden.t .................. ok
t/html.t .................... ok
t/html_functions.t .......... ok
t/http.t .................... ok
t/init.t .................... ok
t/multipart_globals.t ....... ok
t/multipart_init.t .......... ok
t/multipart_start.t ......... ok
t/no_tabindex.t ............. ok
t/param_fetch.t ............. ok
t/param_list_context.t ...... ok
t/popup_menu.t .............. ok
t/postdata.t ................ ok
CGI::Pretty is DEPRECATED and will be removed in a future release. Please see https://github.com/leejo/CGI.pm/issues/162 for more information at /home/cpansand/.cpan/build/2024031813/CGI-4.64-0/blib/lib/CGI/Pretty.pm line 20.
t/pretty.t .................. ok
t/push.t .................... ok
t/query_string.t ............ ok
t/redirect_query_string.t ... ok
t/request.t ................. ok
t/rt-31107.t ................ ok
t/rt-52469.t ................ ok
t/rt-57524.t ................ ok
t/rt-75628.t ................ ok
t/rt-84767.t ................ ok
t/save_read_roundtrip.t ..... ok
t/sorted.t .................. ok
t/start_end_asterisk.t ...... ok
t/start_end_end.t ........... ok
t/start_end_start.t ......... ok
t/unescapeHTML.t ............ ok
t/upload.t .................. ok
t/upload_quoted_unquoted.t .. ok
t/uploadInfo.t .............. ok
t/url.t ..................... ok
t/user_agent.t .............. ok
t/utf8.t .................... ok
t/util-58.t ................. ok
t/util.t .................... ok
All tests successful.
Files=63, Tests=1595,  5 wallclock secs ( 0.12 usr  0.16 sys +  2.59 cusr  2.02 csys =  4.89 CPU)
Result: PASS

------------------------------
PREREQUISITES
------------------------------

Prerequisite modules loaded:

requires:

    Module              Need     Have    
    ------------------- -------- --------
    Carp                0        1.42    
    Config              0        5.026001
    Encode              0        2.93    
    Exporter            0        5.72    
    File::Spec          0.82     3.67    
    File::Temp          0.17     0.2304  
    HTML::Entities      3.69     3.69    
    if                  0        0.0606  
    overload            0        1.28    
    parent              0.225    0.236   
    perl                5.008001 5.026001
    strict              0        1.11    
    URI                 1.76     5.27    
    utf8                0        1.19    
    warnings            0        1.37    

build_requires:

    Module              Need     Have    
    ------------------- -------- --------
    Cwd                 0        3.67    
    ExtUtils::MakeMaker 0        7.58    
    File::Find          0        1.34    
    IO::File            0        1.16    
    IO::Handle          0        1.36    
    POSIX               0        1.76    
    Test::More          0.98     1.302106
    Test::NoWarnings    0        1.04    
    Test::Warn          0.3      0.32    

configure_requires:

    Module              Need     Have    
    ------------------- -------- --------
    ExtUtils::MakeMaker 0        7.58    


------------------------------
ENVIRONMENT AND OTHER CONTEXT
------------------------------

Environment variables:

    LC_ALL = de_DE.ISO8859-1
    PATH = /usr/local/bin:/usr/bin:/bin:/usr/local/sbin:/usr/sbin:/sbin:/home/cpansand/bin/freebsd10.3:/home/cpansand/bin/sh:/home/cpansand/bin:/usr/games:/home/cpansand/devel:/home/eserte/src/srezic-misc/scripts
    PERL5LIB = /home/cpansand/.cpan/build/2024031813/URI-5.27-0/blib/arch:/home/cpansand/.cpan/build/2024031813/URI-5.27-0/blib/lib
    PERL5OPT = 
    PERL5_CPANPLUS_IS_RUNNING = 3926
    PERL5_CPAN_IS_RUNNING = 3926
    PERL5_CPAN_IS_RUNNING_IN_RECURSION = 3810,3926
    PERLDOC = -MPod::Perldoc::ToTextOverstrike
    PERL_BATCH = yes
    PERL_CANARY_STABILITY_NOPROMPT = 1
    PERL_CPAN_REPORTER_CONFIG = /var/tmp/cpansmoker-1023/2024031813/cpanreporter_000_config.ini
    PERL_EXTUTILS_AUTOINSTALL = --defaultdeps
    PERL_USE_UNSAFE_INC = 1
    SHELL = /usr/local/bin/zsh
    TERM = screen
    TMPDIR = /var/tmp/cpansmoker-1023/2024031813

Perl special variables (and OS-specific diagnostics, for MSWin32):

    $^X = /usr/perl5.26.1p/bin/perl
    $UID/$EUID = 1023 / 1023
    $GID = 1023 1023
    $EGID = 1023 1023

Perl module toolchain versions installed:

    Module              Have    
    ------------------- --------
    CPAN                2.18    
    CPAN::Meta          2.150010
    Cwd                 3.67    
    ExtUtils::CBuilder  0.280226
    ExtUtils::Command   7.58    
    ExtUtils::Install   2.06    
    ExtUtils::MakeMaker 7.58    
    ExtUtils::Manifest  1.70    
    ExtUtils::ParseXS   3.34    
    File::Spec          3.67    
    JSON                2.94    
    JSON::PP            2.94    
    Module::Build       0.4224  
    Module::Signature   0.81    
    Parse::CPAN::Meta   2.150010
    Test::Harness       3.39    
    Test::More          1.302106
    YAML                1.24    
    YAML::Syck          1.30    
    version             0.9917  


--

Summary of my perl5 (revision 5 version 26 subversion 1) configuration:
   
  Platform:
    osname=freebsd
    osvers=10.3-release-p11
    archname=amd64-freebsd
    uname='freebsd cvrsnica-freebsd-101.herceg.de 10.3-release-p11 freebsd 10.3-release-p11 #0: mon oct 24 18:49:24 utc 2016 root@amd64-builder.daemonology.net:usrobjusrsrcsysgeneric amd64 '
    config_args='-ds -e -Dprefix=/usr/perl5.26.1p -Dcf_email=srezic@cpan.org -Doptimize=-O2 -pipe'
    hint=recommended
    useposix=true
    d_sigaction=define
    useithreads=undef
    usemultiplicity=undef
    use64bitint=define
    use64bitall=define
    uselongdouble=undef
    usemymalloc=n
    default_inc_excludes_dot=define
    bincompat5005=undef
  Compiler:
    cc='cc'
    ccflags ='-DHAS_FPSETMASK -DHAS_FLOATINGPOINT_H -fno-strict-aliasing -pipe -fstack-protector -I/usr/local/include -D_FORTIFY_SOURCE=2'
    optimize='-O2 -pipe'
    cppflags='-DHAS_FPSETMASK -DHAS_FLOATINGPOINT_H -fno-strict-aliasing -pipe -fstack-protector -I/usr/local/include'
    ccversion=''
    gccversion='4.2.1 Compatible FreeBSD Clang 3.4.1 (tags/RELEASE_34/dot1-final 208032)'
    gccosandvers=''
    intsize=4
    longsize=8
    ptrsize=8
    doublesize=8
    byteorder=12345678
    doublekind=3
    d_longlong=define
    longlongsize=8
    d_longdbl=define
    longdblsize=16
    longdblkind=3
    ivtype='long'
    ivsize=8
    nvtype='double'
    nvsize=8
    Off_t='off_t'
    lseeksize=8
    alignbytes=8
    prototype=define
  Linker and Libraries:
    ld='cc'
    ldflags ='-pthread -Wl,-E  -fstack-protector -L/usr/local/lib'
    libpth=/usr/lib /usr/local/lib /usr/include/clang/3.4.1 /usr/lib
    libs=-lpthread -lgdbm -lm -lcrypt -lutil -lc -lelf
    perllibs=-lpthread -lm -lcrypt -lutil -lc -lelf
    libc=
    so=so
    useshrplib=false
    libperl=libperl.a
    gnulibc_version=''
  Dynamic Linking:
    dlsrc=dl_dlopen.xs
    dlext=so
    d_dlsymun=undef
    ccdlflags=' '
    cccdlflags='-DPIC -fPIC'
    lddlflags='-shared  -L/usr/local/lib -fstack-protector'


Characteristics of this binary (from libperl): 
  Compile-time options:
    HAS_TIMES
    PERLIO_LAYERS
    PERL_COPY_ON_WRITE
    PERL_DONT_CREATE_GVSV
    PERL_MALLOC_WRAP
    PERL_OP_PARENT
    PERL_PRESERVE_IVUV
    USE_64_BIT_ALL
    USE_64_BIT_INT
    USE_LARGE_FILES
    USE_LOCALE
    USE_LOCALE_COLLATE
    USE_LOCALE_CTYPE
    USE_LOCALE_NUMERIC
    USE_LOCALE_TIME
    USE_PERLIO
    USE_PERL_ATOF
  Built under freebsd
  Compiled at Oct 31 2017 09:43:34
  %ENV:
    PERL5LIB="/home/cpansand/.cpan/build/2024031813/URI-5.27-0/blib/arch:/home/cpansand/.cpan/build/2024031813/URI-5.27-0/blib/lib"
    PERL5OPT=""
    PERL5_CPANPLUS_IS_RUNNING="3926"
    PERL5_CPAN_IS_RUNNING="3926"
    PERL5_CPAN_IS_RUNNING_IN_RECURSION="3810,3926"
    PERLDOC="-MPod::Perldoc::ToTextOverstrike"
    PERL_BATCH="yes"
    PERL_CANARY_STABILITY_NOPROMPT="1"
    PERL_CPAN_REPORTER_CONFIG="/var/tmp/cpansmoker-1023/2024031813/cpanreporter_000_config.ini"
    PERL_EXTUTILS_AUTOINSTALL="--defaultdeps"
    PERL_USE_UNSAFE_INC="1"
  @INC:
    /home/cpansand/.cpan/build/2024031813/URI-5.27-0/blib/arch
    /home/cpansand/.cpan/build/2024031813/URI-5.27-0/blib/lib
    /usr/perl5.26.1p/lib/site_perl/5.26.1/amd64-freebsd
    /usr/perl5.26.1p/lib/site_perl/5.26.1
    /usr/perl5.26.1p/lib/5.26.1/amd64-freebsd
    /usr/perl5.26.1p/lib/5.26.1
    .