Report for Parse-CPAN-Authors-2.27

Back
From: metabase:user:30f4dfbe-2aae-11df-837a-5e0a49663a4f
Subject: PASS Parse-CPAN-Authors-2.27 v5.6.2 GNU/Linux
Date: 2011-05-05T19:04:43Z

This distribution has been tested as part of the CPAN Testers
project, supporting the Perl programming language.  See
http://wiki.cpantesters.org/ for more information or email
questions to cpan-testers-discuss@perl.org


--
Dear Leon Brocard,

This is a computer-generated report for Parse-CPAN-Authors-2.27
on perl 5.6.2, created by CPAN-Reporter-1.1902.

Thank you for uploading your work to CPAN.  Congratulations!
All tests were successful.

Sections of this report:

    * Tester comments
    * Program output
    * Prerequisites
    * Environment and other context

------------------------------
TESTER COMMENTS
------------------------------

Additional comments from tester:

this report is from an automated smoke testing program
and was not reviewed by a human for accuracy

------------------------------
PROGRAM OUTPUT
------------------------------

Output from './Build test':

t/pod.t ........... skipped: Test::Pod 1.14 required for testing POD
t/pod_coverage.t .. ok
t/simple.t ........ ok
All tests successful.
Files=3, Tests=45,  0 wallclock secs ( 0.03 usr  0.02 sys +  0.18 cusr  0.07 csys =  0.30 CPU)
Result: PASS

------------------------------
PREREQUISITES
------------------------------

Prerequisite modules loaded:

requires:

    Module                Need Have
    --------------------- ---- ----
    Class::Accessor::Fast 0    0.34
    IO::Zlib              0    1.10
    Test::Exception       0    0.31
    Test::More            0    0.98


------------------------------
ENVIRONMENT AND OTHER CONTEXT
------------------------------

Environment variables:

    AUTOMATED_TESTING = 1
    LANG = en_US.UTF-8
    PATH = /usr/bin:/bin
    PERL5LIB = /root/.cpan/build/Class-Accessor-Chained-0.01-I9jhi5/blib/arch:/root/.cpan/build/Class-Accessor-Chained-0.01-I9jhi5/blib/lib:/root/.cpan/build/Module-InstalledVersion-0.05-EqqeY1/blib/arch:/root/.cpan/build/Module-InstalledVersion-0.05-EqqeY1/blib/lib:/root/.cpan/build/CPAN-Mini-1.111006-qpVgBZ/blib/arch:/root/.cpan/build/CPAN-Mini-1.111006-qpVgBZ/blib/lib:/root/.cpan/build/CSS-Tiny-1.19-0kyDZe/blib/arch:/root/.cpan/build/CSS-Tiny-1.19-0kyDZe/blib/lib:/root/.cpan/build/File-Slurp-9999.16-J0zRLn/blib/arch:/root/.cpan/build/File-Slurp-9999.16-J0zRLn/blib/lib
    PERL5OPT = 
    PERL5_CPANPLUS_IS_RUNNING = 12924
    PERL5_CPAN_IS_RUNNING = 12924
    PERL5_MINISMOKEBOX = 0.44
    PERL_EXTUTILS_AUTOINSTALL = --defaultdeps
    PERL_MM_USE_DEFAULT = 1
    SHELL = /bin/sh

Perl special variables (and OS-specific diagnostics, for MSWin32):

    $^X = /usr/local/bin/perl5.6.2
    $UID/$EUID = 0 / 0
    $GID = 0 0
    $EGID = 0 0

Perl module toolchain versions installed:

    Module              Have  
    ------------------- ------
    CPAN                1.9600
    Cwd                 3.33  
    ExtUtils::CBuilder  0.2703
    ExtUtils::Command   1.16  
    ExtUtils::Install   1.54  
    ExtUtils::MakeMaker 6.56  
    ExtUtils::Manifest  1.58  
    ExtUtils::ParseXS   2.2206
    File::Spec          3.33  
    Module::Build       0.3800
    Module::Signature   0.66  
    Test::Harness       3.23  
    Test::More          0.98  
    YAML                n/a   
    YAML::Syck          1.17  
    version             0.88  


--

Summary of my perl5 (revision 5.0 version 6 subversion 2) configuration:
  Platform:
    osname=linux, osvers=2.6.32-5-amd64, archname=x86_64-linux
    uname='linux bandsman.dyndns-ip.com 2.6.32-5-amd64 #1 smp thu nov 25 18:02:11 utc 2010 x86_64 gnulinux '
    config_args='-de'
    hint=recommended, useposix=true, d_sigaction=define
    usethreads=undef use5005threads=undef useithreads=undef usemultiplicity=undef
    useperlio=undef d_sfio=undef uselargefiles=define usesocks=undef
    use64bitint=define use64bitall=define uselongdouble=undef
  Compiler:
    cc='cc', ccflags ='-fno-strict-aliasing -I/usr/local/include -D_LARGEFILE_SOURCE -D_FILE_OFFSET_BITS=64',
    optimize='-O2',
    cppflags='-fno-strict-aliasing -I/usr/local/include'
    ccversion='', gccversion='4.4.5', gccosandvers=''
    intsize=4, longsize=8, ptrsize=8, doublesize=8, byteorder=12345678
    d_longlong=define, longlongsize=8, d_longdbl=define, longdblsize=16
    ivtype='long', ivsize=8, nvtype='double', nvsize=8, Off_t='off_t', lseeksize=8
    alignbytes=8, usemymalloc=n, prototype=define
  Linker and Libraries:
    ld='cc', ldflags =' -L/usr/local/lib'
    libpth=/usr/local/lib /lib /usr/lib
    libs=-lnsl -ldb -ldl -lm -lc -lcrypt -lutil
    perllibs=-lnsl -ldl -lm -lc -lcrypt -lutil
    libc=/lib/libc-2.11.2.so, so=so, useshrplib=false, libperl=libperl.a
  Dynamic Linking:
    dlsrc=dl_dlopen.xs, dlext=so, d_dlsymun=undef, ccdlflags='-rdynamic'
    cccdlflags='-fpic', lddlflags='-shared -L/usr/local/lib'


Characteristics of this binary (from libperl): 
  Compile-time options: USE_64_BIT_INT USE_64_BIT_ALL USE_LARGE_FILES
  Locally applied patches:
  	SMOKE2bce2321552345ccb985b6a4b87542c3eaefbac5
  Built under linux
  Compiled at Dec  1 2010 10:04:01
  %ENV:
    PERL5LIB="/root/.cpan/build/Class-Accessor-Chained-0.01-I9jhi5/blib/arch:/root/.cpan/build/Class-Accessor-Chained-0.01-I9jhi5/blib/lib:/root/.cpan/build/Module-InstalledVersion-0.05-EqqeY1/blib/arch:/root/.cpan/build/Module-InstalledVersion-0.05-EqqeY1/blib/lib:/root/.cpan/build/CPAN-Mini-1.111006-qpVgBZ/blib/arch:/root/.cpan/build/CPAN-Mini-1.111006-qpVgBZ/blib/lib:/root/.cpan/build/CSS-Tiny-1.19-0kyDZe/blib/arch:/root/.cpan/build/CSS-Tiny-1.19-0kyDZe/blib/lib:/root/.cpan/build/File-Slurp-9999.16-J0zRLn/blib/arch:/root/.cpan/build/File-Slurp-9999.16-J0zRLn/blib/lib"
    PERL5OPT=""
    PERL5_CPANPLUS_IS_RUNNING="12924"
    PERL5_CPAN_IS_RUNNING="12924"
    PERL5_MINISMOKEBOX="0.44"
    PERL_EXTUTILS_AUTOINSTALL="--defaultdeps"
    PERL_MM_USE_DEFAULT="1"
  @INC:
    /root/.cpan/build/Class-Accessor-Chained-0.01-I9jhi5/blib/arch
    /root/.cpan/build/Class-Accessor-Chained-0.01-I9jhi5/blib/lib
    /root/.cpan/build/Module-InstalledVersion-0.05-EqqeY1/blib/arch
    /root/.cpan/build/Module-InstalledVersion-0.05-EqqeY1/blib/lib
    /root/.cpan/build/CPAN-Mini-1.111006-qpVgBZ/blib/arch
    /root/.cpan/build/CPAN-Mini-1.111006-qpVgBZ/blib/lib
    /root/.cpan/build/CSS-Tiny-1.19-0kyDZe/blib/arch
    /root/.cpan/build/CSS-Tiny-1.19-0kyDZe/blib/lib
    /root/.cpan/build/File-Slurp-9999.16-J0zRLn/blib/arch
    /root/.cpan/build/File-Slurp-9999.16-J0zRLn/blib/lib
    /usr/local/lib/perl5/5.6.2/x86_64-linux
    /usr/local/lib/perl5/5.6.2
    /usr/local/lib/perl5/site_perl/5.6.2/x86_64-linux
    /usr/local/lib/perl5/site_perl/5.6.2
    /usr/local/lib/perl5/site_perl/5.13.7
    /usr/local/lib/perl5/site_perl/5.13.6
    /usr/local/lib/perl5/site_perl/5.13.5
    /usr/local/lib/perl5/site_perl
    .