Mojolicious v9.34 Perl 5 v5.38.0 cygwin-thread-multi

Status
Pass
From
Ken Cotterill
Dist
Mojolicious v9.34
Platform
Perl 5 v5.38.0 cygwin-thread-multi
Date
2023-10-14 05:10:15
ID
8a686db2-6ca0-1014-aa4a-753a48e576eb
This distribution has been tested as part of the CPAN Testers
project, supporting the Perl programming language.  See
http://wiki.cpantesters.org/ for more information or email
questions to cpan-testers-discuss@perl.org


--
Dear Sebastian Riedel,

This is a computer-generated report for Mojolicious-9.34
on perl 5.38.0, created by CPAN-Reporter-1.2019.

Thank you for uploading your work to CPAN.  Congratulations!
All tests were successful.

Sections of this report:

    * Tester comments
    * Program output
    * Prerequisites
    * Environment and other context

------------------------------
TESTER COMMENTS
------------------------------

Additional comments from tester:

none provided

------------------------------
PROGRAM OUTPUT
------------------------------

Output from '/usr/bin/make test':

PERL_DL_NONLAZY=1 "/home/ken/perl5/perlbrew/perls/perl-5.38.0/bin/perl.exe" "-MExtUtils::Command::MM" "-MTest::Harness" "-e" "undef *Test::Harness::Switches; test_harness(0, 'blib/lib', 'blib/arch')" t/*.t t/*/*.t
t/mojo/asset.t ............................. ok
t/mojo/base.t .............................. ok
t/mojo/bytestream.t ........................ ok
t/mojo/cache.t ............................. ok
t/mojo/cgi.t ............................... ok
t/mojo/collection.t ........................ ok
t/mojo/content.t ........................... ok
t/mojo/cookie.t ............................ ok
t/mojo/cookiejar.t ......................... ok
t/mojo/daemon.t ............................ ok
t/mojo/daemon_ipv6_tls.t ................... skipped: set TEST_IPV6 to enable this test (developer only!)
t/mojo/date.t .............................. ok
t/mojo/dom.t ............................... ok
t/mojo/dynamic_methods.t ................... ok
t/mojo/eventemitter.t ...................... ok
t/mojo/exception.t ......................... ok
t/mojo/file.t .............................. ok
t/mojo/headers.t ........................... ok
t/mojo/home.t .............................. ok
t/mojo/hypnotoad.t ......................... skipped: set TEST_HYPNOTOAD to enable this test (developer only!)
t/mojo/ioloop.t ............................ ok
t/mojo/ioloop_ipv6.t ....................... skipped: set TEST_IPV6 to enable this test (developer only!)
t/mojo/ioloop_tls.t ........................ skipped: set TEST_TLS to enable this test (developer only!)
t/mojo/json.t .............................. ok
t/mojo/json_pointer.t ...................... ok
t/mojo/json_xs.t ........................... ok
Old package separator "'" deprecated at (eval 68) line 1.
t/mojo/loader.t ............................ ok
t/mojo/log.t ............................... ok
t/mojo/morbo.t ............................. skipped: set TEST_MORBO to enable this test (developer only!)
t/mojo/parameters.t ........................ ok
t/mojo/path.t .............................. ok
t/mojo/prefork.t ........................... skipped: set TEST_PREFORK to enable this test (developer only!)
t/mojo/promise.t ........................... ok
t/mojo/promise_async_await.t ............... skipped: set TEST_ASYNC_AWAIT to enable this test (developer only!)
t/mojo/proxy.t ............................. ok
t/mojo/psgi.t .............................. ok
t/mojo/reactor_detect.t .................... ok
t/mojo/reactor_ev.t ........................ skipped: set TEST_EV to enable this test (developer only!)
t/mojo/reactor_poll.t ...................... ok
t/mojo/request.t ........................... ok
t/mojo/request_cgi.t ....................... ok
t/mojo/response.t .......................... ok
t/mojo/roles.t ............................. ok
t/mojo/signatures.t ........................ ok
t/mojo/subprocess.t ........................ skipped: set TEST_SUBPROCESS to enable this test (developer only!)
t/mojo/subprocess_ev.t ..................... skipped: set TEST_SUBPROCESS to enable this test (developer only!)
t/mojo/template.t .......................... ok
t/mojo/tls.t ............................... skipped: set TEST_TLS to enable this test (developer only!)
t/mojo/transactor.t ........................ ok
t/mojo/url.t ............................... ok
t/mojo/user_agent.t ........................ ok
t/mojo/user_agent_online.t ................. skipped: set TEST_ONLINE to enable this test (developer only!)
t/mojo/user_agent_socks.t .................. skipped: set TEST_SOCKS to enable this test (developer only!)
t/mojo/user_agent_tls.t .................... skipped: set TEST_TLS to enable this test (developer only!)
t/mojo/user_agent_unix.t ................... skipped: set TEST_UNIX to enable this test (developer only!)
t/mojo/util.t .............................. ok
t/mojo/websocket.t ......................... ok
t/mojo/websocket_frames.t .................. ok
t/mojo/websocket_proxy.t ................... ok
t/mojo/websocket_proxy_tls.t ............... skipped: set TEST_TLS to enable this test (developer only!)
t/mojolicious/app.t ........................ ok
t/mojolicious/charset_lite_app.t ........... ok
t/mojolicious/command.t .................... ok
t/mojolicious/commands.t ................... ok
t/mojolicious/dispatch.t ................... ok
t/mojolicious/dispatcher_lite_app.t ........ ok
t/mojolicious/embedded_app.t ............... ok
t/mojolicious/embedded_lite_app.t .......... ok
t/mojolicious/exception_lite_app.t ......... ok
t/mojolicious/external_app.t ............... ok
t/mojolicious/external_lite_app.t .......... ok
t/mojolicious/group_lite_app.t ............. ok
t/mojolicious/json_config_lite_app.t ....... ok
t/mojolicious/json_config_mode_lite_app.t .. ok
t/mojolicious/layouted_lite_app.t .......... ok
t/mojolicious/lite_app.t ................... ok
t/mojolicious/log_lite_app.t ............... ok
t/mojolicious/longpolling_lite_app.t ....... ok
t/mojolicious/multipath_lite_app.t ......... ok
t/mojolicious/ojo.t ........................ ok
t/mojolicious/ojo_signatures.t ............. ok
t/mojolicious/pattern.t .................... ok
t/mojolicious/production_app.t ............. ok
t/mojolicious/proxy_app.t .................. ok
t/mojolicious/rebased_lite_app.t ........... ok
t/mojolicious/renderer.t ................... ok
t/mojolicious/restful_lite_app.t ........... ok
t/mojolicious/routes.t ..................... ok
t/mojolicious/signatures_lite_app.t ........ ok
t/mojolicious/static_lite_app.t ............ ok
t/mojolicious/static_prefix_lite_app.t ..... ok
t/mojolicious/tag_helper_lite_app.t ........ ok
t/mojolicious/testing_app.t ................ ok
t/mojolicious/tls_lite_app.t ............... skipped: set TEST_TLS to enable this test (developer only!)
t/mojolicious/twinkle_lite_app.t ........... ok
t/mojolicious/types.t ...................... ok
t/mojolicious/upload_lite_app.t ............ ok
t/mojolicious/upload_stream_lite_app.t ..... ok
t/mojolicious/validation_lite_app.t ........ ok
t/mojolicious/websocket_lite_app.t ......... ok
t/mojolicious/yaml_config_lite_app.t ....... ok
t/pod.t .................................... skipped: set TEST_POD to enable this test (developer only!)
t/pod_coverage.t ........................... skipped: set TEST_POD to enable this test (developer only!)
t/test/mojo.t .............................. ok
All tests successful.
Files=104, Tests=4282, 67 wallclock secs ( 0.39 usr  0.28 sys + 31.67 cusr 23.28 csys = 55.63 CPU)
Result: PASS

------------------------------
PREREQUISITES
------------------------------

Prerequisite modules loaded:

requires:

    Module              Need  Have    
    ------------------- ----- --------
    IO::Socket::IP      0.37  0.41_01 
    perl                5.016 5.038000
    Sub::Util           1.41  1.63    

build_requires:

    Module              Need  Have    
    ------------------- ----- --------
    ExtUtils::MakeMaker 0     7.70    

configure_requires:

    Module              Need  Have    
    ------------------- ----- --------
    ExtUtils::MakeMaker 0     7.70    


------------------------------
ENVIRONMENT AND OTHER CONTEXT
------------------------------

Environment variables:

    ACTIVEPERL_CONFIG_SILENT = 1
    COMSPEC = C:\WINDOWS\system32\cmd.exe
    CPAN_AUTHOR_TEST = 1
    CPAN_AUTHOR_TESTS_FOR__IAD_TKX = 1
    LANG = en_AU.UTF-8
    LC_ALL = en_AU.UTF-8
    LC_COLLATE = en_AU.UTF-8
    LC_CTYPE = en_AU.UTF-8
    LC_MESSAGES = en_AU.UTF-8
    LC_MONETARY = en_AU.UTF-8
    LC_NUMERIC = en_AU.UTF-8
    LC_TIME = en_AU.UTF-8
    NUMBER_OF_PROCESSORS = 12
    PATH = /home/ken/local/bin:/home/ken/perl5/perlbrew/bin:/home/ken/perl5/perlbrew/perls/perl-5.38.0/bin:/usr/local/bin:/usr/bin:/cygdrive/c/Program Files/NVIDIA GPU Computing Toolkit/CUDA/v11.4/bin:/cygdrive/c/Program Files/NVIDIA GPU Computing Toolkit/CUDA/v11.4/libnvvp:/cygdrive/c/Users/ken/local/opt/strawberry_perl/5_026_003/install/perl/site/bin:/cygdrive/c/Users/ken/local/opt/strawberry_perl/5_026_003/install/perl/bin:/cygdrive/c/Users/ken/local/opt/strawberry_perl/5_026_003/install/c/bin:/cygdrive/c/Program Files (x86)/Common Files/Oracle/Java/javapath:/cygdrive/c/Program Files (x86)/Intel/Intel(R) Management Engine Components/iCLS:/cygdrive/c/Program Files/Intel/Intel(R) Management Engine Components/iCLS:/cygdrive/c/Windows/system32:/cygdrive/c/Windows:/cygdrive/c/Windows/System32/Wbem:/cygdrive/c/Windows/System32/WindowsPowerShell/v1.0:/cygdrive/c/Windows/System32/OpenSSH:/cygdrive/c/Program Files/NVIDIA Corporation/NVIDIA NGX:/cygdrive/c/Program Files (x86)/OpenVPN/bin:/cygdrive/c/Program Files (x86)/Intel/Intel(R) Management Engine Components/DAL:/cygdrive/c/Program Files/Intel/Intel(R) Management Engine Components/DAL:/cygdrive/c/Program Files (x86)/Intel/Intel(R) Management Engine Components/IPT:/cygdrive/c/Program Files/Intel/Intel(R) Management Engine Components/IPT:/cygdrive/c/WINDOWS/system32:/cygdrive/c/WINDOWS:/cygdrive/c/WINDOWS/System32/Wbem:/cygdrive/c/WINDOWS/System32/WindowsPowerShell/v1.0:/cygdrive/c/WINDOWS/System32/OpenSSH:/cygdrive/c/Program Files (x86)/Universal Extractor:/cygdrive/c/Program Files (x86)/Universal Extractor/bin:/cygdrive/c/Program Files/Git/cmd:/cygdrive/c/Program Files (x86)/DArTtoolbox/bin:/cygdrive/c/Program Files/NVIDIA Corporation/Nsight Compute 2021.2.0:/cygdrive/c/Program Files (x86)/NVIDIA Corporation/PhysX/Common:/cygdrive/c/Program Files/NVIDIA Corporation/NVIDIA NvDLISR:/cygdrive/c/Program Files (x86)/Calibre2:/cygdrive/c/Users/ken/AppData/Local/Microsoft/WindowsApps:/cygdrive/c/Users/ken/local/bin:/cygdrive/c/Program Files (x86)/Graphviz2.38/bin:/cygdrive/c/Users/ken/AppData/Local/Pandoc:/usr/lib/lapack:/home/ken/.rakubrew/bin
    PERL5LIB = 
    PERL5OPT = 
    PERL5_CPANPLUS_IS_RUNNING = 334
    PERL5_CPAN_IS_RUNNING = 334
    PERLBREW_HOME = /home/ken/.perlbrew
    PERLBREW_MANPATH = /home/ken/perl5/perlbrew/perls/perl-5.38.0/man
    PERLBREW_PATH = /home/ken/perl5/perlbrew/bin:/home/ken/perl5/perlbrew/perls/perl-5.38.0/bin
    PERLBREW_PERL = perl-5.38.0
    PERLBREW_ROOT = /home/ken/perl5/perlbrew
    PERLBREW_SHELLRC_VERSION = 0.86
    PERLBREW_VERSION = 0.86
    PERL_READLINE_NOWARN = 1
    PERL_USE_UNSAFE_INC = 1
    PROCESSOR_IDENTIFIER = Intel64 Family 6 Model 158 Stepping 10, GenuineIntel
    SHELL = /bin/bash
    TEMP = /tmp
    TERM = xterm

Perl special variables (and OS-specific diagnostics, for MSWin32):

    $^X = /home/ken/perl5/perlbrew/perls/perl-5.38.0/bin/perl
    $UID/$EUID = 197610 / 197610
    $GID = 197121 197121 559 545 4 66049 11 15 113 4095 66048 262154 401408
    $EGID = 197121 197121 559 545 4 66049 11 15 113 4095 66048 262154 401408

Perl module toolchain versions installed:

    Module              Have    
    ------------------- --------
    CPAN                2.36    
    CPAN::Meta          2.150010
    Cwd                 3.89    
    ExtUtils::CBuilder  0.280238
    ExtUtils::Command   7.70    
    ExtUtils::Install   2.22    
    ExtUtils::MakeMaker 7.70    
    ExtUtils::Manifest  1.73    
    ExtUtils::ParseXS   3.51    
    File::Spec          3.88    
    JSON                4.10    
    JSON::PP            4.16    
    Module::Build       0.4234  
    Module::Signature   n/a     
    Parse::CPAN::Meta   2.150010
    Test2               1.302194
    Test::Harness       3.44    
    Test::More          1.302194
    YAML                1.30    
    YAML::Syck          n/a     
    version             0.9929  


--

Summary of my perl5 (revision 5 version 38 subversion 0) configuration:
   
  Platform:
    osname=cygwin
    osvers=3.4.7-1.x86_64
    archname=cygwin-thread-multi
    uname='cygwin_nt-10.0-19045 titan 3.4.7-1.x86_64 2023-06-16 14:04 utc x86_64 cygwin '
    config_args='-de -Dprefix=/home/ken/perl5/perlbrew/perls/perl-5.38.0 -Aeval:scriptdir=/home/ken/perl5/perlbrew/perls/perl-5.38.0/bin'
    hint=recommended
    useposix=true
    d_sigaction=define
    useithreads=define
    usemultiplicity=define
    use64bitint=define
    use64bitall=define
    uselongdouble=undef
    usemymalloc=n
    default_inc_excludes_dot=define
  Compiler:
    cc='gcc'
    ccflags ='-U__STRICT_ANSI__ -D_GNU_SOURCE -fwrapv -fno-strict-aliasing -pipe -fstack-protector-strong -D_FORTIFY_SOURCE=2'
    optimize='-O3'
    cppflags='-U__STRICT_ANSI__ -D_GNU_SOURCE -fwrapv -fno-strict-aliasing -pipe -fstack-protector-strong'
    ccversion=''
    gccversion='11.4.0'
    gccosandvers=''
    intsize=4
    longsize=8
    ptrsize=8
    doublesize=8
    byteorder=12345678
    doublekind=3
    d_longlong=define
    longlongsize=8
    d_longdbl=define
    longdblsize=16
    longdblkind=3
    ivtype='long'
    ivsize=8
    nvtype='double'
    nvsize=8
    Off_t='off_t'
    lseeksize=8
    alignbytes=8
    prototype=define
  Linker and Libraries:
    ld='g++'
    ldflags =' -Wl,--enable-auto-import -Wl,--export-all-symbols -Wl,--enable-auto-image-base -fstack-protector-strong -L/usr/local/lib'
    libpth=/usr/lib /usr/lib/w32api /usr/local/lib /lib
    libs=-lpthread -lgdbm -ldb -ldl -lcrypt -lgdbm_compat
    perllibs=-lpthread -ldl -lcrypt
    libc=/usr/lib/libcygwin.a
    so=dll
    useshrplib=true
    libperl=cygperl5_38_0.dll
    gnulibc_version=''
  Dynamic Linking:
    dlsrc=dl_dlopen.xs
    dlext=dll
    d_dlsymun=undef
    ccdlflags=' '
    cccdlflags=' '
    lddlflags=' --shared  -Wl,--enable-auto-import -Wl,--export-all-symbols -Wl,--enable-auto-image-base -L/usr/local/lib -fstack-protector-strong'


Characteristics of this binary (from libperl): 
  Compile-time options:
    HAS_LONG_DOUBLE
    HAS_STRTOLD
    HAS_TIMES
    MULTIPLICITY
    PERLIO_LAYERS
    PERL_COPY_ON_WRITE
    PERL_DONT_CREATE_GVSV
    PERL_HASH_FUNC_SIPHASH13
    PERL_HASH_USE_SBOX32
    PERL_OP_PARENT
    PERL_PRESERVE_IVUV
    PERL_USE_SAFE_PUTENV
    USE_64_BIT_ALL
    USE_64_BIT_INT
    USE_ITHREADS
    USE_LARGE_FILES
    USE_LOCALE
    USE_LOCALE_COLLATE
    USE_LOCALE_CTYPE
    USE_LOCALE_NUMERIC
    USE_LOCALE_TIME
    USE_PERLIO
    USE_PERL_ATOF
    USE_REENTRANT_API
  Built under cygwin
  Compiled at Jul  8 2023 21:18:30
  %ENV:
    PERL5LIB=""
    PERL5OPT=""
    PERL5_CPANPLUS_IS_RUNNING="334"
    PERL5_CPAN_IS_RUNNING="334"
    PERLBREW_HOME="/home/ken/.perlbrew"
    PERLBREW_MANPATH="/home/ken/perl5/perlbrew/perls/perl-5.38.0/man"
    PERLBREW_PATH="/home/ken/perl5/perlbrew/bin:/home/ken/perl5/perlbrew/perls/perl-5.38.0/bin"
    PERLBREW_PERL="perl-5.38.0"
    PERLBREW_ROOT="/home/ken/perl5/perlbrew"
    PERLBREW_SHELLRC_VERSION="0.86"
    PERLBREW_VERSION="0.86"
    PERL_READLINE_NOWARN="1"
    PERL_USE_UNSAFE_INC="1"
  @INC:
    /home/ken/perl5/perlbrew/perls/perl-5.38.0/lib/site_perl/5.38.0/cygwin-thread-multi
    /home/ken/perl5/perlbrew/perls/perl-5.38.0/lib/site_perl/5.38.0
    /home/ken/perl5/perlbrew/perls/perl-5.38.0/lib/5.38.0/cygwin-thread-multi
    /home/ken/perl5/perlbrew/perls/perl-5.38.0/lib/5.38.0
    .