Report for App-Cache-0.37

Back
From: metabase:user:3cbc927e-631a-11e0-89fb-833c4e052cdf
Subject: PASS App-Cache-0.37 v5.12.3 Mac OS X
Date: 2011-06-12T15:56:35Z

This distribution has been tested as part of the CPAN Testers
project, supporting the Perl programming language.  See
http://wiki.cpantesters.org/ for more information or email
questions to cpan-testers-discuss@perl.org


--
Dear Leon Brocard,

This is a computer-generated report for App-Cache-0.37
on perl 5.12.3, created by CPAN-Reporter-1.1902.

Thank you for uploading your work to CPAN.  Congratulations!
All tests were successful.

Sections of this report:

    * Tester comments
    * Program output
    * Prerequisites
    * Environment and other context

------------------------------
TESTER COMMENTS
------------------------------

Additional comments from tester:

none provided

------------------------------
PROGRAM OUTPUT
------------------------------

Output from '/usr/bin/make test':

PERL_DL_NONLAZY=1 /opt/local/bin/perl "-MExtUtils::Command::MM" "-e" "test_harness(0, 'blib/lib', 'blib/arch')" t/*.t
t/pod.t ........... ok
t/pod_coverage.t .. ok
t/simple.t ........ ok
All tests successful.
Files=3, Tests=50,  8 wallclock secs ( 0.03 usr  0.01 sys +  0.40 cusr  0.07 csys =  0.51 CPU)
Result: PASS

------------------------------
PREREQUISITES
------------------------------

Prerequisite modules loaded:

requires:

    Module                         Need Have
    ------------------------------ ---- ----
    Class::Accessor::Chained::Fast 0    0   
    File::Find::Rule               0    0.32
    File::HomeDir                  0    0.97
    File::stat                     0    1.02
    HTTP::Cookies                  0    6.00
    LWP::UserAgent                 0    6.02
    Path::Class                    0    0.23
    Storable                       0    2.22
    Test::More                     0    0.98

configure_requires:

    Module                         Need Have
    ------------------------------ ---- ----
    ExtUtils::MakeMaker            0    6.56


------------------------------
ENVIRONMENT AND OTHER CONTEXT
------------------------------

Environment variables:

    LANG = en_US.UTF-8
    LC_ALL = C
    LC_CTYPE = en_US.utf8
    PATH = /Users/rkitover/perl5/perlbrew/bin:/Users/rkitover/bin:/Users/rkitover/perl5/bin:/Users/rkitover/instantclient:/usr/local/bin:/opt/local/bin:/usr/bin:/bin:/usr/sbin:/sbin:/opt/X11/bin:/usr/X11/bin
    PATH_WITHOUT_PERLBREW = /Users/rkitover/bin:/Users/rkitover/perl5/bin:/Users/rkitover/instantclient:/usr/local/bin:/opt/local/bin:/usr/bin:/bin:/usr/sbin:/sbin:/opt/X11/bin:/usr/X11/bin
    PERL5LIB = /Users/rkitover/perl5/lib/perl5/darwin-multi-2level:/Users/rkitover/perl5/lib/perl5
    PERL5OPT = 
    PERL5_CPANPLUS_IS_RUNNING = 72532
    PERL5_CPAN_IS_RUNNING = 72532
    PERLBREW_PATH = /Users/rkitover/perl5/perlbrew/bin
    PERLBREW_ROOT = /Users/rkitover/perl5/perlbrew
    PERLBREW_VERSION = 0.20
    PERLDB_OPTS = NonStop
    PERL_AUTOINSTALL_PREFER_CPAN = 1
    PERL_BADLANG = 0
    PERL_CPANM_OPT = --sudo --notest --mirror http://cpan.cpantesters.org/
    PERL_LOCAL_LIB_ROOT = /Users/rkitover/perl5
    PERL_MB_OPT = --install_base /Users/rkitover/perl5
    PERL_MM_OPT = INSTALL_BASE=/Users/rkitover/perl5
    SHELL = zsh
    TERM = screen-256color
    TMPDIR = /var/folders/ne/neiDk+FUEbiO1chKdMBNNU+++TI/-Tmp-/

Perl special variables (and OS-specific diagnostics, for MSWin32):

    $^X = /opt/local/bin/perl
    $UID/$EUID = 501 / 501
    $GID = 20 20 402 501 204 100 98 81 80 79 61 12 401 403 404 504 502
    $EGID = 20 20 402 501 204 100 98 81 80 79 61 12 401 403 404 504 502

Perl module toolchain versions installed:

    Module              Have    
    ------------------- --------
    CPAN                1.9600  
    Cwd                 3.33    
    ExtUtils::CBuilder  0.280202
    ExtUtils::Command   1.16    
    ExtUtils::Install   1.55    
    ExtUtils::MakeMaker 6.56    
    ExtUtils::Manifest  1.57    
    ExtUtils::ParseXS   2.21    
    File::Spec          3.33    
    Module::Build       0.3800  
    Module::Signature   n/a     
    Test::Harness       3.23    
    Test::More          0.98    
    YAML                0.73    
    YAML::Syck          n/a     
    version             0.88    


--

Summary of my perl5 (revision 5 version 12 subversion 3) configuration:
   
  Platform:
    osname=darwin, osvers=10.7.0, archname=darwin-multi-2level
    uname='darwin macmini.local 10.7.0 darwin kernel version 10.7.0: sat jan 29 15:17:16 pst 2011; root:xnu-1504.9.37~1release_i386 i386 '
    config_args='-D inc_version_list=5.12.2/darwin-multi-2level 5.12.2 5.12.1/darwin-multi-2level 5.12.1 5.12.0/darwin-multi-2level 5.12.0 -des -Dprefix=/opt/local -Dscriptdir=/opt/local/bin -Dcppflags=-I/opt/local/include -Dccflags=-pipe -O2 -arch x86_64 -Dldflags=-L/opt/local/lib -arch x86_64 -Dvendorprefix=/opt/local -Dusemultiplicity=y -D cc=/usr/bin/gcc-4.2 -D ld=/usr/bin/gcc-4.2 -D man1ext=1pm -D man3ext=3pm -D man1dir=/opt/local/share/man/man1p -D man3dir=/opt/local/share/man/man3p -D siteman1dir=/opt/local/share/man/man1 -D siteman3dir=/opt/local/share/man/man3 -D vendorman1dir=/opt/local/share/man/man1 -D vendorman3dir=/opt/local/share/man/man3 -D pager=/usr/bin/less -sR'
    hint=recommended, useposix=true, d_sigaction=define
    useithreads=undef, usemultiplicity=define
    useperlio=define, d_sfio=undef, uselargefiles=define, usesocks=undef
    use64bitint=define, use64bitall=define, uselongdouble=undef
    usemymalloc=n, bincompat5005=undef
  Compiler:
    cc='/usr/bin/gcc-4.2', ccflags ='-pipe -O2 -arch x86_64 -fno-common -DPERL_DARWIN -I/opt/local/include -no-cpp-precomp -fno-strict-aliasing -fstack-protector -I/opt/local/include',
    optimize='-O3',
    cppflags='-I/opt/local/include -no-cpp-precomp -pipe -O2 -arch x86_64 -fno-common -DPERL_DARWIN -I/opt/local/include -no-cpp-precomp -fno-strict-aliasing -fstack-protector -I/opt/local/include'
    ccversion='', gccversion='4.2.1 (Apple Inc. build 5666) (dot 3)', gccosandvers=''
    intsize=4, longsize=8, ptrsize=8, doublesize=8, byteorder=12345678
    d_longlong=define, longlongsize=8, d_longdbl=define, longdblsize=16
    ivtype='long', ivsize=8, nvtype='double', nvsize=8, Off_t='off_t', lseeksize=8
    alignbytes=8, prototype=define
  Linker and Libraries:
    ld='env MACOSX_DEPLOYMENT_TARGET=10.6 /usr/bin/gcc-4.2', ldflags ='-L/opt/local/lib -arch x86_64 -fstack-protector'
    libpth=/opt/local/lib /usr/lib
    libs=-ldbm -ldl -lm -lutil -lc
    perllibs=-ldl -lm -lutil -lc
    libc=/usr/lib/libc.dylib, so=dylib, useshrplib=false, libperl=libperl.a
    gnulibc_version=''
  Dynamic Linking:
    dlsrc=dl_dlopen.xs, dlext=bundle, d_dlsymun=undef, ccdlflags=' '
    cccdlflags=' ', lddlflags='-L/opt/local/lib -arch x86_64 -bundle -undefined dynamic_lookup -fstack-protector'


Characteristics of this binary (from libperl): 
  Compile-time options: MULTIPLICITY PERL_DONT_CREATE_GVSV
                        PERL_IMPLICIT_CONTEXT PERL_MALLOC_WRAP USE_64_BIT_ALL
                        USE_64_BIT_INT USE_LARGE_FILES USE_PERLIO
                        USE_PERL_ATOF
  Built under darwin
  Compiled at Apr  6 2011 20:07:26
  %ENV:
    PERL5LIB="/Users/rkitover/perl5/lib/perl5/darwin-multi-2level:/Users/rkitover/perl5/lib/perl5"
    PERL5OPT=""
    PERL5_CPANPLUS_IS_RUNNING="72532"
    PERL5_CPAN_IS_RUNNING="72532"
    PERLBREW_PATH="/Users/rkitover/perl5/perlbrew/bin"
    PERLBREW_ROOT="/Users/rkitover/perl5/perlbrew"
    PERLBREW_VERSION="0.20"
    PERLDB_OPTS="NonStop"
    PERL_AUTOINSTALL_PREFER_CPAN="1"
    PERL_BADLANG="0"
    PERL_CPANM_OPT="--sudo --notest --mirror http://cpan.cpantesters.org/"
    PERL_LOCAL_LIB_ROOT="/Users/rkitover/perl5"
    PERL_MB_OPT="--install_base /Users/rkitover/perl5"
    PERL_MM_OPT="INSTALL_BASE=/Users/rkitover/perl5"
  @INC:
    /Users/rkitover/perl5/lib/perl5/darwin-multi-2level
    /Users/rkitover/perl5/lib/perl5/darwin-multi-2level
    /Users/rkitover/perl5/lib/perl5
    /opt/local/lib/perl5/site_perl/5.12.3/darwin-multi-2level
    /opt/local/lib/perl5/site_perl/5.12.3
    /opt/local/lib/perl5/vendor_perl/5.12.3/darwin-multi-2level
    /opt/local/lib/perl5/vendor_perl/5.12.3
    /opt/local/lib/perl5/5.12.3/darwin-multi-2level
    /opt/local/lib/perl5/5.12.3
    /opt/local/lib/perl5/site_perl
    /opt/local/lib/perl5/vendor_perl
    .