Report for Import-Base-0.010

Back
From: metabase:user:838e5b0a-2bb6-1016-a696-43a2537fa0c6
Subject: PASS Import-Base-0.010 v5.14.4 GNU/Linux
Date: 2014-12-25T08:46:42Z

This distribution has been tested as part of the CPAN Testers
project, supporting the Perl programming language.  See
http://wiki.cpantesters.org/ for more information or email
questions to cpan-testers-discuss@perl.org


--
Dear Doug Bell,

This is a computer-generated report for Import-Base-0.010
on perl 5.14.4, created by CPAN-Reporter-1.2011.

Thank you for uploading your work to CPAN.  Congratulations!
All tests were successful.

Sections of this report:

    * Tester comments
    * Program output
    * Prerequisites
    * Environment and other context

------------------------------
TESTER COMMENTS
------------------------------

Additional comments from tester:

this report is from an automated smoke testing program
and was not reviewed by a human for accuracy

------------------------------
PROGRAM OUTPUT
------------------------------

Output from './Build test':

t/00_compile.t .. ok
Use of uninitialized value $this in pattern match (m//) at t/base.t line 83.
Use of uninitialized value $this in pattern match (m//) at t/base.t line 217.
t/base.t ........ ok
t/exclude.t ..... ok
Use of uninitialized value $this in pattern match (m//) at t/order.t line 58.
Use of uninitialized value $this in pattern match (m//) at t/order.t line 115.
t/order.t ....... ok
Use of uninitialized value $this in pattern match (m//) at t/subrefs.t line 42.
Use of uninitialized value $this in pattern match (m//) at t/subrefs.t line 43.
Use of uninitialized value $this in pattern match (m//) at t/subrefs.t line 100.
Use of uninitialized value $this in pattern match (m//) at t/subrefs.t line 101.
t/subrefs.t ..... ok
All tests successful.
Files=5, Tests=10,  0 wallclock secs ( 0.03 usr  0.04 sys +  0.14 cusr  0.06 csys =  0.27 CPU)
Result: PASS

------------------------------
PREREQUISITES
------------------------------

Prerequisite modules loaded:

requires:

    Module              Need     Have    
    ------------------- -------- --------
    Import::Into        1.002000 1.002004
    Module::Runtime     0        0.014   
    mro                 0        1.07    
    perl                5.010    5.014004
    strict              0        1.04    
    warnings            0        1.12    

build_requires:

    Module              Need     Have    
    ------------------- -------- --------
    Carp                0        1.20    
    Module::Build       0.28     0.3800  
    Test::Compile       0        v1.2.1  
    Test::More          0        0.98    

configure_requires:

    Module              Need     Have    
    ------------------- -------- --------
    ExtUtils::MakeMaker 0        6.57_05 
    Module::Build       0.28     0.3800  


------------------------------
ENVIRONMENT AND OTHER CONTEXT
------------------------------

Environment variables:

    AUTOMATED_TESTING = 1
    LANG = en_US.UTF-8
    PATH = /home/perluser/perl5/perlbrew/bin:/home/perluser/perl5/perlbrew/perls/perl-5.14.4/bin:/usr/local/bin:/usr/bin:/bin:/usr/local/games:/usr/games
    PERL5LIB = /home/perluser/.cpan/build/Test-Compile-v1.2.1-PqUw57/blib/arch:/home/perluser/.cpan/build/Test-Compile-v1.2.1-PqUw57/blib/lib:/home/perluser/.cpan/build/UNIVERSAL-require-0.17-waLm3J/blib/arch:/home/perluser/.cpan/build/UNIVERSAL-require-0.17-waLm3J/blib/lib:/home/perluser/.cpan/build/Import-Into-1.002004-bUcfaC/blib/arch:/home/perluser/.cpan/build/Import-Into-1.002004-bUcfaC/blib/lib:/home/perluser/.cpan/build/Module-Runtime-0.014-lEshuL/blib/arch:/home/perluser/.cpan/build/Module-Runtime-0.014-lEshuL/blib/lib
    PERL5OPT = 
    PERL5_CPANPLUS_IS_RUNNING = 30069
    PERL5_CPAN_IS_RUNNING = 30069
    PERL5_CPAN_IS_RUNNING_IN_RECURSION = 25799,30069
    PERLBREW_BASHRC_VERSION = 0.71
    PERLBREW_HOME = /home/perluser/.perlbrew
    PERLBREW_MANPATH = /home/perluser/perl5/perlbrew/perls/perl-5.14.4/man
    PERLBREW_PATH = /home/perluser/perl5/perlbrew/bin:/home/perluser/perl5/perlbrew/perls/perl-5.14.4/bin
    PERLBREW_PERL = perl-5.14.4
    PERLBREW_ROOT = /home/perluser/perl5/perlbrew
    PERLBREW_VERSION = 0.71
    PERL_CR_SMOKER_CURRENT = Import-Base-0.010
    PERL_EXTUTILS_AUTOINSTALL = --defaultdeps
    PERL_MM_USE_DEFAULT = 1
    SHELL = /bin/bash
    TERM = xterm

Perl special variables (and OS-specific diagnostics, for MSWin32):

    $^X = /home/perluser/perl5/perlbrew/perls/perl-5.14.4/bin/perl
    $UID/$EUID = 1001 / 1001
    $GID = 1001 1001
    $EGID = 1001 1001

Perl module toolchain versions installed:

    Module              Have     
    ------------------- ---------
    CPAN                1.9600_01
    CPAN::Meta          2.110440 
    Cwd                 3.36     
    ExtUtils::CBuilder  0.280203 
    ExtUtils::Command   1.17     
    ExtUtils::Install   1.56     
    ExtUtils::MakeMaker 6.57_05  
    ExtUtils::Manifest  1.58     
    ExtUtils::ParseXS   2.2210   
    File::Spec          3.33     
    JSON                2.90     
    JSON::PP            2.27105  
    Module::Build       0.3800   
    Module::Signature   n/a      
    Parse::CPAN::Meta   1.4401   
    Test::Harness       3.23     
    Test::More          0.98     
    YAML                n/a      
    YAML::Syck          n/a      
    version             0.88     


--

Summary of my perl5 (revision 5 version 14 subversion 4) configuration:
   
  Platform:
    osname=linux, osvers=3.2.0-4-amd64, archname=x86_64-linux
    uname='linux csi-nyp-lensrv 3.2.0-4-amd64 #1 smp debian 3.2.60-1+deb7u1 x86_64 gnulinux '
    config_args='-de -Dprefix=/home/perluser/perl5/perlbrew/perls/perl-5.14.4 -Aeval:scriptdir=/home/perluser/perl5/perlbrew/perls/perl-5.14.4/bin'
    hint=recommended, useposix=true, d_sigaction=define
    useithreads=undef, usemultiplicity=undef
    useperlio=define, d_sfio=undef, uselargefiles=define, usesocks=undef
    use64bitint=define, use64bitall=define, uselongdouble=undef
    usemymalloc=n, bincompat5005=undef
  Compiler:
    cc='cc', ccflags ='-fno-strict-aliasing -pipe -fstack-protector -I/usr/local/include -D_LARGEFILE_SOURCE -D_FILE_OFFSET_BITS=64',
    optimize='-O2',
    cppflags='-fno-strict-aliasing -pipe -fstack-protector -I/usr/local/include'
    ccversion='', gccversion='4.7.2', gccosandvers=''
    intsize=4, longsize=8, ptrsize=8, doublesize=8, byteorder=12345678
    d_longlong=define, longlongsize=8, d_longdbl=define, longdblsize=16
    ivtype='long', ivsize=8, nvtype='double', nvsize=8, Off_t='off_t', lseeksize=8
    alignbytes=8, prototype=define
  Linker and Libraries:
    ld='cc', ldflags =' -fstack-protector -L/usr/local/lib'
    libpth=/usr/local/lib /lib/x86_64-linux-gnu /lib/../lib /usr/lib/x86_64-linux-gnu /usr/lib/../lib /lib /usr/lib
    libs=-lnsl -ldl -lm -lcrypt -lutil -lc
    perllibs=-lnsl -ldl -lm -lcrypt -lutil -lc
    libc=libc-2.13.so, so=so, useshrplib=false, libperl=libperl.a
    gnulibc_version='2.13'
  Dynamic Linking:
    dlsrc=dl_dlopen.xs, dlext=so, d_dlsymun=undef, ccdlflags='-Wl,-E'
    cccdlflags='-fPIC', lddlflags='-shared -O2 -L/usr/local/lib -fstack-protector'


Characteristics of this binary (from libperl): 
  Compile-time options: PERL_DONT_CREATE_GVSV PERL_MALLOC_WRAP
                        PERL_PRESERVE_IVUV USE_64_BIT_ALL USE_64_BIT_INT
                        USE_LARGE_FILES USE_PERLIO USE_PERL_ATOF
  Built under linux
  Compiled at Nov  8 2014 23:39:25
  %ENV:
    PERL5LIB="/home/perluser/.cpan/build/Test-Compile-v1.2.1-PqUw57/blib/arch:/home/perluser/.cpan/build/Test-Compile-v1.2.1-PqUw57/blib/lib:/home/perluser/.cpan/build/UNIVERSAL-require-0.17-waLm3J/blib/arch:/home/perluser/.cpan/build/UNIVERSAL-require-0.17-waLm3J/blib/lib:/home/perluser/.cpan/build/Import-Into-1.002004-bUcfaC/blib/arch:/home/perluser/.cpan/build/Import-Into-1.002004-bUcfaC/blib/lib:/home/perluser/.cpan/build/Module-Runtime-0.014-lEshuL/blib/arch:/home/perluser/.cpan/build/Module-Runtime-0.014-lEshuL/blib/lib"
    PERL5OPT=""
    PERL5_CPANPLUS_IS_RUNNING="30069"
    PERL5_CPAN_IS_RUNNING="30069"
    PERL5_CPAN_IS_RUNNING_IN_RECURSION="25799,30069"
    PERLBREW_BASHRC_VERSION="0.71"
    PERLBREW_HOME="/home/perluser/.perlbrew"
    PERLBREW_MANPATH="/home/perluser/perl5/perlbrew/perls/perl-5.14.4/man"
    PERLBREW_PATH="/home/perluser/perl5/perlbrew/bin:/home/perluser/perl5/perlbrew/perls/perl-5.14.4/bin"
    PERLBREW_PERL="perl-5.14.4"
    PERLBREW_ROOT="/home/perluser/perl5/perlbrew"
    PERLBREW_VERSION="0.71"
    PERL_CR_SMOKER_CURRENT="Import-Base-0.010"
    PERL_EXTUTILS_AUTOINSTALL="--defaultdeps"
    PERL_MM_USE_DEFAULT="1"
  @INC:
    /home/perluser/.cpan/build/Test-Compile-v1.2.1-PqUw57/blib/arch
    /home/perluser/.cpan/build/Test-Compile-v1.2.1-PqUw57/blib/lib
    /home/perluser/.cpan/build/UNIVERSAL-require-0.17-waLm3J/blib/arch
    /home/perluser/.cpan/build/UNIVERSAL-require-0.17-waLm3J/blib/lib
    /home/perluser/.cpan/build/Import-Into-1.002004-bUcfaC/blib/arch
    /home/perluser/.cpan/build/Import-Into-1.002004-bUcfaC/blib/lib
    /home/perluser/.cpan/build/Module-Runtime-0.014-lEshuL/blib/arch
    /home/perluser/.cpan/build/Module-Runtime-0.014-lEshuL/blib/lib
    /home/perluser/perl5/perlbrew/perls/perl-5.14.4/lib/site_perl/5.14.4/x86_64-linux
    /home/perluser/perl5/perlbrew/perls/perl-5.14.4/lib/site_perl/5.14.4
    /home/perluser/perl5/perlbrew/perls/perl-5.14.4/lib/5.14.4/x86_64-linux
    /home/perluser/perl5/perlbrew/perls/perl-5.14.4/lib/5.14.4
    .