Mojo-Promise-Limitter v0.001 Perl 5 v5.30.2 amd64-freebsd-thread-multi

Status
Pass
From
Slaven Rezić (SREZIC)
Dist
Mojo-Promise-Limitter v0.001
Platform
Perl 5 v5.30.2 amd64-freebsd-thread-multi
Date
2020-05-06T13:14:43
ID
8d13e238-8f9b-11ea-a195-546d1f24ea8f
This distribution has been tested as part of the CPAN Testers
project, supporting the Perl programming language.  See
http://wiki.cpantesters.org/ for more information or email
questions to cpan-testers-discuss@perl.org


--
Dear Shoichi Kaji,

This is a computer-generated report for Mojo-Promise-Limitter-0.001
on perl 5.30.2, created by CPAN-Reporter-1.2018.

Thank you for uploading your work to CPAN.  Congratulations!
All tests were successful.

Sections of this report:

    * Tester comments
    * Program output
    * Prerequisites
    * Environment and other context

------------------------------
TESTER COMMENTS
------------------------------

Additional comments from tester:

none provided

------------------------------
PROGRAM OUTPUT
------------------------------

Output from './Build test':

t/00_use.t ............. ok
t/01_basic.t ........... ok
t/02_basic.t ........... ok
t/author-pod-syntax.t .. skipped: these tests are for testing by the author
All tests successful.
Files=4, Tests=7,  3 wallclock secs ( 0.06 usr  0.04 sys +  1.09 cusr  0.34 csys =  1.53 CPU)
Result: PASS

------------------------------
PREREQUISITES
------------------------------

Prerequisite modules loaded:

requires:

    Module              Need    Have    
    ------------------- ------- --------
    Mojolicious         8.42    8.42    
    perl                v5.10.1 5.030002

configure_requires:

    Module              Need    Have    
    ------------------- ------- --------
    Module::Build::Tiny 0.034   0.039   


------------------------------
ENVIRONMENT AND OTHER CONTEXT
------------------------------

Environment variables:

    PATH = /usr/local/bin:/usr/bin:/bin:/usr/local/sbin:/usr/sbin:/sbin:/home/cpansand/bin/sh:/home/cpansand/bin:/usr/games:/home/cpansand/devel:/usr/home/eserte/src/srezic-misc/scripts
    PERL5LIB = /home/cpansand/.cpan/build/2020050613/Mojolicious-8.42-0/blib/arch:/home/cpansand/.cpan/build/2020050613/Mojolicious-8.42-0/blib/lib:/home/cpansand/.cpan/build/2020050613/Module-Build-Tiny-0.039-0/blib/arch:/home/cpansand/.cpan/build/2020050613/Module-Build-Tiny-0.039-0/blib/lib:/home/cpansand/.cpan/build/2020050613/ExtUtils-InstallPaths-0.012-0/blib/arch:/home/cpansand/.cpan/build/2020050613/ExtUtils-InstallPaths-0.012-0/blib/lib:/home/cpansand/.cpan/build/2020050613/ExtUtils-Helpers-0.026-0/blib/arch:/home/cpansand/.cpan/build/2020050613/ExtUtils-Helpers-0.026-0/blib/lib:/home/cpansand/.cpan/build/2020050613/ExtUtils-Config-0.008-0/blib/arch:/home/cpansand/.cpan/build/2020050613/ExtUtils-Config-0.008-0/blib/lib
    PERL5OPT = 
    PERL5_CPANPLUS_IS_RUNNING = 2490
    PERL5_CPAN_IS_RUNNING = 2490
    PERL5_CPAN_IS_RUNNING_IN_RECURSION = 96394,2490
    PERL_BATCH = yes
    PERL_CANARY_STABILITY_NOPROMPT = 1
    PERL_CPAN_REPORTER_CONFIG = /var/tmp/cpansmoker-1023/2020050612/cpanreporter_000_config.ini
    PERL_EXTUTILS_AUTOINSTALL = --defaultdeps
    PERL_USE_UNSAFE_INC = 1
    SHELL = /bin/sh
    TMPDIR = /var/tmp/cpansmoker-1023/2020050612

Perl special variables (and OS-specific diagnostics, for MSWin32):

    $^X = /usr/local/bin/perl
    $UID/$EUID = 1023 / 1023
    $GID = 1023 1023
    $EGID = 1023 1023

Perl module toolchain versions installed:

    Module              Have    
    ------------------- --------
    CPAN                2.22    
    CPAN::Meta          2.150010
    Cwd                 3.78    
    ExtUtils::CBuilder  0.280231
    ExtUtils::Command   7.34    
    ExtUtils::Install   2.14    
    ExtUtils::MakeMaker 7.34    
    ExtUtils::Manifest  1.72    
    ExtUtils::ParseXS   3.40    
    File::Spec          3.78    
    JSON                n/a     
    JSON::PP            4.02    
    Module::Build       0.4231  
    Module::Signature   n/a     
    Parse::CPAN::Meta   2.150010
    Test::Harness       3.42    
    Test::More          1.302162
    YAML                n/a     
    YAML::Syck          1.32    
    version             0.9924  


--

Summary of my perl5 (revision 5 version 30 subversion 2) configuration:
   
  Platform:
    osname=freebsd
    osvers=13.0-current
    archname=amd64-freebsd-thread-multi
    uname='freebsd head-amd64-default-job-01 13.0-current freebsd 13.0-current 1300084 amd64 '
    config_args='-sde -Dprefix=/usr/local -Dlibperl=libperl.so.5.30.2 -Darchlib=/usr/local/lib/perl5/5.30/mach -Dprivlib=/usr/local/lib/perl5/5.30 -Dman3dir=/usr/local/lib/perl5/5.30/perl/man/man3 -Dman1dir=/usr/local/lib/perl5/5.30/perl/man/man1 -Dsitearch=/usr/local/lib/perl5/site_perl/mach/5.30 -Dsitelib=/usr/local/lib/perl5/site_perl -Dscriptdir=/usr/local/bin -Dsiteman3dir=/usr/local/lib/perl5/site_perl/man/man3 -Dsiteman1dir=/usr/local/lib/perl5/site_perl/man/man1 -Ui_malloc -Ui_iconv -Uinstallusrbinperl -Dusenm=n -Dcc=cc -Duseshrplib -Dinc_version_list=none -Dcf_by=mat -Dcf_email=mat@FreeBSD.org -Dcf_time=Sat Mar 14 17:05:13 UTC 2020 -Alddlflags=-L/wrkdirs/usr/ports/lang/perl5.30/work/perl-5.30.2 -L/usr/local/lib/perl5/5.30/mach/CORE -lperl -Dshrpldflags=$(LDDLFLAGS:N-L/wrkdirs/usr/ports/lang/perl5.30/work/perl-5.30.2:N-L/usr/local/lib/perl5/5.30/mach/CORE:N-lperl) -Wl,-soname,$(LIBPERL:R) -Doptimize=-O2 -pipe  -fstack-protector-strong -fno-strict-aliasing  -Dusedtrace -Ui_gdbm -Dusemultiplicity=y -Duse64bitint -Dusemymalloc=n -Dusethreads=y -Accflags=-DUSE_THREAD_SAFE_LOCALE'
    hint=recommended
    useposix=true
    d_sigaction=define
    useithreads=define
    usemultiplicity=define
    use64bitint=define
    use64bitall=define
    uselongdouble=undef
    usemymalloc=n
    default_inc_excludes_dot=define
    bincompat5005=undef
  Compiler:
    cc='cc'
    ccflags ='-DHAS_FPSETMASK -DHAS_FLOATINGPOINT_H -DUSE_THREAD_SAFE_LOCALE -fno-strict-aliasing -pipe -fstack-protector-strong -I/usr/local/include'
    optimize='-O2 -pipe -fstack-protector-strong -fno-strict-aliasing '
    cppflags='-DHAS_FPSETMASK -DHAS_FLOATINGPOINT_H -DUSE_THREAD_SAFE_LOCALE -fno-strict-aliasing -pipe -fstack-protector-strong -I/usr/local/include'
    ccversion=''
    gccversion='FreeBSD Clang 10.0.0 (git@github.com:llvm/llvm-project.git llvmorg-10.0.0-rc4-5-g52c365aa9ca)'
    gccosandvers=''
    intsize=4
    longsize=8
    ptrsize=8
    doublesize=8
    byteorder=12345678
    doublekind=3
    d_longlong=define
    longlongsize=8
    d_longdbl=define
    longdblsize=16
    longdblkind=3
    ivtype='long'
    ivsize=8
    nvtype='double'
    nvsize=8
    Off_t='off_t'
    lseeksize=8
    alignbytes=8
    prototype=define
  Linker and Libraries:
    ld='cc'
    ldflags ='-pthread -Wl,-E  -fstack-protector-strong -L/usr/local/lib'
    libpth=/usr/lib /usr/local/lib /usr/lib/clang/10.0.0/lib /usr/lib
    libs=-lpthread -lm -lcrypt -lutil
    perllibs=-lpthread -lm -lcrypt -lutil
    libc=
    so=so
    useshrplib=true
    libperl=libperl.so.5.30.2
    gnulibc_version=''
  Dynamic Linking:
    dlsrc=dl_dlopen.xs
    dlext=so
    d_dlsymun=undef
    ccdlflags='  -Wl,-R/usr/local/lib/perl5/5.30/mach/CORE'
    cccdlflags='-DPIC -fPIC'
    lddlflags='-shared  -L/usr/local/lib/perl5/5.30/mach/CORE -lperl -L/usr/local/lib -fstack-protector-strong'


Characteristics of this binary (from libperl): 
  Compile-time options:
    HAS_TIMES
    MULTIPLICITY
    PERLIO_LAYERS
    PERL_COPY_ON_WRITE
    PERL_DONT_CREATE_GVSV
    PERL_IMPLICIT_CONTEXT
    PERL_MALLOC_WRAP
    PERL_OP_PARENT
    PERL_PRESERVE_IVUV
    USE_64_BIT_ALL
    USE_64_BIT_INT
    USE_ITHREADS
    USE_LARGE_FILES
    USE_LOCALE
    USE_LOCALE_COLLATE
    USE_LOCALE_CTYPE
    USE_LOCALE_NUMERIC
    USE_LOCALE_TIME
    USE_PERLIO
    USE_PERL_ATOF
    USE_REENTRANT_API
    USE_THREAD_SAFE_LOCALE
  Built under freebsd
  %ENV:
    PERL5LIB="/home/cpansand/.cpan/build/2020050613/Mojolicious-8.42-0/blib/arch:/home/cpansand/.cpan/build/2020050613/Mojolicious-8.42-0/blib/lib:/home/cpansand/.cpan/build/2020050613/Module-Build-Tiny-0.039-0/blib/arch:/home/cpansand/.cpan/build/2020050613/Module-Build-Tiny-0.039-0/blib/lib:/home/cpansand/.cpan/build/2020050613/ExtUtils-InstallPaths-0.012-0/blib/arch:/home/cpansand/.cpan/build/2020050613/ExtUtils-InstallPaths-0.012-0/blib/lib:/home/cpansand/.cpan/build/2020050613/ExtUtils-Helpers-0.026-0/blib/arch:/home/cpansand/.cpan/build/2020050613/ExtUtils-Helpers-0.026-0/blib/lib:/home/cpansand/.cpan/build/2020050613/ExtUtils-Config-0.008-0/blib/arch:/home/cpansand/.cpan/build/2020050613/ExtUtils-Config-0.008-0/blib/lib"
    PERL5OPT=""
    PERL5_CPANPLUS_IS_RUNNING="2490"
    PERL5_CPAN_IS_RUNNING="2490"
    PERL5_CPAN_IS_RUNNING_IN_RECURSION="96394,2490"
    PERL_BATCH="yes"
    PERL_CANARY_STABILITY_NOPROMPT="1"
    PERL_CPAN_REPORTER_CONFIG="/var/tmp/cpansmoker-1023/2020050612/cpanreporter_000_config.ini"
    PERL_EXTUTILS_AUTOINSTALL="--defaultdeps"
    PERL_USE_UNSAFE_INC="1"
  @INC:
    /home/cpansand/.cpan/build/2020050613/Mojolicious-8.42-0/blib/arch
    /home/cpansand/.cpan/build/2020050613/Mojolicious-8.42-0/blib/lib
    /home/cpansand/.cpan/build/2020050613/Module-Build-Tiny-0.039-0/blib/arch
    /home/cpansand/.cpan/build/2020050613/Module-Build-Tiny-0.039-0/blib/lib
    /home/cpansand/.cpan/build/2020050613/ExtUtils-InstallPaths-0.012-0/blib/arch
    /home/cpansand/.cpan/build/2020050613/ExtUtils-InstallPaths-0.012-0/blib/lib
    /home/cpansand/.cpan/build/2020050613/ExtUtils-Helpers-0.026-0/blib/arch
    /home/cpansand/.cpan/build/2020050613/ExtUtils-Helpers-0.026-0/blib/lib
    /home/cpansand/.cpan/build/2020050613/ExtUtils-Config-0.008-0/blib/arch
    /home/cpansand/.cpan/build/2020050613/ExtUtils-Config-0.008-0/blib/lib
    /usr/local/lib/perl5/site_perl/mach/5.30
    /usr/local/lib/perl5/site_perl
    /usr/local/lib/perl5/5.30/mach
    /usr/local/lib/perl5/5.30
    .