Test-WWW-Mechanize-Catalyst v0.60 Perl 5 v5.26.1 x86_64-linux

Status
Pass
From
Dist
Test-WWW-Mechanize-Catalyst v0.60
Platform
Perl 5 v5.26.1 x86_64-linux
Date
2018-11-01 12:35:03
ID
8e6cb24e-ddd2-11e8-9ceb-17e90622e7d2
This distribution has been tested as part of the CPAN Testers
project, supporting the Perl programming language.  See
http://wiki.cpantesters.org/ for more information or email
questions to cpan-testers-discuss@perl.org


--
Dear JJNAPIORK,

This is a computer-generated report for Test-WWW-Mechanize-Catalyst-0.60
on perl 5.26.1, created by App::cpanminus::reporter 0.17 (1.7043).

Thank you for uploading your work to CPAN.  Congratulations!
All tests were successful.

Sections of this report:

    * Tester comments
    * Program output
    * Prerequisites
    * Environment and other context

------------------------------
TESTER COMMENTS
------------------------------

Additional comments from tester:

none provided

------------------------------
PROGRAM OUTPUT
------------------------------

Output from '':

Building and testing Test-WWW-Mechanize-Catalyst-0.60
cp lib/Test/WWW/Mechanize/Catalyst.pm blib/lib/Test/WWW/Mechanize/Catalyst.pm
Manifying 1 pod document
PERL_DL_NONLAZY=1 "/home/julien/perl5/perlbrew/perls/perl-5.26.1/bin/perl" "-MExtUtils::Command::MM" "-MTest::Harness" "-e" "undef *Test::Harness::Switches; test_harness(0, 'inc', 'blib/lib', 'blib/arch')" t/*.t
t/auth-test.t ........... ok
t/cookies.t ............. ok
t/decoded_content.t ..... ok
# 
# ###################################################################
# Starting an external Catalyst HTTP server on port 7357
# To change the port, please set the TWMC_TEST_PORT env variable.
# (The server will be automatically shut-down right after the tests).
# ###################################################################
HTTP::Server::PSGI: Accepting connections at http://0:7357/
t/multi_content_type.t .. ok
t/pod.t ................. ok
t/redirect.t ............ ok
Trouble trying to detect your terminal size, looking at $ENV{COLUMNS}
Cannot determine desired terminal width, using default of 80 columns
t/simple.t .............. ok
t/two_app.t ............. ok
t/useragent.t ........... ok
t/utf8.t ................ ok
t/white_label.t ......... ok
All tests successful.
Files=11, Tests=109, 15 wallclock secs ( 0.03 usr  0.01 sys +  4.35 cusr  0.27 csys =  4.66 CPU)
Result: PASS

------------------------------
PREREQUISITES
------------------------------

Prerequisite modules loaded:

    No requirements found

------------------------------
ENVIRONMENT AND OTHER CONTEXT
------------------------------

Environment variables:

    LANG = en_GB.UTF-8
    LANGUAGE = en_GB:en
    PATH = /home/julien/perl5/perlbrew/bin:/home/julien/perl5/perlbrew/perls/perl-5.26.1/bin:/home/julien/bin:/home/julien/.local/bin:/usr/local/sbin:/usr/local/bin:/usr/sbin:/usr/bin:/sbin:/bin:/usr/games:/usr/local/games:/snap/bin
    PERLBREW_HOME = /home/julien/.perlbrew
    PERLBREW_MANPATH = /home/julien/perl5/perlbrew/perls/perl-5.26.1/man
    PERLBREW_PATH = /home/julien/perl5/perlbrew/bin:/home/julien/perl5/perlbrew/perls/perl-5.26.1/bin
    PERLBREW_PERL = perl-5.26.1
    PERLBREW_ROOT = /home/julien/perl5/perlbrew
    PERLBREW_SHELLRC_VERSION = 0.82
    PERLBREW_VERSION = 0.82
    SHELL = /bin/bash
    TERM = xterm

Perl special variables (and OS-specific diagnostics, for MSWin32):

    EGID = 1000 4 4 20 24 24 25 27 29 30 46 46 113 128 133 1000
    EUID = 1000
    EXECUTABLE_NAME = /home/julien/perl5/perlbrew/perls/perl-5.26.1/bin/perl
    GID = 1000 4 4 20 24 24 25 27 29 30 46 46 113 128 133 1000
    UID = 1000

Perl module toolchain versions installed:

    Module              Have      
    ------------------- ----------
    CPAN                2.18      
    CPAN::Meta          2.150010  
    Cwd                 3.67      
    ExtUtils::CBuilder  0.280225  
    ExtUtils::Command   7.34      
    ExtUtils::Install   2.06      
    ExtUtils::MakeMaker 7.34      
    ExtUtils::Manifest  1.70      
    ExtUtils::ParseXS   3.34      
    File::Spec          3.67      
    JSON                2.97001   
    JSON::PP            2.27400_02
    Module::Build       0.4224    
    Module::Signature   n/a       
    Parse::CPAN::Meta   2.150010  
    Test::Harness       3.38      
    Test::More          1.302133  
    YAML                1.24      
    YAML::Syck          1.30      
    version             0.9917    


--

Summary of my perl5 (revision 5 version 26 subversion 1) configuration:
   
  Platform:
    osname=linux
    osvers=4.13.0-36-generic
    archname=x86_64-linux
    uname='linux julienfiegehenn 4.13.0-36-generic #40~16.04.1-ubuntu smp fri feb 16 23:25:58 utc 2018 x86_64 x86_64 x86_64 gnulinux '
    config_args='-de -Dprefix=/home/julien/perl5/perlbrew/perls/perl-5.26.1 -Aeval:scriptdir=/home/julien/perl5/perlbrew/perls/perl-5.26.1/bin'
    hint=recommended
    useposix=true
    d_sigaction=define
    useithreads=undef
    usemultiplicity=undef
    use64bitint=define
    use64bitall=define
    uselongdouble=undef
    usemymalloc=n
    default_inc_excludes_dot=define
    bincompat5005=undef
  Compiler:
    cc='cc'
    ccflags ='-fwrapv -fno-strict-aliasing -pipe -fstack-protector-strong -I/usr/local/include -D_LARGEFILE_SOURCE -D_FILE_OFFSET_BITS=64'
    optimize='-O2'
    cppflags='-fwrapv -fno-strict-aliasing -pipe -fstack-protector-strong -I/usr/local/include'
    ccversion=''
    gccversion='5.4.0 20160609'
    gccosandvers=''
    intsize=4
    longsize=8
    ptrsize=8
    doublesize=8
    byteorder=12345678
    doublekind=3
    d_longlong=define
    longlongsize=8
    d_longdbl=define
    longdblsize=16
    longdblkind=3
    ivtype='long'
    ivsize=8
    nvtype='double'
    nvsize=8
    Off_t='off_t'
    lseeksize=8
    alignbytes=8
    prototype=define
  Linker and Libraries:
    ld='cc'
    ldflags =' -fstack-protector-strong -L/usr/local/lib'
    libpth=/usr/local/lib /usr/lib/gcc/x86_64-linux-gnu/5/include-fixed /usr/include/x86_64-linux-gnu /usr/lib /lib/x86_64-linux-gnu /lib/../lib /usr/lib/x86_64-linux-gnu /usr/lib/../lib /lib
    libs=-lpthread -lnsl -ldl -lm -lcrypt -lutil -lc
    perllibs=-lpthread -lnsl -ldl -lm -lcrypt -lutil -lc
    libc=libc-2.23.so
    so=so
    useshrplib=false
    libperl=libperl.a
    gnulibc_version='2.23'
  Dynamic Linking:
    dlsrc=dl_dlopen.xs
    dlext=so
    d_dlsymun=undef
    ccdlflags='-Wl,-E'
    cccdlflags='-fPIC'
    lddlflags='-shared -O2 -L/usr/local/lib -fstack-protector-strong'


Characteristics of this binary (from libperl): 
  Compile-time options:
    HAS_TIMES
    PERLIO_LAYERS
    PERL_COPY_ON_WRITE
    PERL_DONT_CREATE_GVSV
    PERL_MALLOC_WRAP
    PERL_OP_PARENT
    PERL_PRESERVE_IVUV
    USE_64_BIT_ALL
    USE_64_BIT_INT
    USE_LARGE_FILES
    USE_LOCALE
    USE_LOCALE_COLLATE
    USE_LOCALE_CTYPE
    USE_LOCALE_NUMERIC
    USE_LOCALE_TIME
    USE_PERLIO
    USE_PERL_ATOF
  Locally applied patches:
    Devel::PatchPerl 1.48
  Built under linux
  Compiled at Mar 12 2018 10:48:46
  %ENV:
    PERLBREW_HOME="/home/julien/.perlbrew"
    PERLBREW_MANPATH="/home/julien/perl5/perlbrew/perls/perl-5.26.1/man"
    PERLBREW_PATH="/home/julien/perl5/perlbrew/bin:/home/julien/perl5/perlbrew/perls/perl-5.26.1/bin"
    PERLBREW_PERL="perl-5.26.1"
    PERLBREW_ROOT="/home/julien/perl5/perlbrew"
    PERLBREW_SHELLRC_VERSION="0.82"
    PERLBREW_VERSION="0.82"
  @INC:
    /home/julien/perl5/perlbrew/perls/perl-5.26.1/lib/site_perl/5.26.1/x86_64-linux
    /home/julien/perl5/perlbrew/perls/perl-5.26.1/lib/site_perl/5.26.1
    /home/julien/perl5/perlbrew/perls/perl-5.26.1/lib/5.26.1/x86_64-linux
    /home/julien/perl5/perlbrew/perls/perl-5.26.1/lib/5.26.1