Report for Sys-SigAction-0.15

Back
From: metabase:user:322078bc-2aae-11df-837a-5e0a49663a4f
Subject: PASS Sys-SigAction-0.15 v5.10.1 NetBSD
Date: 2011-07-28T21:07:11Z

This distribution has been tested as part of the CPAN Testers
project, supporting the Perl programming language.  See
http://wiki.cpantesters.org/ for more information or email
questions to cpan-testers-discuss@perl.org


--

Dear Lincoln A Baxter,

This is a computer-generated error report created automatically by
CPANPLUS, version 0.9109. Testers personal comments may appear
at the end of this report.

MAKE TEST passed: PERL_DL_NONLAZY=1 /opt/perl-5.10.1/bin/perl "-MExtUtils::Command::MM" "-e" "test_harness(0, 'blib/lib', 'blib/arch')" t/*.t
t/mask.t ..... ok
t/name.t ..... ok
t/nested.t ... ok
t/number.t ... ok

         
         NOTE: Setting safe=>1... with masked signals does not seem to work.
         The problem is that the masked signals are not masked, but when
         safe=>0 they are.  

         If you have an application for safe=>1 and can come up with 
         a test that works in the context of this module's installation
         please send me a patch to safe.t that tests it.
         
         See the block below this one... which if executed would test safe mode
         with masked signals... it is a clone of part of mask.t that proves this
         is broken.

         Lincoln
         
t/safe.t ..... ok
# testing fractional second timeout
t/timeout.t .. ok
All tests successful.
Files=6, Tests=35,  7 wallclock secs ( 0.13 usr  0.09 sys +  2.13 cusr  0.20 csys =  2.55 CPU)
Result: PASS

[MSG] [Thu Jul 28 22:07:11 2011] Sending test report for 'Sys-SigAction-0.15'

This report was machine-generated by CPANPLUS::Dist::YACSmoke 0.64.

------------------------------
ENVIRONMENT AND OTHER CONTEXT
------------------------------

Environment variables:

    AUTOMATED_TESTING = 1
    PATH = /sbin:/usr/sbin:/bin:/usr/bin:/usr/pkg/sbin:/usr/pkg/bin:/usr/X11R6/bin:/usr/local/sbin:/usr/local/bin
    PERL5LIB = :/opt/perl-5.10.1/.cpanplus/5.10.1/build/Sys-SigAction-0.15/blib/lib:/opt/perl-5.10.1/.cpanplus/5.10.1/build/Sys-SigAction-0.15/blib/arch
    PERL5_CPANIDX_URL = http://conker.bingosnet.co.uk/cpanidx/
    PERL5_CPANPLUS_IS_RUNNING = 9419
    PERL5_CPANPLUS_IS_VERSION = 0.9109
    PERL_EXTUTILS_AUTOINSTALL = --defaultdeps
    PERL_MM_USE_DEFAULT = 1
    SHELL = /bin/ksh
    TERM = screen

Perl special variables (and OS-specific diagnostics, for MSWin32):

    Perl: $^X = /opt/perl-5.10.1/bin/perl
    UID:  $<  = 0
    EUID: $>  = 0
    GID:  $(  = 0 0 2 3 4 5 20 31
    EGID: $)  = 0 0 2 3 4 5 20 31


-------------------------------


--

Summary of my perl5 (revision 5 version 10 subversion 1) configuration:
   
  Platform:
    osname=netbsd, osvers=3.1, archname=i386-netbsd
    uname='netbsd canker.bingosnet.co.uk 3.1 netbsd 3.1 (generic_laptop) #0: tue oct 31 04:32:05 utc 2006 builds@b0.netbsd.org:homebuildsabnetbsd-3-1-releasei386200610302053z-objhomebuildsabnetbsd-3-1-releasesrcsysarchi386compilegeneric_laptop i386 '
    config_args='-de -Dprefix=/opt/perl-5.10.1 -Dusemallocwrap=y -Dusemymalloc=n'
    hint=recommended, useposix=true, d_sigaction=define
    useithreads=undef, usemultiplicity=undef
    useperlio=define, d_sfio=undef, uselargefiles=define, usesocks=undef
    use64bitint=undef, use64bitall=undef, uselongdouble=undef
    usemymalloc=n, bincompat5005=undef
  Compiler:
    cc='cc', ccflags ='-fno-strict-aliasing -pipe -I/usr/pkg/include',
    optimize='-O',
    cppflags='-fno-strict-aliasing -pipe -I/usr/pkg/include'
    ccversion='', gccversion='3.3.3 (NetBSD nb3 20040520)', gccosandvers=''
    intsize=4, longsize=4, ptrsize=4, doublesize=8, byteorder=1234
    d_longlong=define, longlongsize=8, d_longdbl=define, longdblsize=12
    ivtype='long', ivsize=4, nvtype='double', nvsize=8, Off_t='off_t', lseeksize=8
    alignbytes=4, prototype=define
  Linker and Libraries:
    ld='cc', ldflags =' -Wl,-rpath,/usr/pkg/lib -Wl,-rpath,/usr/local/lib -L/usr/pkg/lib -L/usr/local/lib'
    libpth=/usr/pkg/lib /usr/local/lib /lib /usr/lib
    libs=-lgdbm -lm -lcrypt -lutil -lc -lposix
    perllibs=-lm -lcrypt -lutil -lc -lposix
    libc=/lib/libc.so, so=so, useshrplib=false, libperl=libperl.a
    gnulibc_version=''
  Dynamic Linking:
    dlsrc=dl_dlopen.xs, dlext=so, d_dlsymun=undef, ccdlflags='-Wl,-E '
    cccdlflags='-DPIC -fPIC ', lddlflags='--whole-archive -shared  -L/usr/pkg/lib -L/usr/local/lib'


Characteristics of this binary (from libperl): 
  Compile-time options: PERL_DONT_CREATE_GVSV PERL_MALLOC_WRAP
                        USE_LARGE_FILES USE_PERLIO
  Built under netbsd
  Compiled at Aug 24 2009 08:25:42
  %ENV:
    PERL5LIB=":/opt/perl-5.10.1/.cpanplus/5.10.1/build/Sys-SigAction-0.15/blib/lib:/opt/perl-5.10.1/.cpanplus/5.10.1/build/Sys-SigAction-0.15/blib/arch"
    PERL5_CPANIDX_URL="http://conker.bingosnet.co.uk/cpanidx/"
    PERL5_CPANPLUS_IS_RUNNING="9419"
    PERL5_CPANPLUS_IS_VERSION="0.9109"
    PERL_EXTUTILS_AUTOINSTALL="--defaultdeps"
    PERL_MM_USE_DEFAULT="1"
  @INC:
    /opt/perl-5.10.1/.cpanplus/5.10.1/build/Sys-SigAction-0.15/blib/lib
    /opt/perl-5.10.1/.cpanplus/5.10.1/build/Sys-SigAction-0.15/blib/arch
    /opt/perl-5.10.1/lib/5.10.1/i386-netbsd
    /opt/perl-5.10.1/lib/5.10.1
    /opt/perl-5.10.1/lib/site_perl/5.10.1/i386-netbsd
    /opt/perl-5.10.1/lib/site_perl/5.10.1
    .