Report for Test-WWW-Mechanize-Catalyst-0.59

Back
From: metabase:user:5f77f54e-6c0d-1014-966e-55cac1b3e646
Subject: PASS Test-WWW-Mechanize-Catalyst-0.59 v5.16.3 
Date: 2014-08-19T18:15:34Z

This distribution has been tested as part of the CPAN Testers
project, supporting the Perl programming language.  See
http://wiki.cpantesters.org/ for more information or email
questions to cpan-testers-discuss@perl.org


--
Dear Dagfinn Ilmari Mannsaker,

This is a computer-generated report for Test-WWW-Mechanize-Catalyst-0.59
on perl 5.16.3, created by CPAN-Reporter-1.2011.

Thank you for uploading your work to CPAN.  Congratulations!
All tests were successful.

Sections of this report:

    * Tester comments
    * Program output
    * Prerequisites
    * Environment and other context

------------------------------
TESTER COMMENTS
------------------------------

Additional comments from tester:

none provided

------------------------------
PROGRAM OUTPUT
------------------------------

Output from 'C:\VS10\VC\bin\nmake.exe test':


Microsoft (R) Program Maintenance Utility Version 10.00.30319.01
Copyright (C) Microsoft Corporation.  All rights reserved.

	C:\Perl\bin\perl.EXE "-MExtUtils::Command::MM" "-MTest::Harness" "-e" "undef *Test::Harness::Switches; test_harness(0, 'inc', 'blib\lib', 'blib\arch')" t/*.t
Class::MOP::load_class is deprecated at C:/Perl/site/lib/Class/MOP.pm line 71.
	Class::MOP::load_class("Catalyst::Dispatcher") called at C:/Perl/site/lib/Catalyst.pm line 2643
	Catalyst::setup_dispatcher("Catty", undef) called at C:/Perl/site/lib/Catalyst.pm line 1111
	Catalyst::setup("Catty") called at t/lib/Catty.pm line 14
	require Catty.pm called at C:/Perl/site/lib/Module/Runtime.pm line 317
	Module::Runtime::require_module("Catty") called at C:/Perl/lib/Class/Load.pm line 177
	Class::Load::try {...} () called at C:/Perl/lib/Try/Tiny.pm line 78
	eval {...} called at C:/Perl/lib/Try/Tiny.pm line 74
	Try::Tiny::try(CODE(0x32f91d4), Try::Tiny::Catch=REF(0x346d57c)) called at C:/Perl/lib/Class/Load.pm line 183
	Class::Load::try_load_class("Catty", undef) called at C:/Perl/lib/Class/Load.pm line 38
	Class::Load::load_class("Catty") called at lib/Test/WWW/Mechanize/Catalyst.pm line 245
	Test::WWW::Mechanize::Catalyst::import("Test::WWW::Mechanize::Catalyst", "Catty") called at t/auth-test.t line 7
	main::BEGIN() called at t/lib/Catty.pm line 0
	eval {...} called at t/lib/Catty.pm line 0
Class::MOP::is_class_loaded is deprecated at C:/Perl/site/lib/Class/MOP.pm line 89.
	Class::MOP::is_class_loaded("Catalyst::Stats") called at C:/Perl/site/lib/Catalyst/Utils.pm line 298
	Catalyst::Utils::ensure_class_loaded("Catalyst::Stats") called at C:/Perl/site/lib/Catalyst.pm line 2918
	Catalyst::setup_stats("Catty", undef) called at C:/Perl/site/lib/Catalyst.pm line 1116
	Catalyst::setup("Catty") called at t/lib/Catty.pm line 14
	require Catty.pm called at C:/Perl/site/lib/Module/Runtime.pm line 317
	Module::Runtime::require_module("Catty") called at C:/Perl/lib/Class/Load.pm line 177
	Class::Load::try {...} () called at C:/Perl/lib/Try/Tiny.pm line 78
	eval {...} called at C:/Perl/lib/Try/Tiny.pm line 74
	Try::Tiny::try(CODE(0x32f91d4), Try::Tiny::Catch=REF(0x346d57c)) called at C:/Perl/lib/Class/Load.pm line 183
	Class::Load::try_load_class("Catty", undef) called at C:/Perl/lib/Class/Load.pm line 38
	Class::Load::load_class("Catty") called at lib/Test/WWW/Mechanize/Catalyst.pm line 245
	Test::WWW::Mechanize::Catalyst::import("Test::WWW::Mechanize::Catalyst", "Catty") called at t/auth-test.t line 7
	main::BEGIN() called at t/lib/Catty.pm line 0
	eval {...} called at t/lib/Catty.pm line 0
Class::MOP::is_class_loaded is deprecated at C:/Perl/site/lib/Class/MOP.pm line 89.
	Class::MOP::is_class_loaded("Catty") called at C:/Perl/site/lib/Catalyst/Component.pm line 94
	Catalyst::Component::BUILDARGS("Catty::Controller::Root", "Catty", HASH(0x3d2320c)) called at C:/Perl/site/lib/Moose/Role.pm line 79
	Moose::Role::super() called at C:/Perl/site/lib/Catalyst/Component/ApplicationAttribute.pm line 14
	Catalyst::Component::ApplicationAttribute::__ANON__("Catty::Controller::Root", "Catty", HASH(0x3d2320c)) called at C:/Perl/site/lib/Moose/Meta/Method/Overridden.pm line 40
	Catalyst::Controller::BUILDARGS("Catty::Controller::Root", "Catty", HASH(0x3d2320c)) called at C:/Perl/site/lib/Moose/Object.pm line 24
	Moose::Object::new("Catty::Controller::Root", "Catty", HASH(0x3d2320c)) called at constructor Catalyst::Controller::new (defined at C:/Perl/site/lib/Catalyst/Controller.pm line 585) line 4
	Catalyst::Controller::new("Catty::Controller::Root", "Catty", HASH(0x3d2320c)) called at C:/Perl/site/lib/Catalyst/Component.pm line 121
	Catalyst::Component::COMPONENT("Catty::Controller::Root", "Catty", HASH(0x3d2320c)) called at C:/Perl/site/lib/Catalyst.pm line 2600
	eval {...} called at C:/Perl/site/lib/Catalyst.pm line 2600
	Catalyst::setup_component("Catty", "Catty::Controller::Root") called at C:/Perl/site/lib/Catalyst.pm line 2527
	Catalyst::setup_components("Catty") called at C:/Perl/site/lib/Catalyst.pm line 1177
	Catalyst::setup("Catty") called at t/lib/Catty.pm line 14
	require Catty.pm called at C:/Perl/site/lib/Module/Runtime.pm line 317
	Module::Runtime::require_module("Catty") called at C:/Perl/lib/Class/Load.pm line 177
	Class::Load::try {...} () called at C:/Perl/lib/Try/Tiny.pm line 78
	eval {...} called at C:/Perl/lib/Try/Tiny.pm line 74
	Try::Tiny::try(CODE(0x32f91d4), Try::Tiny::Catch=REF(0x346d57c)) called at C:/Perl/lib/Class/Load.pm line 183
	Class::Load::try_load_class("Catty", undef) called at C:/Perl/lib/Class/Load.pm line 38
	Class::Load::load_class("Catty") called at lib/Test/WWW/Mechanize/Catalyst.pm line 245
	Test::WWW::Mechanize::Catalyst::import("Test::WWW::Mechanize::Catalyst", "Catty") called at t/auth-test.t line 7
	main::BEGIN() called at t/lib/Catty.pm line 0
	eval {...} called at t/lib/Catty.pm line 0
Class::MOP::load_class is deprecated at C:/Perl/site/lib/Class/MOP.pm line 71.
	Class::MOP::load_class("Catalyst::DispatchType::Index") called at C:/Perl/site/lib/Catalyst/Dispatcher.pm line 661
	eval {...} called at C:/Perl/site/lib/Catalyst/Dispatcher.pm line 661
	Catalyst::Dispatcher::_load_dispatch_types(Catalyst::Dispatcher=HASH(0x3af300c), "Index", "Path", "Regex") called at C:/Perl/site/lib/Catalyst/Dispatcher.pm line 601
	Catalyst::Dispatcher::setup_actions(Catalyst::Dispatcher=HASH(0x3af300c), "Catty") called at C:/Perl/site/lib/Catalyst.pm line 2487
	Catalyst::setup_actions("Catty") called at C:/Perl/site/lib/Catalyst.pm line 1195
	Catalyst::setup("Catty") called at t/lib/Catty.pm line 14
	require Catty.pm called at C:/Perl/site/lib/Module/Runtime.pm line 317
	Module::Runtime::require_module("Catty") called at C:/Perl/lib/Class/Load.pm line 177
	Class::Load::try {...} () called at C:/Perl/lib/Try/Tiny.pm line 78
	eval {...} called at C:/Perl/lib/Try/Tiny.pm line 74
	Try::Tiny::try(CODE(0x32f91d4), Try::Tiny::Catch=REF(0x346d57c)) called at C:/Perl/lib/Class/Load.pm line 183
	Class::Load::try_load_class("Catty", undef) called at C:/Perl/lib/Class/Load.pm line 38
	Class::Load::load_class("Catty") called at lib/Test/WWW/Mechanize/Catalyst.pm line 245
	Test::WWW::Mechanize::Catalyst::import("Test::WWW::Mechanize::Catalyst", "Catty") called at t/auth-test.t line 7
	main::BEGIN() called at t/lib/Catty.pm line 0
	eval {...} called at t/lib/Catty.pm line 0
Class::MOP::load_class is deprecated at C:/Perl/site/lib/Class/MOP.pm line 71.
	Class::MOP::load_class("Catalyst::Action") called at C:/Perl/site/lib/Catalyst/Controller.pm line 320
	Catalyst::Controller::action_class(Catty::Controller::Root=HASH(0x3d4a434), "namespace", "", "name", "_DISPATCH", "class", "Catty::Controller::Root", "attributes", HASH(0x385569c), ...) called at C:/Perl/site/lib/Catalyst/Controller.pm line 328
	Catalyst::Controller::create_action(Catty::Controller::Root=HASH(0x3d4a434), "name", "_DISPATCH", "code", CODE(0x3850444), "reverse", "_DISPATCH", "namespace", "", ...) called at C:/Perl/site/lib/Catalyst/Controller.pm line 285
	Catalyst::Controller::register_action_methods(Catty::Controller::Root=HASH(0x3d4a434), "Catty", Moose::Meta::Class::__ANON__::SERIAL::7=HASH(0x3d3c544), Moose::Meta::Class::__ANON__::SERIAL::7=HASH(0x3d39c0c), Moose::Meta::Class::__ANON__::SERIAL::7=HASH(0x3d39fd4), Moose::Meta::Class::__ANON__::SERIAL::7=HASH(0x3d3b5ec), Moose::Meta::Class::__ANON__::SERIAL::7=HASH(0x3d3a2c4), Moose::Meta::Class::__ANON__::SERIAL::7=HASH(0x3d298ac), Moose::Meta::Class::__ANON__::SERIAL::7=HASH(0x3d45a7c), ...) called at C:/Perl/site/lib/Catalyst/Controller.pm line 254
	Catalyst::Controller::register_actions(Catty::Controller::Root=HASH(0x3d4a434), "Catty") called at C:/Perl/site/lib/Catalyst/Dispatcher.pm line 605
	Catalyst::Dispatcher::setup_actions(Catalyst::Dispatcher=HASH(0x3af300c), "Catty") called at C:/Perl/site/lib/Catalyst.pm line 2487
	Catalyst::setup_actions("Catty") called at C:/Perl/site/lib/Catalyst.pm line 1195
	Catalyst::setup("Catty") called at t/lib/Catty.pm line 14
	require Catty.pm called at C:/Perl/site/lib/Module/Runtime.pm line 317
	Module::Runtime::require_module("Catty") called at C:/Perl/lib/Class/Load.pm line 177
	Class::Load::try {...} () called at C:/Perl/lib/Try/Tiny.pm line 78
	eval {...} called at C:/Perl/lib/Try/Tiny.pm line 74
	Try::Tiny::try(CODE(0x32f91d4), Try::Tiny::Catch=REF(0x346d57c)) called at C:/Perl/lib/Class/Load.pm line 183
	Class::Load::try_load_class("Catty", undef) called at C:/Perl/lib/Class/Load.pm line 38
	Class::Load::load_class("Catty") called at lib/Test/WWW/Mechanize/Catalyst.pm line 245
	Test::WWW::Mechanize::Catalyst::import("Test::WWW::Mechanize::Catalyst", "Catty") called at t/auth-test.t line 7
	main::BEGIN() called at t/lib/Catty.pm line 0
	eval {...} called at t/lib/Catty.pm line 0
DEPRECATION WARNING: The Regex dispatch type is deprecated.
  The standalone Catalyst::DispatchType::Regex distribution
  has been temporarily included as a prerequisite of
  Catalyst::Runtime, but will be dropped in the future. Convert
  to Chained methods or include Catalyst::DispatchType::Regex
  as a prerequisite for your application.
t/auth-test.t ........... ok
Class::MOP::load_class is deprecated at C:/Perl/site/lib/Class/MOP.pm line 71.
	Class::MOP::load_class("Catalyst::Plugin::Session::Store::Dummy", undef) called at C:/Perl/site/lib/Catalyst.pm line 2989
	Catalyst::setup_plugins("CattySession", ARRAY(0x3b998ac)) called at C:/Perl/site/lib/Catalyst.pm line 1110
	Catalyst::setup("CattySession") called at t/lib/CattySession.pm line 18
	require CattySession.pm called at C:/Perl/site/lib/Module/Runtime.pm line 317
	Module::Runtime::require_module("CattySession") called at C:/Perl/lib/Class/Load.pm line 177
	Class::Load::try {...} () called at C:/Perl/lib/Try/Tiny.pm line 78
	eval {...} called at C:/Perl/lib/Try/Tiny.pm line 74
	Try::Tiny::try(CODE(0x351d114), Try::Tiny::Catch=REF(0x35227cc)) called at C:/Perl/lib/Class/Load.pm line 183
	Class::Load::try_load_class("CattySession", undef) called at C:/Perl/lib/Class/Load.pm line 38
	Class::Load::load_class("CattySession") called at lib/Test/WWW/Mechanize/Catalyst.pm line 245
	Test::WWW::Mechanize::Catalyst::import("Test::WWW::Mechanize::Catalyst", "CattySession") called at t/cookies.t line 20
	main::BEGIN() called at t/lib/CattySession.pm line 0
	eval {...} called at t/lib/CattySession.pm line 0
Class::MOP::is_class_loaded is deprecated at C:/Perl/site/lib/Class/MOP.pm line 89.
	Class::MOP::is_class_loaded("Catalyst::Stats") called at C:/Perl/site/lib/Catalyst/Utils.pm line 298
	Catalyst::Utils::ensure_class_loaded("Catalyst::Stats") called at C:/Perl/site/lib/Catalyst.pm line 2918
	Catalyst::setup_stats("CattySession", undef) called at C:/Perl/site/lib/Catalyst.pm line 1116
	Catalyst::setup("CattySession") called at t/lib/CattySession.pm line 18
	require CattySession.pm called at C:/Perl/site/lib/Module/Runtime.pm line 317
	Module::Runtime::require_module("CattySession") called at C:/Perl/lib/Class/Load.pm line 177
	Class::Load::try {...} () called at C:/Perl/lib/Try/Tiny.pm line 78
	eval {...} called at C:/Perl/lib/Try/Tiny.pm line 74
	Try::Tiny::try(CODE(0x351d114), Try::Tiny::Catch=REF(0x35227cc)) called at C:/Perl/lib/Class/Load.pm line 183
	Class::Load::try_load_class("CattySession", undef) called at C:/Perl/lib/Class/Load.pm line 38
	Class::Load::load_class("CattySession") called at lib/Test/WWW/Mechanize/Catalyst.pm line 245
	Test::WWW::Mechanize::Catalyst::import("Test::WWW::Mechanize::Catalyst", "CattySession") called at t/cookies.t line 20
	main::BEGIN() called at t/lib/CattySession.pm line 0
	eval {...} called at t/lib/CattySession.pm line 0
Class::MOP::is_class_loaded is deprecated at C:/Perl/site/lib/Class/MOP.pm line 89.
	Class::MOP::is_class_loaded("CattySession") called at C:/Perl/site/lib/Catalyst/Component.pm line 94
	Catalyst::Component::BUILDARGS("CattySession::Controller::Root", "CattySession", HASH(0x3e3e76c)) called at C:/Perl/site/lib/Moose/Role.pm line 79
	Moose::Role::super() called at C:/Perl/site/lib/Catalyst/Component/ApplicationAttribute.pm line 14
	Catalyst::Component::ApplicationAttribute::__ANON__("CattySession::Controller::Root", "CattySession", HASH(0x3e3e76c)) called at C:/Perl/site/lib/Moose/Meta/Method/Overridden.pm line 40
	Catalyst::Controller::BUILDARGS("CattySession::Controller::Root", "CattySession", HASH(0x3e3e76c)) called at C:/Perl/site/lib/Moose/Object.pm line 24
	Moose::Object::new("CattySession::Controller::Root", "CattySession", HASH(0x3e3e76c)) called at constructor Catalyst::Controller::new (defined at C:/Perl/site/lib/Catalyst/Controller.pm line 585) line 4
	Catalyst::Controller::new("CattySession::Controller::Root", "CattySession", HASH(0x3e3e76c)) called at C:/Perl/site/lib/Catalyst/Component.pm line 121
	Catalyst::Component::COMPONENT("CattySession::Controller::Root", "CattySession", HASH(0x3e3e76c)) called at C:/Perl/site/lib/Catalyst.pm line 2600
	eval {...} called at C:/Perl/site/lib/Catalyst.pm line 2600
	Catalyst::setup_component("CattySession", "CattySession::Controller::Root") called at C:/Perl/site/lib/Catalyst.pm line 2527
	Catalyst::setup_components("CattySession") called at C:/Perl/site/lib/Catalyst.pm line 1177
	Catalyst::setup("CattySession") called at t/lib/CattySession.pm line 18
	require CattySession.pm called at C:/Perl/site/lib/Module/Runtime.pm line 317
	Module::Runtime::require_module("CattySession") called at C:/Perl/lib/Class/Load.pm line 177
	Class::Load::try {...} () called at C:/Perl/lib/Try/Tiny.pm line 78
	eval {...} called at C:/Perl/lib/Try/Tiny.pm line 74
	Try::Tiny::try(CODE(0x351d114), Try::Tiny::Catch=REF(0x35227cc)) called at C:/Perl/lib/Class/Load.pm line 183
	Class::Load::try_load_class("CattySession", undef) called at C:/Perl/lib/Class/Load.pm line 38
	Class::Load::load_class("CattySession") called at lib/Test/WWW/Mechanize/Catalyst.pm line 245
	Test::WWW::Mechanize::Catalyst::import("Test::WWW::Mechanize::Catalyst", "CattySession") called at t/cookies.t line 20
	main::BEGIN() called at t/lib/CattySession.pm line 0
	eval {...} called at t/lib/CattySession.pm line 0
Class::MOP::load_class is deprecated at C:/Perl/site/lib/Class/MOP.pm line 71.
	Class::MOP::load_class("Catalyst::DispatchType::Index") called at C:/Perl/site/lib/Catalyst/Dispatcher.pm line 661
	eval {...} called at C:/Perl/site/lib/Catalyst/Dispatcher.pm line 661
	Catalyst::Dispatcher::_load_dispatch_types(Catalyst::Dispatcher=HASH(0x3ba6c94), "Index", "Path", "Regex") called at C:/Perl/site/lib/Catalyst/Dispatcher.pm line 601
	Catalyst::Dispatcher::setup_actions(Catalyst::Dispatcher=HASH(0x3ba6c94), "CattySession") called at C:/Perl/site/lib/Catalyst.pm line 2487
	Catalyst::setup_actions("CattySession") called at C:/Perl/site/lib/Catalyst.pm line 1195
	Catalyst::setup("CattySession") called at t/lib/CattySession.pm line 18
	require CattySession.pm called at C:/Perl/site/lib/Module/Runtime.pm line 317
	Module::Runtime::require_module("CattySession") called at C:/Perl/lib/Class/Load.pm line 177
	Class::Load::try {...} () called at C:/Perl/lib/Try/Tiny.pm line 78
	eval {...} called at C:/Perl/lib/Try/Tiny.pm line 74
	Try::Tiny::try(CODE(0x351d114), Try::Tiny::Catch=REF(0x35227cc)) called at C:/Perl/lib/Class/Load.pm line 183
	Class::Load::try_load_class("CattySession", undef) called at C:/Perl/lib/Class/Load.pm line 38
	Class::Load::load_class("CattySession") called at lib/Test/WWW/Mechanize/Catalyst.pm line 245
	Test::WWW::Mechanize::Catalyst::import("Test::WWW::Mechanize::Catalyst", "CattySession") called at t/cookies.t line 20
	main::BEGIN() called at t/lib/CattySession.pm line 0
	eval {...} called at t/lib/CattySession.pm line 0
Class::MOP::load_class is deprecated at C:/Perl/site/lib/Class/MOP.pm line 71.
	Class::MOP::load_class("Catalyst::Action") called at C:/Perl/site/lib/Catalyst/Controller.pm line 320
	Catalyst::Controller::action_class(CattySession::Controller::Root=HASH(0x3e472b4), "namespace", "", "name", "_DISPATCH", "class", "CattySession::Controller::Root", "attributes", HASH(0x390bd4c), ...) called at C:/Perl/site/lib/Catalyst/Controller.pm line 328
	Catalyst::Controller::create_action(CattySession::Controller::Root=HASH(0x3e472b4), "name", "_DISPATCH", "code", CODE(0x3906af4), "reverse", "_DISPATCH", "namespace", "", ...) called at C:/Perl/site/lib/Catalyst/Controller.pm line 285
	Catalyst::Controller::register_action_methods(CattySession::Controller::Root=HASH(0x3e472b4), "CattySession", Moose::Meta::Class::__ANON__::SERIAL::8=HASH(0x3e5e6ac), Moose::Meta::Class::__ANON__::SERIAL::8=HASH(0x3e61fc4), Moose::Meta::Class::__ANON__::SERIAL::8=HASH(0x3e61c24), Moose::Meta::Class::__ANON__::SERIAL::8=HASH(0x3e6060c), Moose::Meta::Class::__ANON__::SERIAL::8=HASH(0x3e61934), Moose::Meta::Class::__ANON__::SERIAL::8=HASH(0x3b7405c), Moose::Meta::Class::__ANON__::SERIAL::8=HASH(0x3e65614), ...) called at C:/Perl/site/lib/Catalyst/Controller.pm line 254
	Catalyst::Controller::register_actions(CattySession::Controller::Root=HASH(0x3e472b4), "CattySession") called at C:/Perl/site/lib/Catalyst/Dispatcher.pm line 605
	Catalyst::Dispatcher::setup_actions(Catalyst::Dispatcher=HASH(0x3ba6c94), "CattySession") called at C:/Perl/site/lib/Catalyst.pm line 2487
	Catalyst::setup_actions("CattySession") called at C:/Perl/site/lib/Catalyst.pm line 1195
	Catalyst::setup("CattySession") called at t/lib/CattySession.pm line 18
	require CattySession.pm called at C:/Perl/site/lib/Module/Runtime.pm line 317
	Module::Runtime::require_module("CattySession") called at C:/Perl/lib/Class/Load.pm line 177
	Class::Load::try {...} () called at C:/Perl/lib/Try/Tiny.pm line 78
	eval {...} called at C:/Perl/lib/Try/Tiny.pm line 74
	Try::Tiny::try(CODE(0x351d114), Try::Tiny::Catch=REF(0x35227cc)) called at C:/Perl/lib/Class/Load.pm line 183
	Class::Load::try_load_class("CattySession", undef) called at C:/Perl/lib/Class/Load.pm line 38
	Class::Load::load_class("CattySession") called at lib/Test/WWW/Mechanize/Catalyst.pm line 245
	Test::WWW::Mechanize::Catalyst::import("Test::WWW::Mechanize::Catalyst", "CattySession") called at t/cookies.t line 20
	main::BEGIN() called at t/lib/CattySession.pm line 0
	eval {...} called at t/lib/CattySession.pm line 0
DEPRECATION WARNING: The Regex dispatch type is deprecated.
  The standalone Catalyst::DispatchType::Regex distribution
  has been temporarily included as a prerequisite of
  Catalyst::Runtime, but will be dropped in the future. Convert
  to Chained methods or include Catalyst::DispatchType::Regex
  as a prerequisite for your application.
t/cookies.t ............. ok
Class::MOP::load_class is deprecated at C:/Perl/site/lib/Class/MOP.pm line 71.
	Class::MOP::load_class("Catalyst::Dispatcher") called at C:/Perl/site/lib/Catalyst.pm line 2643
	Catalyst::setup_dispatcher("Catty", undef) called at C:/Perl/site/lib/Catalyst.pm line 1111
	Catalyst::setup("Catty") called at t/lib/Catty.pm line 14
	require Catty.pm called at C:/Perl/site/lib/Module/Runtime.pm line 317
	Module::Runtime::require_module("Catty") called at C:/Perl/lib/Class/Load.pm line 177
	Class::Load::try {...} () called at C:/Perl/lib/Try/Tiny.pm line 78
	eval {...} called at C:/Perl/lib/Try/Tiny.pm line 74
	Try::Tiny::try(CODE(0x339813c), Try::Tiny::Catch=REF(0x35065f4)) called at C:/Perl/lib/Class/Load.pm line 183
	Class::Load::try_load_class("Catty", undef) called at C:/Perl/lib/Class/Load.pm line 38
	Class::Load::load_class("Catty") called at lib/Test/WWW/Mechanize/Catalyst.pm line 245
	Test::WWW::Mechanize::Catalyst::import("Test::WWW::Mechanize::Catalyst", "Catty") called at t/decoded_content.t line 7
	main::BEGIN() called at t/lib/Catty.pm line 0
	eval {...} called at t/lib/Catty.pm line 0
Class::MOP::is_class_loaded is deprecated at C:/Perl/site/lib/Class/MOP.pm line 89.
	Class::MOP::is_class_loaded("Catalyst::Stats") called at C:/Perl/site/lib/Catalyst/Utils.pm line 298
	Catalyst::Utils::ensure_class_loaded("Catalyst::Stats") called at C:/Perl/site/lib/Catalyst.pm line 2918
	Catalyst::setup_stats("Catty", undef) called at C:/Perl/site/lib/Catalyst.pm line 1116
	Catalyst::setup("Catty") called at t/lib/Catty.pm line 14
	require Catty.pm called at C:/Perl/site/lib/Module/Runtime.pm line 317
	Module::Runtime::require_module("Catty") called at C:/Perl/lib/Class/Load.pm line 177
	Class::Load::try {...} () called at C:/Perl/lib/Try/Tiny.pm line 78
	eval {...} called at C:/Perl/lib/Try/Tiny.pm line 74
	Try::Tiny::try(CODE(0x339813c), Try::Tiny::Catch=REF(0x35065f4)) called at C:/Perl/lib/Class/Load.pm line 183
	Class::Load::try_load_class("Catty", undef) called at C:/Perl/lib/Class/Load.pm line 38
	Class::Load::load_class("Catty") called at lib/Test/WWW/Mechanize/Catalyst.pm line 245
	Test::WWW::Mechanize::Catalyst::import("Test::WWW::Mechanize::Catalyst", "Catty") called at t/decoded_content.t line 7
	main::BEGIN() called at t/lib/Catty.pm line 0
	eval {...} called at t/lib/Catty.pm line 0
Class::MOP::is_class_loaded is deprecated at C:/Perl/site/lib/Class/MOP.pm line 89.
	Class::MOP::is_class_loaded("Catty") called at C:/Perl/site/lib/Catalyst/Component.pm line 94
	Catalyst::Component::BUILDARGS("Catty::Controller::Root", "Catty", HASH(0x3dd7f14)) called at C:/Perl/site/lib/Moose/Role.pm line 79
	Moose::Role::super() called at C:/Perl/site/lib/Catalyst/Component/ApplicationAttribute.pm line 14
	Catalyst::Component::ApplicationAttribute::__ANON__("Catty::Controller::Root", "Catty", HASH(0x3dd7f14)) called at C:/Perl/site/lib/Moose/Meta/Method/Overridden.pm line 40
	Catalyst::Controller::BUILDARGS("Catty::Controller::Root", "Catty", HASH(0x3dd7f14)) called at C:/Perl/site/lib/Moose/Object.pm line 24
	Moose::Object::new("Catty::Controller::Root", "Catty", HASH(0x3dd7f14)) called at constructor Catalyst::Controller::new (defined at C:/Perl/site/lib/Catalyst/Controller.pm line 585) line 4
	Catalyst::Controller::new("Catty::Controller::Root", "Catty", HASH(0x3dd7f14)) called at C:/Perl/site/lib/Catalyst/Component.pm line 121
	Catalyst::Component::COMPONENT("Catty::Controller::Root", "Catty", HASH(0x3dd7f14)) called at C:/Perl/site/lib/Catalyst.pm line 2600
	eval {...} called at C:/Perl/site/lib/Catalyst.pm line 2600
	Catalyst::setup_component("Catty", "Catty::Controller::Root") called at C:/Perl/site/lib/Catalyst.pm line 2527
	Catalyst::setup_components("Catty") called at C:/Perl/site/lib/Catalyst.pm line 1177
	Catalyst::setup("Catty") called at t/lib/Catty.pm line 14
	require Catty.pm called at C:/Perl/site/lib/Module/Runtime.pm line 317
	Module::Runtime::require_module("Catty") called at C:/Perl/lib/Class/Load.pm line 177
	Class::Load::try {...} () called at C:/Perl/lib/Try/Tiny.pm line 78
	eval {...} called at C:/Perl/lib/Try/Tiny.pm line 74
	Try::Tiny::try(CODE(0x339813c), Try::Tiny::Catch=REF(0x35065f4)) called at C:/Perl/lib/Class/Load.pm line 183
	Class::Load::try_load_class("Catty", undef) called at C:/Perl/lib/Class/Load.pm line 38
	Class::Load::load_class("Catty") called at lib/Test/WWW/Mechanize/Catalyst.pm line 245
	Test::WWW::Mechanize::Catalyst::import("Test::WWW::Mechanize::Catalyst", "Catty") called at t/decoded_content.t line 7
	main::BEGIN() called at t/lib/Catty.pm line 0
	eval {...} called at t/lib/Catty.pm line 0
Class::MOP::load_class is deprecated at C:/Perl/site/lib/Class/MOP.pm line 71.
	Class::MOP::load_class("Catalyst::DispatchType::Index") called at C:/Perl/site/lib/Catalyst/Dispatcher.pm line 661
	eval {...} called at C:/Perl/site/lib/Catalyst/Dispatcher.pm line 661
	Catalyst::Dispatcher::_load_dispatch_types(Catalyst::Dispatcher=HASH(0x3ba770c), "Index", "Path", "Regex") called at C:/Perl/site/lib/Catalyst/Dispatcher.pm line 601
	Catalyst::Dispatcher::setup_actions(Catalyst::Dispatcher=HASH(0x3ba770c), "Catty") called at C:/Perl/site/lib/Catalyst.pm line 2487
	Catalyst::setup_actions("Catty") called at C:/Perl/site/lib/Catalyst.pm line 1195
	Catalyst::setup("Catty") called at t/lib/Catty.pm line 14
	require Catty.pm called at C:/Perl/site/lib/Module/Runtime.pm line 317
	Module::Runtime::require_module("Catty") called at C:/Perl/lib/Class/Load.pm line 177
	Class::Load::try {...} () called at C:/Perl/lib/Try/Tiny.pm line 78
	eval {...} called at C:/Perl/lib/Try/Tiny.pm line 74
	Try::Tiny::try(CODE(0x339813c), Try::Tiny::Catch=REF(0x35065f4)) called at C:/Perl/lib/Class/Load.pm line 183
	Class::Load::try_load_class("Catty", undef) called at C:/Perl/lib/Class/Load.pm line 38
	Class::Load::load_class("Catty") called at lib/Test/WWW/Mechanize/Catalyst.pm line 245
	Test::WWW::Mechanize::Catalyst::import("Test::WWW::Mechanize::Catalyst", "Catty") called at t/decoded_content.t line 7
	main::BEGIN() called at t/lib/Catty.pm line 0
	eval {...} called at t/lib/Catty.pm line 0
Class::MOP::load_class is deprecated at C:/Perl/site/lib/Class/MOP.pm line 71.
	Class::MOP::load_class("Catalyst::Action") called at C:/Perl/site/lib/Catalyst/Controller.pm line 320
	Catalyst::Controller::action_class(Catty::Controller::Root=HASH(0x3dff13c), "namespace", "", "name", "_DISPATCH", "class", "Catty::Controller::Root", "attributes", HASH(0x3903e54), ...) called at C:/Perl/site/lib/Catalyst/Controller.pm line 328
	Catalyst::Controller::create_action(Catty::Controller::Root=HASH(0x3dff13c), "name", "_DISPATCH", "code", CODE(0x38febfc), "reverse", "_DISPATCH", "namespace", "", ...) called at C:/Perl/site/lib/Catalyst/Controller.pm line 285
	Catalyst::Controller::register_action_methods(Catty::Controller::Root=HASH(0x3dff13c), "Catty", Moose::Meta::Class::__ANON__::SERIAL::7=HASH(0x3df124c), Moose::Meta::Class::__ANON__::SERIAL::7=HASH(0x3dee914), Moose::Meta::Class::__ANON__::SERIAL::7=HASH(0x3deecdc), Moose::Meta::Class::__ANON__::SERIAL::7=HASH(0x3df02f4), Moose::Meta::Class::__ANON__::SERIAL::7=HASH(0x3deefcc), Moose::Meta::Class::__ANON__::SERIAL::7=HASH(0x3dde5b4), Moose::Meta::Class::__ANON__::SERIAL::7=HASH(0x3dfa784), ...) called at C:/Perl/site/lib/Catalyst/Controller.pm line 254
	Catalyst::Controller::register_actions(Catty::Controller::Root=HASH(0x3dff13c), "Catty") called at C:/Perl/site/lib/Catalyst/Dispatcher.pm line 605
	Catalyst::Dispatcher::setup_actions(Catalyst::Dispatcher=HASH(0x3ba770c), "Catty") called at C:/Perl/site/lib/Catalyst.pm line 2487
	Catalyst::setup_actions("Catty") called at C:/Perl/site/lib/Catalyst.pm line 1195
	Catalyst::setup("Catty") called at t/lib/Catty.pm line 14
	require Catty.pm called at C:/Perl/site/lib/Module/Runtime.pm line 317
	Module::Runtime::require_module("Catty") called at C:/Perl/lib/Class/Load.pm line 177
	Class::Load::try {...} () called at C:/Perl/lib/Try/Tiny.pm line 78
	eval {...} called at C:/Perl/lib/Try/Tiny.pm line 74
	Try::Tiny::try(CODE(0x339813c), Try::Tiny::Catch=REF(0x35065f4)) called at C:/Perl/lib/Class/Load.pm line 183
	Class::Load::try_load_class("Catty", undef) called at C:/Perl/lib/Class/Load.pm line 38
	Class::Load::load_class("Catty") called at lib/Test/WWW/Mechanize/Catalyst.pm line 245
	Test::WWW::Mechanize::Catalyst::import("Test::WWW::Mechanize::Catalyst", "Catty") called at t/decoded_content.t line 7
	main::BEGIN() called at t/lib/Catty.pm line 0
	eval {...} called at t/lib/Catty.pm line 0
DEPRECATION WARNING: The Regex dispatch type is deprecated.
  The standalone Catalyst::DispatchType::Regex distribution
  has been temporarily included as a prerequisite of
  Catalyst::Runtime, but will be dropped in the future. Convert
  to Chained methods or include Catalyst::DispatchType::Regex
  as a prerequisite for your application.
t/decoded_content.t ..... ok
# 
# ###################################################################
# Starting an external Catalyst HTTP server on port 7357
# To change the port, please set the TWMC_TEST_PORT env variable.
# (The server will be automatically shut-down right after the tests).
# ###################################################################
Class::MOP::load_class is deprecated at C:/Perl/site/lib/Class/MOP.pm line 71.
	Class::MOP::load_class("Catalyst::Dispatcher") called at C:/Perl/site/lib/Catalyst.pm line 2643
	Catalyst::setup_dispatcher("ExternalCatty", undef) called at C:/Perl/site/lib/Catalyst.pm line 1111
	Catalyst::setup("ExternalCatty") called at t/lib/ExternalCatty.pm line 9
	require ExternalCatty.pm called at t/multi_content_type.t line 28
	main::BEGIN() called at t/lib/ExternalCatty.pm line 0
	eval {...} called at t/lib/ExternalCatty.pm line 0
	eval 'package main;

#line 28 t/multi_content_type.t
use ExternalCatty @{$args[0]};
1;

;' called at C:/Perl/site/lib/Test/More.pm line 992
	Test::More::_eval("package main;\x{a}\x{a}#line 28 t/multi_content_type.t\x{a}use ExternalCa"..., ARRAY(0x7b723c)) called at C:/Perl/site/lib/Test/More.pm line 967
	Test::More::use_ok("ExternalCatty") called at t/multi_content_type.t line 28
Class::MOP::is_class_loaded is deprecated at C:/Perl/site/lib/Class/MOP.pm line 89.
	Class::MOP::is_class_loaded("Catalyst::Stats") called at C:/Perl/site/lib/Catalyst/Utils.pm line 298
	Catalyst::Utils::ensure_class_loaded("Catalyst::Stats") called at C:/Perl/site/lib/Catalyst.pm line 2918
	Catalyst::setup_stats("ExternalCatty", undef) called at C:/Perl/site/lib/Catalyst.pm line 1116
	Catalyst::setup("ExternalCatty") called at t/lib/ExternalCatty.pm line 9
	require ExternalCatty.pm called at t/multi_content_type.t line 28
	main::BEGIN() called at t/lib/ExternalCatty.pm line 0
	eval {...} called at t/lib/ExternalCatty.pm line 0
	eval 'package main;

#line 28 t/multi_content_type.t
use ExternalCatty @{$args[0]};
1;

;' called at C:/Perl/site/lib/Test/More.pm line 992
	Test::More::_eval("package main;\x{a}\x{a}#line 28 t/multi_content_type.t\x{a}use ExternalCa"..., ARRAY(0x7b723c)) called at C:/Perl/site/lib/Test/More.pm line 967
	Test::More::use_ok("ExternalCatty") called at t/multi_content_type.t line 28
Class::MOP::is_class_loaded is deprecated at C:/Perl/site/lib/Class/MOP.pm line 89.
	Class::MOP::is_class_loaded("ExternalCatty") called at C:/Perl/site/lib/Catalyst/Component.pm line 94
	Catalyst::Component::BUILDARGS("ExternalCatty::Controller::Root", "ExternalCatty", HASH(0x3b5600c)) called at C:/Perl/site/lib/Moose/Role.pm line 79
	Moose::Role::super() called at C:/Perl/site/lib/Catalyst/Component/ApplicationAttribute.pm line 14
	Catalyst::Component::ApplicationAttribute::__ANON__("ExternalCatty::Controller::Root", "ExternalCatty", HASH(0x3b5600c)) called at C:/Perl/site/lib/Moose/Meta/Method/Overridden.pm line 40
	Catalyst::Controller::BUILDARGS("ExternalCatty::Controller::Root", "ExternalCatty", HASH(0x3b5600c)) called at C:/Perl/site/lib/Moose/Object.pm line 24
	Moose::Object::new("ExternalCatty::Controller::Root", "ExternalCatty", HASH(0x3b5600c)) called at constructor Catalyst::Controller::new (defined at C:/Perl/site/lib/Catalyst/Controller.pm line 585) line 4
	Catalyst::Controller::new("ExternalCatty::Controller::Root", "ExternalCatty", HASH(0x3b5600c)) called at C:/Perl/site/lib/Catalyst/Component.pm line 121
	Catalyst::Component::COMPONENT("ExternalCatty::Controller::Root", "ExternalCatty", HASH(0x3b5600c)) called at C:/Perl/site/lib/Catalyst.pm line 2600
	eval {...} called at C:/Perl/site/lib/Catalyst.pm line 2600
	Catalyst::setup_component("ExternalCatty", "ExternalCatty::Controller::Root") called at C:/Perl/site/lib/Catalyst.pm line 2527
	Catalyst::setup_components("ExternalCatty") called at C:/Perl/site/lib/Catalyst.pm line 1177
	Catalyst::setup("ExternalCatty") called at t/lib/ExternalCatty.pm line 9
	require ExternalCatty.pm called at t/multi_content_type.t line 28
	main::BEGIN() called at t/lib/ExternalCatty.pm line 0
	eval {...} called at t/lib/ExternalCatty.pm line 0
	eval 'package main;

#line 28 t/multi_content_type.t
use ExternalCatty @{$args[0]};
1;

;' called at C:/Perl/site/lib/Test/More.pm line 992
	Test::More::_eval("package main;\x{a}\x{a}#line 28 t/multi_content_type.t\x{a}use ExternalCa"..., ARRAY(0x7b723c)) called at C:/Perl/site/lib/Test/More.pm line 967
	Test::More::use_ok("ExternalCatty") called at t/multi_content_type.t line 28
Class::MOP::load_class is deprecated at C:/Perl/site/lib/Class/MOP.pm line 71.
	Class::MOP::load_class("Catalyst::DispatchType::Index") called at C:/Perl/site/lib/Catalyst/Dispatcher.pm line 661
	eval {...} called at C:/Perl/site/lib/Catalyst/Dispatcher.pm line 661
	Catalyst::Dispatcher::_load_dispatch_types(Catalyst::Dispatcher=HASH(0x3b44dc4), "Index", "Path", "Regex") called at C:/Perl/site/lib/Catalyst/Dispatcher.pm line 601
	Catalyst::Dispatcher::setup_actions(Catalyst::Dispatcher=HASH(0x3b44dc4), "ExternalCatty") called at C:/Perl/site/lib/Catalyst.pm line 2487
	Catalyst::setup_actions("ExternalCatty") called at C:/Perl/site/lib/Catalyst.pm line 1195
	Catalyst::setup("ExternalCatty") called at t/lib/ExternalCatty.pm line 9
	require ExternalCatty.pm called at t/multi_content_type.t line 28
	main::BEGIN() called at t/lib/ExternalCatty.pm line 0
	eval {...} called at t/lib/ExternalCatty.pm line 0
	eval 'package main;

#line 28 t/multi_content_type.t
use ExternalCatty @{$args[0]};
1;

;' called at C:/Perl/site/lib/Test/More.pm line 992
	Test::More::_eval("package main;\x{a}\x{a}#line 28 t/multi_content_type.t\x{a}use ExternalCa"..., ARRAY(0x7b723c)) called at C:/Perl/site/lib/Test/More.pm line 967
	Test::More::use_ok("ExternalCatty") called at t/multi_content_type.t line 28
Class::MOP::load_class is deprecated at C:/Perl/site/lib/Class/MOP.pm line 71.
	Class::MOP::load_class("Catalyst::Action") called at C:/Perl/site/lib/Catalyst/Controller.pm line 320
	Catalyst::Controller::action_class("ExternalCatty", "namespace", "", "name", "_DISPATCH", "class", "ExternalCatty", "attributes", HASH(0x389e3f4), ...) called at C:/Perl/site/lib/Catalyst/Controller.pm line 328
	Catalyst::Controller::create_action("ExternalCatty", "name", "_DISPATCH", "code", CODE(0x38980a4), "reverse", "_DISPATCH", "namespace", "", ...) called at C:/Perl/site/lib/Catalyst/Controller.pm line 285
	Catalyst::Controller::register_action_methods("ExternalCatty", "ExternalCatty", Moose::Meta::Class::__ANON__::SERIAL::7=HASH(0x3d9eb24), Moose::Meta::Class::__ANON__::SERIAL::7=HASH(0x3da37bc), Moose::Meta::Class::__ANON__::SERIAL::7=HASH(0x3da341c), Moose::Meta::Class::__ANON__::SERIAL::7=HASH(0x3d9fdf4), Moose::Meta::Class::__ANON__::SERIAL::7=HASH(0x3da312c)) called at C:/Perl/site/lib/Catalyst/Controller.pm line 254
	Catalyst::Controller::register_actions("ExternalCatty", "ExternalCatty") called at C:/Perl/site/lib/Catalyst/Dispatcher.pm line 605
	Catalyst::Dispatcher::setup_actions(Catalyst::Dispatcher=HASH(0x3b44dc4), "ExternalCatty") called at C:/Perl/site/lib/Catalyst.pm line 2487
	Catalyst::setup_actions("ExternalCatty") called at C:/Perl/site/lib/Catalyst.pm line 1195
	Catalyst::setup("ExternalCatty") called at t/lib/ExternalCatty.pm line 9
	require ExternalCatty.pm called at t/multi_content_type.t line 28
	main::BEGIN() called at t/lib/ExternalCatty.pm line 0
	eval {...} called at t/lib/ExternalCatty.pm line 0
	eval 'package main;

#line 28 t/multi_content_type.t
use ExternalCatty @{$args[0]};
1;

;' called at C:/Perl/site/lib/Test/More.pm line 992
	Test::More::_eval("package main;\x{a}\x{a}#line 28 t/multi_content_type.t\x{a}use ExternalCa"..., ARRAY(0x7b723c)) called at C:/Perl/site/lib/Test/More.pm line 967
	Test::More::use_ok("ExternalCatty") called at t/multi_content_type.t line 28
DEPRECATION WARNING: The Regex dispatch type is deprecated.
  The standalone Catalyst::DispatchType::Regex distribution
  has been temporarily included as a prerequisite of
  Catalyst::Runtime, but will be dropped in the future. Convert
  to Chained methods or include Catalyst::DispatchType::Regex
  as a prerequisite for your application.
Class::MOP::load_class is deprecated at C:/Perl/site/lib/Class/MOP.pm line 71.
	Class::MOP::load_class("ExternalCatty") called at C:/Perl/site/lib/Catalyst/ScriptRole.pm line 90
	Catalyst::ScriptRole::_run_application(Catalyst::Script::Server=HASH(0x5b0aafc)) called at C:/Perl/site/lib/Catalyst/Script/Server.pm line 240
	Catalyst::Script::Server::run(Catalyst::Script::Server=HASH(0x5b0aafc)) called at C:/Perl/site/lib/Catalyst/ScriptRunner.pm line 50
	Catalyst::ScriptRunner::run("Catalyst::ScriptRunner", "ExternalCatty", "Server") called at t/lib/ExternalCatty.pm line 28
	ExternalCatty::background() called at t/multi_content_type.t line 30
HTTP::Server::PSGI: Accepting connections at http://0:7357/
t/multi_content_type.t .. ok
t/pod.t ................. ok
Class::MOP::load_class is deprecated at C:/Perl/site/lib/Class/MOP.pm line 71.
	Class::MOP::load_class("Catalyst::Dispatcher") called at C:/Perl/site/lib/Catalyst.pm line 2643
	Catalyst::setup_dispatcher("Catty", undef) called at C:/Perl/site/lib/Catalyst.pm line 1111
	Catalyst::setup("Catty") called at t/lib/Catty.pm line 14
	require Catty.pm called at C:/Perl/site/lib/Module/Runtime.pm line 317
	Module::Runtime::require_module("Catty") called at C:/Perl/lib/Class/Load.pm line 177
	Class::Load::try {...} () called at C:/Perl/lib/Try/Tiny.pm line 78
	eval {...} called at C:/Perl/lib/Try/Tiny.pm line 74
	Try::Tiny::try(CODE(0x33fb064), Try::Tiny::Catch=REF(0x35662b4)) called at C:/Perl/lib/Class/Load.pm line 183
	Class::Load::try_load_class("Catty", undef) called at C:/Perl/lib/Class/Load.pm line 38
	Class::Load::load_class("Catty") called at lib/Test/WWW/Mechanize/Catalyst.pm line 245
	Test::WWW::Mechanize::Catalyst::import("Test::WWW::Mechanize::Catalyst", "Catty") called at t/redirect.t line 7
	main::BEGIN() called at t/lib/Catty.pm line 0
	eval {...} called at t/lib/Catty.pm line 0
Class::MOP::is_class_loaded is deprecated at C:/Perl/site/lib/Class/MOP.pm line 89.
	Class::MOP::is_class_loaded("Catalyst::Stats") called at C:/Perl/site/lib/Catalyst/Utils.pm line 298
	Catalyst::Utils::ensure_class_loaded("Catalyst::Stats") called at C:/Perl/site/lib/Catalyst.pm line 2918
	Catalyst::setup_stats("Catty", undef) called at C:/Perl/site/lib/Catalyst.pm line 1116
	Catalyst::setup("Catty") called at t/lib/Catty.pm line 14
	require Catty.pm called at C:/Perl/site/lib/Module/Runtime.pm line 317
	Module::Runtime::require_module("Catty") called at C:/Perl/lib/Class/Load.pm line 177
	Class::Load::try {...} () called at C:/Perl/lib/Try/Tiny.pm line 78
	eval {...} called at C:/Perl/lib/Try/Tiny.pm line 74
	Try::Tiny::try(CODE(0x33fb064), Try::Tiny::Catch=REF(0x35662b4)) called at C:/Perl/lib/Class/Load.pm line 183
	Class::Load::try_load_class("Catty", undef) called at C:/Perl/lib/Class/Load.pm line 38
	Class::Load::load_class("Catty") called at lib/Test/WWW/Mechanize/Catalyst.pm line 245
	Test::WWW::Mechanize::Catalyst::import("Test::WWW::Mechanize::Catalyst", "Catty") called at t/redirect.t line 7
	main::BEGIN() called at t/lib/Catty.pm line 0
	eval {...} called at t/lib/Catty.pm line 0
Class::MOP::is_class_loaded is deprecated at C:/Perl/site/lib/Class/MOP.pm line 89.
	Class::MOP::is_class_loaded("Catty") called at C:/Perl/site/lib/Catalyst/Component.pm line 94
	Catalyst::Component::BUILDARGS("Catty::Controller::Root", "Catty", HASH(0x3e2b8fc)) called at C:/Perl/site/lib/Moose/Role.pm line 79
	Moose::Role::super() called at C:/Perl/site/lib/Catalyst/Component/ApplicationAttribute.pm line 14
	Catalyst::Component::ApplicationAttribute::__ANON__("Catty::Controller::Root", "Catty", HASH(0x3e2b8fc)) called at C:/Perl/site/lib/Moose/Meta/Method/Overridden.pm line 40
	Catalyst::Controller::BUILDARGS("Catty::Controller::Root", "Catty", HASH(0x3e2b8fc)) called at C:/Perl/site/lib/Moose/Object.pm line 24
	Moose::Object::new("Catty::Controller::Root", "Catty", HASH(0x3e2b8fc)) called at constructor Catalyst::Controller::new (defined at C:/Perl/site/lib/Catalyst/Controller.pm line 585) line 4
	Catalyst::Controller::new("Catty::Controller::Root", "Catty", HASH(0x3e2b8fc)) called at C:/Perl/site/lib/Catalyst/Component.pm line 121
	Catalyst::Component::COMPONENT("Catty::Controller::Root", "Catty", HASH(0x3e2b8fc)) called at C:/Perl/site/lib/Catalyst.pm line 2600
	eval {...} called at C:/Perl/site/lib/Catalyst.pm line 2600
	Catalyst::setup_component("Catty", "Catty::Controller::Root") called at C:/Perl/site/lib/Catalyst.pm line 2527
	Catalyst::setup_components("Catty") called at C:/Perl/site/lib/Catalyst.pm line 1177
	Catalyst::setup("Catty") called at t/lib/Catty.pm line 14
	require Catty.pm called at C:/Perl/site/lib/Module/Runtime.pm line 317
	Module::Runtime::require_module("Catty") called at C:/Perl/lib/Class/Load.pm line 177
	Class::Load::try {...} () called at C:/Perl/lib/Try/Tiny.pm line 78
	eval {...} called at C:/Perl/lib/Try/Tiny.pm line 74
	Try::Tiny::try(CODE(0x33fb064), Try::Tiny::Catch=REF(0x35662b4)) called at C:/Perl/lib/Class/Load.pm line 183
	Class::Load::try_load_class("Catty", undef) called at C:/Perl/lib/Class/Load.pm line 38
	Class::Load::load_class("Catty") called at lib/Test/WWW/Mechanize/Catalyst.pm line 245
	Test::WWW::Mechanize::Catalyst::import("Test::WWW::Mechanize::Catalyst", "Catty") called at t/redirect.t line 7
	main::BEGIN() called at t/lib/Catty.pm line 0
	eval {...} called at t/lib/Catty.pm line 0
Class::MOP::load_class is deprecated at C:/Perl/site/lib/Class/MOP.pm line 71.
	Class::MOP::load_class("Catalyst::DispatchType::Index") called at C:/Perl/site/lib/Catalyst/Dispatcher.pm line 661
	eval {...} called at C:/Perl/site/lib/Catalyst/Dispatcher.pm line 661
	Catalyst::Dispatcher::_load_dispatch_types(Catalyst::Dispatcher=HASH(0x3c0733c), "Index", "Path", "Regex") called at C:/Perl/site/lib/Catalyst/Dispatcher.pm line 601
	Catalyst::Dispatcher::setup_actions(Catalyst::Dispatcher=HASH(0x3c0733c), "Catty") called at C:/Perl/site/lib/Catalyst.pm line 2487
	Catalyst::setup_actions("Catty") called at C:/Perl/site/lib/Catalyst.pm line 1195
	Catalyst::setup("Catty") called at t/lib/Catty.pm line 14
	require Catty.pm called at C:/Perl/site/lib/Module/Runtime.pm line 317
	Module::Runtime::require_module("Catty") called at C:/Perl/lib/Class/Load.pm line 177
	Class::Load::try {...} () called at C:/Perl/lib/Try/Tiny.pm line 78
	eval {...} called at C:/Perl/lib/Try/Tiny.pm line 74
	Try::Tiny::try(CODE(0x33fb064), Try::Tiny::Catch=REF(0x35662b4)) called at C:/Perl/lib/Class/Load.pm line 183
	Class::Load::try_load_class("Catty", undef) called at C:/Perl/lib/Class/Load.pm line 38
	Class::Load::load_class("Catty") called at lib/Test/WWW/Mechanize/Catalyst.pm line 245
	Test::WWW::Mechanize::Catalyst::import("Test::WWW::Mechanize::Catalyst", "Catty") called at t/redirect.t line 7
	main::BEGIN() called at t/lib/Catty.pm line 0
	eval {...} called at t/lib/Catty.pm line 0
Class::MOP::load_class is deprecated at C:/Perl/site/lib/Class/MOP.pm line 71.
	Class::MOP::load_class("Catalyst::Action") called at C:/Perl/site/lib/Catalyst/Controller.pm line 320
	Catalyst::Controller::action_class(Catty::Controller::Root=HASH(0x3e52b24), "namespace", "", "name", "_DISPATCH", "class", "Catty::Controller::Root", "attributes", HASH(0x393fa34), ...) called at C:/Perl/site/lib/Catalyst/Controller.pm line 328
	Catalyst::Controller::create_action(Catty::Controller::Root=HASH(0x3e52b24), "name", "_DISPATCH", "code", CODE(0x393a7dc), "reverse", "_DISPATCH", "namespace", "", ...) called at C:/Perl/site/lib/Catalyst/Controller.pm line 285
	Catalyst::Controller::register_action_methods(Catty::Controller::Root=HASH(0x3e52b24), "Catty", Moose::Meta::Class::__ANON__::SERIAL::7=HASH(0x3e44c34), Moose::Meta::Class::__ANON__::SERIAL::7=HASH(0x3e422fc), Moose::Meta::Class::__ANON__::SERIAL::7=HASH(0x3e426c4), Moose::Meta::Class::__ANON__::SERIAL::7=HASH(0x3e43cdc), Moose::Meta::Class::__ANON__::SERIAL::7=HASH(0x3e429b4), Moose::Meta::Class::__ANON__::SERIAL::7=HASH(0x3e31f9c), Moose::Meta::Class::__ANON__::SERIAL::7=HASH(0x3e4e16c), ...) called at C:/Perl/site/lib/Catalyst/Controller.pm line 254
	Catalyst::Controller::register_actions(Catty::Controller::Root=HASH(0x3e52b24), "Catty") called at C:/Perl/site/lib/Catalyst/Dispatcher.pm line 605
	Catalyst::Dispatcher::setup_actions(Catalyst::Dispatcher=HASH(0x3c0733c), "Catty") called at C:/Perl/site/lib/Catalyst.pm line 2487
	Catalyst::setup_actions("Catty") called at C:/Perl/site/lib/Catalyst.pm line 1195
	Catalyst::setup("Catty") called at t/lib/Catty.pm line 14
	require Catty.pm called at C:/Perl/site/lib/Module/Runtime.pm line 317
	Module::Runtime::require_module("Catty") called at C:/Perl/lib/Class/Load.pm line 177
	Class::Load::try {...} () called at C:/Perl/lib/Try/Tiny.pm line 78
	eval {...} called at C:/Perl/lib/Try/Tiny.pm line 74
	Try::Tiny::try(CODE(0x33fb064), Try::Tiny::Catch=REF(0x35662b4)) called at C:/Perl/lib/Class/Load.pm line 183
	Class::Load::try_load_class("Catty", undef) called at C:/Perl/lib/Class/Load.pm line 38
	Class::Load::load_class("Catty") called at lib/Test/WWW/Mechanize/Catalyst.pm line 245
	Test::WWW::Mechanize::Catalyst::import("Test::WWW::Mechanize::Catalyst", "Catty") called at t/redirect.t line 7
	main::BEGIN() called at t/lib/Catty.pm line 0
	eval {...} called at t/lib/Catty.pm line 0
DEPRECATION WARNING: The Regex dispatch type is deprecated.
  The standalone Catalyst::DispatchType::Regex distribution
  has been temporarily included as a prerequisite of
  Catalyst::Runtime, but will be dropped in the future. Convert
  to Chained methods or include Catalyst::DispatchType::Regex
  as a prerequisite for your application.
t/redirect.t ............ ok
Class::MOP::load_class is deprecated at C:/Perl/site/lib/Class/MOP.pm line 71.
	Class::MOP::load_class("Catalyst::Dispatcher") called at C:/Perl/site/lib/Catalyst.pm line 2643
	Catalyst::setup_dispatcher("Catty", undef) called at C:/Perl/site/lib/Catalyst.pm line 1111
	Catalyst::setup("Catty") called at t/lib/Catty.pm line 14
	require Catty.pm called at C:/Perl/site/lib/Module/Runtime.pm line 317
	Module::Runtime::require_module("Catty") called at C:/Perl/lib/Class/Load.pm line 177
	Class::Load::try {...} () called at C:/Perl/lib/Try/Tiny.pm line 78
	eval {...} called at C:/Perl/lib/Try/Tiny.pm line 74
	Try::Tiny::try(CODE(0x33241c4), Try::Tiny::Catch=REF(0x3473ebc)) called at C:/Perl/lib/Class/Load.pm line 183
	Class::Load::try_load_class("Catty", undef) called at C:/Perl/lib/Class/Load.pm line 38
	Class::Load::load_class("Catty") called at C:\perl\cpan\build\Test-WWW-Mechanize-Catalyst-0.59-L4oeHA\blib\lib/Test/WWW/Mechanize/Catalyst.pm line 245
	Test::WWW::Mechanize::Catalyst::import("Test::WWW::Mechanize::Catalyst", "Catty") called at t/simple.t line 12
	main::BEGIN() called at t/lib/Catty.pm line 0
	eval {...} called at t/lib/Catty.pm line 0
Class::MOP::is_class_loaded is deprecated at C:/Perl/site/lib/Class/MOP.pm line 89.
	Class::MOP::is_class_loaded("Catalyst::Stats") called at C:/Perl/site/lib/Catalyst/Utils.pm line 298
	Catalyst::Utils::ensure_class_loaded("Catalyst::Stats") called at C:/Perl/site/lib/Catalyst.pm line 2918
	Catalyst::setup_stats("Catty", undef) called at C:/Perl/site/lib/Catalyst.pm line 1116
	Catalyst::setup("Catty") called at t/lib/Catty.pm line 14
	require Catty.pm called at C:/Perl/site/lib/Module/Runtime.pm line 317
	Module::Runtime::require_module("Catty") called at C:/Perl/lib/Class/Load.pm line 177
	Class::Load::try {...} () called at C:/Perl/lib/Try/Tiny.pm line 78
	eval {...} called at C:/Perl/lib/Try/Tiny.pm line 74
	Try::Tiny::try(CODE(0x33241c4), Try::Tiny::Catch=REF(0x3473ebc)) called at C:/Perl/lib/Class/Load.pm line 183
	Class::Load::try_load_class("Catty", undef) called at C:/Perl/lib/Class/Load.pm line 38
	Class::Load::load_class("Catty") called at C:\perl\cpan\build\Test-WWW-Mechanize-Catalyst-0.59-L4oeHA\blib\lib/Test/WWW/Mechanize/Catalyst.pm line 245
	Test::WWW::Mechanize::Catalyst::import("Test::WWW::Mechanize::Catalyst", "Catty") called at t/simple.t line 12
	main::BEGIN() called at t/lib/Catty.pm line 0
	eval {...} called at t/lib/Catty.pm line 0
Class::MOP::is_class_loaded is deprecated at C:/Perl/site/lib/Class/MOP.pm line 89.
	Class::MOP::is_class_loaded("Catty") called at C:/Perl/site/lib/Catalyst/Component.pm line 94
	Catalyst::Component::BUILDARGS("Catty::Controller::Root", "Catty", HASH(0x3c4c2f4)) called at C:/Perl/site/lib/Moose/Role.pm line 79
	Moose::Role::super() called at C:/Perl/site/lib/Catalyst/Component/ApplicationAttribute.pm line 14
	Catalyst::Component::ApplicationAttribute::__ANON__("Catty::Controller::Root", "Catty", HASH(0x3c4c2f4)) called at C:/Perl/site/lib/Moose/Meta/Method/Overridden.pm line 40
	Catalyst::Controller::BUILDARGS("Catty::Controller::Root", "Catty", HASH(0x3c4c2f4)) called at C:/Perl/site/lib/Moose/Object.pm line 24
	Moose::Object::new("Catty::Controller::Root", "Catty", HASH(0x3c4c2f4)) called at constructor Catalyst::Controller::new (defined at C:/Perl/site/lib/Catalyst/Controller.pm line 585) line 4
	Catalyst::Controller::new("Catty::Controller::Root", "Catty", HASH(0x3c4c2f4)) called at C:/Perl/site/lib/Catalyst/Component.pm line 121
	Catalyst::Component::COMPONENT("Catty::Controller::Root", "Catty", HASH(0x3c4c2f4)) called at C:/Perl/site/lib/Catalyst.pm line 2600
	eval {...} called at C:/Perl/site/lib/Catalyst.pm line 2600
	Catalyst::setup_component("Catty", "Catty::Controller::Root") called at C:/Perl/site/lib/Catalyst.pm line 2527
	Catalyst::setup_components("Catty") called at C:/Perl/site/lib/Catalyst.pm line 1177
	Catalyst::setup("Catty") called at t/lib/Catty.pm line 14
	require Catty.pm called at C:/Perl/site/lib/Module/Runtime.pm line 317
	Module::Runtime::require_module("Catty") called at C:/Perl/lib/Class/Load.pm line 177
	Class::Load::try {...} () called at C:/Perl/lib/Try/Tiny.pm line 78
	eval {...} called at C:/Perl/lib/Try/Tiny.pm line 74
	Try::Tiny::try(CODE(0x33241c4), Try::Tiny::Catch=REF(0x3473ebc)) called at C:/Perl/lib/Class/Load.pm line 183
	Class::Load::try_load_class("Catty", undef) called at C:/Perl/lib/Class/Load.pm line 38
	Class::Load::load_class("Catty") called at C:\perl\cpan\build\Test-WWW-Mechanize-Catalyst-0.59-L4oeHA\blib\lib/Test/WWW/Mechanize/Catalyst.pm line 245
	Test::WWW::Mechanize::Catalyst::import("Test::WWW::Mechanize::Catalyst", "Catty") called at t/simple.t line 12
	main::BEGIN() called at t/lib/Catty.pm line 0
	eval {...} called at t/lib/Catty.pm line 0
Class::MOP::load_class is deprecated at C:/Perl/site/lib/Class/MOP.pm line 71.
	Class::MOP::load_class("Catalyst::DispatchType::Index") called at C:/Perl/site/lib/Catalyst/Dispatcher.pm line 661
	eval {...} called at C:/Perl/site/lib/Catalyst/Dispatcher.pm line 661
	Catalyst::Dispatcher::_load_dispatch_types(Catalyst::Dispatcher=HASH(0x3949aac), "Index", "Path", "Regex") called at C:/Perl/site/lib/Catalyst/Dispatcher.pm line 601
	Catalyst::Dispatcher::setup_actions(Catalyst::Dispatcher=HASH(0x3949aac), "Catty") called at C:/Perl/site/lib/Catalyst.pm line 2487
	Catalyst::setup_actions("Catty") called at C:/Perl/site/lib/Catalyst.pm line 1195
	Catalyst::setup("Catty") called at t/lib/Catty.pm line 14
	require Catty.pm called at C:/Perl/site/lib/Module/Runtime.pm line 317
	Module::Runtime::require_module("Catty") called at C:/Perl/lib/Class/Load.pm line 177
	Class::Load::try {...} () called at C:/Perl/lib/Try/Tiny.pm line 78
	eval {...} called at C:/Perl/lib/Try/Tiny.pm line 74
	Try::Tiny::try(CODE(0x33241c4), Try::Tiny::Catch=REF(0x3473ebc)) called at C:/Perl/lib/Class/Load.pm line 183
	Class::Load::try_load_class("Catty", undef) called at C:/Perl/lib/Class/Load.pm line 38
	Class::Load::load_class("Catty") called at C:\perl\cpan\build\Test-WWW-Mechanize-Catalyst-0.59-L4oeHA\blib\lib/Test/WWW/Mechanize/Catalyst.pm line 245
	Test::WWW::Mechanize::Catalyst::import("Test::WWW::Mechanize::Catalyst", "Catty") called at t/simple.t line 12
	main::BEGIN() called at t/lib/Catty.pm line 0
	eval {...} called at t/lib/Catty.pm line 0
Class::MOP::load_class is deprecated at C:/Perl/site/lib/Class/MOP.pm line 71.
	Class::MOP::load_class("Catalyst::Action") called at C:/Perl/site/lib/Catalyst/Controller.pm line 320
	Catalyst::Controller::action_class(Catty::Controller::Root=HASH(0x3d9673c), "namespace", "", "name", "_DISPATCH", "class", "Catty::Controller::Root", "attributes", HASH(0x3866984), ...) called at C:/Perl/site/lib/Catalyst/Controller.pm line 328
	Catalyst::Controller::create_action(Catty::Controller::Root=HASH(0x3d9673c), "name", "_DISPATCH", "code", CODE(0x386172c), "reverse", "_DISPATCH", "namespace", "", ...) called at C:/Perl/site/lib/Catalyst/Controller.pm line 285
	Catalyst::Controller::register_action_methods(Catty::Controller::Root=HASH(0x3d9673c), "Catty", Moose::Meta::Class::__ANON__::SERIAL::7=HASH(0x3d93814), Moose::Meta::Class::__ANON__::SERIAL::7=HASH(0x3d85f14), Moose::Meta::Class::__ANON__::SERIAL::7=HASH(0x3d862dc), Moose::Meta::Class::__ANON__::SERIAL::7=HASH(0x3d878f4), Moose::Meta::Class::__ANON__::SERIAL::7=HASH(0x3d865cc), Moose::Meta::Class::__ANON__::SERIAL::7=HASH(0x3d74bbc), Moose::Meta::Class::__ANON__::SERIAL::7=HASH(0x3d91d84), ...) called at C:/Perl/site/lib/Catalyst/Controller.pm line 254
	Catalyst::Controller::register_actions(Catty::Controller::Root=HASH(0x3d9673c), "Catty") called at C:/Perl/site/lib/Catalyst/Dispatcher.pm line 605
	Catalyst::Dispatcher::setup_actions(Catalyst::Dispatcher=HASH(0x3949aac), "Catty") called at C:/Perl/site/lib/Catalyst.pm line 2487
	Catalyst::setup_actions("Catty") called at C:/Perl/site/lib/Catalyst.pm line 1195
	Catalyst::setup("Catty") called at t/lib/Catty.pm line 14
	require Catty.pm called at C:/Perl/site/lib/Module/Runtime.pm line 317
	Module::Runtime::require_module("Catty") called at C:/Perl/lib/Class/Load.pm line 177
	Class::Load::try {...} () called at C:/Perl/lib/Try/Tiny.pm line 78
	eval {...} called at C:/Perl/lib/Try/Tiny.pm line 74
	Try::Tiny::try(CODE(0x33241c4), Try::Tiny::Catch=REF(0x3473ebc)) called at C:/Perl/lib/Class/Load.pm line 183
	Class::Load::try_load_class("Catty", undef) called at C:/Perl/lib/Class/Load.pm line 38
	Class::Load::load_class("Catty") called at C:\perl\cpan\build\Test-WWW-Mechanize-Catalyst-0.59-L4oeHA\blib\lib/Test/WWW/Mechanize/Catalyst.pm line 245
	Test::WWW::Mechanize::Catalyst::import("Test::WWW::Mechanize::Catalyst", "Catty") called at t/simple.t line 12
	main::BEGIN() called at t/lib/Catty.pm line 0
	eval {...} called at t/lib/Catty.pm line 0
DEPRECATION WARNING: The Regex dispatch type is deprecated.
  The standalone Catalyst::DispatchType::Regex distribution
  has been temporarily included as a prerequisite of
  Catalyst::Runtime, but will be dropped in the future. Convert
  to Chained methods or include Catalyst::DispatchType::Regex
  as a prerequisite for your application.
t/simple.t .............. ok
Class::MOP::load_class is deprecated at C:/Perl/site/lib/Class/MOP.pm line 71.
	Class::MOP::load_class("Catalyst::Dispatcher") called at C:/Perl/site/lib/Catalyst.pm line 2643
	Catalyst::setup_dispatcher("Catty", undef) called at C:/Perl/site/lib/Catalyst.pm line 1111
	Catalyst::setup("Catty") called at t/lib/Catty.pm line 14
	require Catty.pm called at C:/Perl/site/lib/Module/Runtime.pm line 317
	Module::Runtime::require_module("Catty") called at C:/Perl/lib/Class/Load.pm line 177
	Class::Load::try {...} () called at C:/Perl/lib/Try/Tiny.pm line 78
	eval {...} called at C:/Perl/lib/Try/Tiny.pm line 74
	Try::Tiny::try(CODE(0x3564ae4), Try::Tiny::Catch=REF(0x356a1bc)) called at C:/Perl/lib/Class/Load.pm line 183
	Class::Load::try_load_class("Catty", undef) called at C:/Perl/lib/Class/Load.pm line 38
	Class::Load::load_class("Catty") called at C:\perl\cpan\build\Test-WWW-Mechanize-Catalyst-0.59-L4oeHA\blib\lib/Test/WWW/Mechanize/Catalyst.pm line 70
	Test::WWW::Mechanize::Catalyst::BUILD(Test::WWW::Mechanize::Catalyst=HASH(0x35683ac), HASH(0x354b924)) called at C:/Perl/site/lib/Class/MOP/Method.pm line 126
	Class::MOP::Method::execute(Moose::Meta::Method=HASH(0x3761224), Test::WWW::Mechanize::Catalyst=HASH(0x35683ac), HASH(0x354b924)) called at C:/Perl/site/lib/Moose/Object.pm line 55
	Moose::Object::BUILDALL(Test::WWW::Mechanize::Catalyst=HASH(0x35683ac), HASH(0x354b924)) called at C:/Perl/site/lib/Moose/Meta/Class.pm line 281
	Moose::Meta::Class::new_object(Moose::Meta::Class=HASH(0x2df195c), "__INSTANCE__", Test::WWW::Mechanize::Catalyst=HASH(0x35683ac), "catalyst_app", "Catty") called at C:\perl\cpan\build\Test-WWW-Mechanize-Catalyst-0.59-L4oeHA\blib\lib/Test/WWW/Mechanize/Catalyst.pm line 52
	Test::WWW::Mechanize::Catalyst::new("Test::WWW::Mechanize::Catalyst", "catalyst_app", "Catty") called at t/two_app.t line 24
Class::MOP::is_class_loaded is deprecated at C:/Perl/site/lib/Class/MOP.pm line 89.
	Class::MOP::is_class_loaded("Catalyst::Stats") called at C:/Perl/site/lib/Catalyst/Utils.pm line 298
	Catalyst::Utils::ensure_class_loaded("Catalyst::Stats") called at C:/Perl/site/lib/Catalyst.pm line 2918
	Catalyst::setup_stats("Catty", undef) called at C:/Perl/site/lib/Catalyst.pm line 1116
	Catalyst::setup("Catty") called at t/lib/Catty.pm line 14
	require Catty.pm called at C:/Perl/site/lib/Module/Runtime.pm line 317
	Module::Runtime::require_module("Catty") called at C:/Perl/lib/Class/Load.pm line 177
	Class::Load::try {...} () called at C:/Perl/lib/Try/Tiny.pm line 78
	eval {...} called at C:/Perl/lib/Try/Tiny.pm line 74
	Try::Tiny::try(CODE(0x3564ae4), Try::Tiny::Catch=REF(0x356a1bc)) called at C:/Perl/lib/Class/Load.pm line 183
	Class::Load::try_load_class("Catty", undef) called at C:/Perl/lib/Class/Load.pm line 38
	Class::Load::load_class("Catty") called at C:\perl\cpan\build\Test-WWW-Mechanize-Catalyst-0.59-L4oeHA\blib\lib/Test/WWW/Mechanize/Catalyst.pm line 70
	Test::WWW::Mechanize::Catalyst::BUILD(Test::WWW::Mechanize::Catalyst=HASH(0x35683ac), HASH(0x354b924)) called at C:/Perl/site/lib/Class/MOP/Method.pm line 126
	Class::MOP::Method::execute(Moose::Meta::Method=HASH(0x3761224), Test::WWW::Mechanize::Catalyst=HASH(0x35683ac), HASH(0x354b924)) called at C:/Perl/site/lib/Moose/Object.pm line 55
	Moose::Object::BUILDALL(Test::WWW::Mechanize::Catalyst=HASH(0x35683ac), HASH(0x354b924)) called at C:/Perl/site/lib/Moose/Meta/Class.pm line 281
	Moose::Meta::Class::new_object(Moose::Meta::Class=HASH(0x2df195c), "__INSTANCE__", Test::WWW::Mechanize::Catalyst=HASH(0x35683ac), "catalyst_app", "Catty") called at C:\perl\cpan\build\Test-WWW-Mechanize-Catalyst-0.59-L4oeHA\blib\lib/Test/WWW/Mechanize/Catalyst.pm line 52
	Test::WWW::Mechanize::Catalyst::new("Test::WWW::Mechanize::Catalyst", "catalyst_app", "Catty") called at t/two_app.t line 24
Class::MOP::is_class_loaded is deprecated at C:/Perl/site/lib/Class/MOP.pm line 89.
	Class::MOP::is_class_loaded("Catty") called at C:/Perl/site/lib/Catalyst/Component.pm line 94
	Catalyst::Component::BUILDARGS("Catty::Controller::Root", "Catty", HASH(0x3edd024)) called at C:/Perl/site/lib/Moose/Role.pm line 79
	Moose::Role::super() called at C:/Perl/site/lib/Catalyst/Component/ApplicationAttribute.pm line 14
	Catalyst::Component::ApplicationAttribute::__ANON__("Catty::Controller::Root", "Catty", HASH(0x3edd024)) called at C:/Perl/site/lib/Moose/Meta/Method/Overridden.pm line 40
	Catalyst::Controller::BUILDARGS("Catty::Controller::Root", "Catty", HASH(0x3edd024)) called at C:/Perl/site/lib/Moose/Object.pm line 24
	Moose::Object::new("Catty::Controller::Root", "Catty", HASH(0x3edd024)) called at constructor Catalyst::Controller::new (defined at C:/Perl/site/lib/Catalyst/Controller.pm line 585) line 4
	Catalyst::Controller::new("Catty::Controller::Root", "Catty", HASH(0x3edd024)) called at C:/Perl/site/lib/Catalyst/Component.pm line 121
	Catalyst::Component::COMPONENT("Catty::Controller::Root", "Catty", HASH(0x3edd024)) called at C:/Perl/site/lib/Catalyst.pm line 2600
	eval {...} called at C:/Perl/site/lib/Catalyst.pm line 2600
	Catalyst::setup_component("Catty", "Catty::Controller::Root") called at C:/Perl/site/lib/Catalyst.pm line 2527
	Catalyst::setup_components("Catty") called at C:/Perl/site/lib/Catalyst.pm line 1177
	Catalyst::setup("Catty") called at t/lib/Catty.pm line 14
	require Catty.pm called at C:/Perl/site/lib/Module/Runtime.pm line 317
	Module::Runtime::require_module("Catty") called at C:/Perl/lib/Class/Load.pm line 177
	Class::Load::try {...} () called at C:/Perl/lib/Try/Tiny.pm line 78
	eval {...} called at C:/Perl/lib/Try/Tiny.pm line 74
	Try::Tiny::try(CODE(0x3564ae4), Try::Tiny::Catch=REF(0x356a1bc)) called at C:/Perl/lib/Class/Load.pm line 183
	Class::Load::try_load_class("Catty", undef) called at C:/Perl/lib/Class/Load.pm line 38
	Class::Load::load_class("Catty") called at C:\perl\cpan\build\Test-WWW-Mechanize-Catalyst-0.59-L4oeHA\blib\lib/Test/WWW/Mechanize/Catalyst.pm line 70
	Test::WWW::Mechanize::Catalyst::BUILD(Test::WWW::Mechanize::Catalyst=HASH(0x35683ac), HASH(0x354b924)) called at C:/Perl/site/lib/Class/MOP/Method.pm line 126
	Class::MOP::Method::execute(Moose::Meta::Method=HASH(0x3761224), Test::WWW::Mechanize::Catalyst=HASH(0x35683ac), HASH(0x354b924)) called at C:/Perl/site/lib/Moose/Object.pm line 55
	Moose::Object::BUILDALL(Test::WWW::Mechanize::Catalyst=HASH(0x35683ac), HASH(0x354b924)) called at C:/Perl/site/lib/Moose/Meta/Class.pm line 281
	Moose::Meta::Class::new_object(Moose::Meta::Class=HASH(0x2df195c), "__INSTANCE__", Test::WWW::Mechanize::Catalyst=HASH(0x35683ac), "catalyst_app", "Catty") called at C:\perl\cpan\build\Test-WWW-Mechanize-Catalyst-0.59-L4oeHA\blib\lib/Test/WWW/Mechanize/Catalyst.pm line 52
	Test::WWW::Mechanize::Catalyst::new("Test::WWW::Mechanize::Catalyst", "catalyst_app", "Catty") called at t/two_app.t line 24
Class::MOP::load_class is deprecated at C:/Perl/site/lib/Class/MOP.pm line 71.
	Class::MOP::load_class("Catalyst::DispatchType::Index") called at C:/Perl/site/lib/Catalyst/Dispatcher.pm line 661
	eval {...} called at C:/Perl/site/lib/Catalyst/Dispatcher.pm line 661
	Catalyst::Dispatcher::_load_dispatch_types(Catalyst::Dispatcher=HASH(0x3db4304), "Index", "Path", "Regex") called at C:/Perl/site/lib/Catalyst/Dispatcher.pm line 601
	Catalyst::Dispatcher::setup_actions(Catalyst::Dispatcher=HASH(0x3db4304), "Catty") called at C:/Perl/site/lib/Catalyst.pm line 2487
	Catalyst::setup_actions("Catty") called at C:/Perl/site/lib/Catalyst.pm line 1195
	Catalyst::setup("Catty") called at t/lib/Catty.pm line 14
	require Catty.pm called at C:/Perl/site/lib/Module/Runtime.pm line 317
	Module::Runtime::require_module("Catty") called at C:/Perl/lib/Class/Load.pm line 177
	Class::Load::try {...} () called at C:/Perl/lib/Try/Tiny.pm line 78
	eval {...} called at C:/Perl/lib/Try/Tiny.pm line 74
	Try::Tiny::try(CODE(0x3564ae4), Try::Tiny::Catch=REF(0x356a1bc)) called at C:/Perl/lib/Class/Load.pm line 183
	Class::Load::try_load_class("Catty", undef) called at C:/Perl/lib/Class/Load.pm line 38
	Class::Load::load_class("Catty") called at C:\perl\cpan\build\Test-WWW-Mechanize-Catalyst-0.59-L4oeHA\blib\lib/Test/WWW/Mechanize/Catalyst.pm line 70
	Test::WWW::Mechanize::Catalyst::BUILD(Test::WWW::Mechanize::Catalyst=HASH(0x35683ac), HASH(0x354b924)) called at C:/Perl/site/lib/Class/MOP/Method.pm line 126
	Class::MOP::Method::execute(Moose::Meta::Method=HASH(0x3761224), Test::WWW::Mechanize::Catalyst=HASH(0x35683ac), HASH(0x354b924)) called at C:/Perl/site/lib/Moose/Object.pm line 55
	Moose::Object::BUILDALL(Test::WWW::Mechanize::Catalyst=HASH(0x35683ac), HASH(0x354b924)) called at C:/Perl/site/lib/Moose/Meta/Class.pm line 281
	Moose::Meta::Class::new_object(Moose::Meta::Class=HASH(0x2df195c), "__INSTANCE__", Test::WWW::Mechanize::Catalyst=HASH(0x35683ac), "catalyst_app", "Catty") called at C:\perl\cpan\build\Test-WWW-Mechanize-Catalyst-0.59-L4oeHA\blib\lib/Test/WWW/Mechanize/Catalyst.pm line 52
	Test::WWW::Mechanize::Catalyst::new("Test::WWW::Mechanize::Catalyst", "catalyst_app", "Catty") called at t/two_app.t line 24
Class::MOP::load_class is deprecated at C:/Perl/site/lib/Class/MOP.pm line 71.
	Class::MOP::load_class("Catalyst::Action") called at C:/Perl/site/lib/Catalyst/Controller.pm line 320
	Catalyst::Controller::action_class(Catty::Controller::Root=HASH(0x4055f4c), "namespace", "", "name", "_DISPATCH", "class", "Catty::Controller::Root", "attributes", HASH(0x3b0ada4), ...) called at C:/Perl/site/lib/Catalyst/Controller.pm line 328
	Catalyst::Controller::create_action(Catty::Controller::Root=HASH(0x4055f4c), "name", "_DISPATCH", "code", CODE(0x3b05b4c), "reverse", "_DISPATCH", "namespace", "", ...) called at C:/Perl/site/lib/Catalyst/Controller.pm line 285
	Catalyst::Controller::register_action_methods(Catty::Controller::Root=HASH(0x4055f4c), "Catty", Moose::Meta::Class::__ANON__::SERIAL::8=HASH(0x4053024), Moose::Meta::Class::__ANON__::SERIAL::8=HASH(0x4045724), Moose::Meta::Class::__ANON__::SERIAL::8=HASH(0x4045aec), Moose::Meta::Class::__ANON__::SERIAL::8=HASH(0x4047104), Moose::Meta::Class::__ANON__::SERIAL::8=HASH(0x4045ddc), Moose::Meta::Class::__ANON__::SERIAL::8=HASH(0x40330a4), Moose::Meta::Class::__ANON__::SERIAL::8=HASH(0x4051594), ...) called at C:/Perl/site/lib/Catalyst/Controller.pm line 254
	Catalyst::Controller::register_actions(Catty::Controller::Root=HASH(0x4055f4c), "Catty") called at C:/Perl/site/lib/Catalyst/Dispatcher.pm line 605
	Catalyst::Dispatcher::setup_actions(Catalyst::Dispatcher=HASH(0x3db4304), "Catty") called at C:/Perl/site/lib/Catalyst.pm line 2487
	Catalyst::setup_actions("Catty") called at C:/Perl/site/lib/Catalyst.pm line 1195
	Catalyst::setup("Catty") called at t/lib/Catty.pm line 14
	require Catty.pm called at C:/Perl/site/lib/Module/Runtime.pm line 317
	Module::Runtime::require_module("Catty") called at C:/Perl/lib/Class/Load.pm line 177
	Class::Load::try {...} () called at C:/Perl/lib/Try/Tiny.pm line 78
	eval {...} called at C:/Perl/lib/Try/Tiny.pm line 74
	Try::Tiny::try(CODE(0x3564ae4), Try::Tiny::Catch=REF(0x356a1bc)) called at C:/Perl/lib/Class/Load.pm line 183
	Class::Load::try_load_class("Catty", undef) called at C:/Perl/lib/Class/Load.pm line 38
	Class::Load::load_class("Catty") called at C:\perl\cpan\build\Test-WWW-Mechanize-Catalyst-0.59-L4oeHA\blib\lib/Test/WWW/Mechanize/Catalyst.pm line 70
	Test::WWW::Mechanize::Catalyst::BUILD(Test::WWW::Mechanize::Catalyst=HASH(0x35683ac), HASH(0x354b924)) called at C:/Perl/site/lib/Class/MOP/Method.pm line 126
	Class::MOP::Method::execute(Moose::Meta::Method=HASH(0x3761224), Test::WWW::Mechanize::Catalyst=HASH(0x35683ac), HASH(0x354b924)) called at C:/Perl/site/lib/Moose/Object.pm line 55
	Moose::Object::BUILDALL(Test::WWW::Mechanize::Catalyst=HASH(0x35683ac), HASH(0x354b924)) called at C:/Perl/site/lib/Moose/Meta/Class.pm line 281
	Moose::Meta::Class::new_object(Moose::Meta::Class=HASH(0x2df195c), "__INSTANCE__", Test::WWW::Mechanize::Catalyst=HASH(0x35683ac), "catalyst_app", "Catty") called at C:\perl\cpan\build\Test-WWW-Mechanize-Catalyst-0.59-L4oeHA\blib\lib/Test/WWW/Mechanize/Catalyst.pm line 52
	Test::WWW::Mechanize::Catalyst::new("Test::WWW::Mechanize::Catalyst", "catalyst_app", "Catty") called at t/two_app.t line 24
DEPRECATION WARNING: The Regex dispatch type is deprecated.
  The standalone Catalyst::DispatchType::Regex distribution
  has been temporarily included as a prerequisite of
  Catalyst::Runtime, but will be dropped in the future. Convert
  to Chained methods or include Catalyst::DispatchType::Regex
  as a prerequisite for your application.
t/two_app.t ............. ok
Class::MOP::load_class is deprecated at C:/Perl/site/lib/Class/MOP.pm line 71.
	Class::MOP::load_class("Catalyst::Dispatcher") called at C:/Perl/site/lib/Catalyst.pm line 2643
	Catalyst::setup_dispatcher("Catty", undef) called at C:/Perl/site/lib/Catalyst.pm line 1111
	Catalyst::setup("Catty") called at t/lib/Catty.pm line 14
	require Catty.pm called at C:/Perl/site/lib/Module/Runtime.pm line 317
	Module::Runtime::require_module("Catty") called at C:/Perl/lib/Class/Load.pm line 177
	Class::Load::try {...} () called at C:/Perl/lib/Try/Tiny.pm line 78
	eval {...} called at C:/Perl/lib/Try/Tiny.pm line 74
	Try::Tiny::try(CODE(0x33221c4), Try::Tiny::Catch=REF(0x348b56c)) called at C:/Perl/lib/Class/Load.pm line 183
	Class::Load::try_load_class("Catty", undef) called at C:/Perl/lib/Class/Load.pm line 38
	Class::Load::load_class("Catty") called at lib/Test/WWW/Mechanize/Catalyst.pm line 245
	Test::WWW::Mechanize::Catalyst::import("Test::WWW::Mechanize::Catalyst", "Catty") called at t/useragent.t line 8
	main::BEGIN() called at t/lib/Catty.pm line 0
	eval {...} called at t/lib/Catty.pm line 0
Class::MOP::is_class_loaded is deprecated at C:/Perl/site/lib/Class/MOP.pm line 89.
	Class::MOP::is_class_loaded("Catalyst::Stats") called at C:/Perl/site/lib/Catalyst/Utils.pm line 298
	Catalyst::Utils::ensure_class_loaded("Catalyst::Stats") called at C:/Perl/site/lib/Catalyst.pm line 2918
	Catalyst::setup_stats("Catty", undef) called at C:/Perl/site/lib/Catalyst.pm line 1116
	Catalyst::setup("Catty") called at t/lib/Catty.pm line 14
	require Catty.pm called at C:/Perl/site/lib/Module/Runtime.pm line 317
	Module::Runtime::require_module("Catty") called at C:/Perl/lib/Class/Load.pm line 177
	Class::Load::try {...} () called at C:/Perl/lib/Try/Tiny.pm line 78
	eval {...} called at C:/Perl/lib/Try/Tiny.pm line 74
	Try::Tiny::try(CODE(0x33221c4), Try::Tiny::Catch=REF(0x348b56c)) called at C:/Perl/lib/Class/Load.pm line 183
	Class::Load::try_load_class("Catty", undef) called at C:/Perl/lib/Class/Load.pm line 38
	Class::Load::load_class("Catty") called at lib/Test/WWW/Mechanize/Catalyst.pm line 245
	Test::WWW::Mechanize::Catalyst::import("Test::WWW::Mechanize::Catalyst", "Catty") called at t/useragent.t line 8
	main::BEGIN() called at t/lib/Catty.pm line 0
	eval {...} called at t/lib/Catty.pm line 0
Class::MOP::is_class_loaded is deprecated at C:/Perl/site/lib/Class/MOP.pm line 89.
	Class::MOP::is_class_loaded("Catty") called at C:/Perl/site/lib/Catalyst/Component.pm line 94
	Catalyst::Component::BUILDARGS("Catty::Controller::Root", "Catty", HASH(0x3d40cd4)) called at C:/Perl/site/lib/Moose/Role.pm line 79
	Moose::Role::super() called at C:/Perl/site/lib/Catalyst/Component/ApplicationAttribute.pm line 14
	Catalyst::Component::ApplicationAttribute::__ANON__("Catty::Controller::Root", "Catty", HASH(0x3d40cd4)) called at C:/Perl/site/lib/Moose/Meta/Method/Overridden.pm line 40
	Catalyst::Controller::BUILDARGS("Catty::Controller::Root", "Catty", HASH(0x3d40cd4)) called at C:/Perl/site/lib/Moose/Object.pm line 24
	Moose::Object::new("Catty::Controller::Root", "Catty", HASH(0x3d40cd4)) called at constructor Catalyst::Controller::new (defined at C:/Perl/site/lib/Catalyst/Controller.pm line 585) line 4
	Catalyst::Controller::new("Catty::Controller::Root", "Catty", HASH(0x3d40cd4)) called at C:/Perl/site/lib/Catalyst/Component.pm line 121
	Catalyst::Component::COMPONENT("Catty::Controller::Root", "Catty", HASH(0x3d40cd4)) called at C:/Perl/site/lib/Catalyst.pm line 2600
	eval {...} called at C:/Perl/site/lib/Catalyst.pm line 2600
	Catalyst::setup_component("Catty", "Catty::Controller::Root") called at C:/Perl/site/lib/Catalyst.pm line 2527
	Catalyst::setup_components("Catty") called at C:/Perl/site/lib/Catalyst.pm line 1177
	Catalyst::setup("Catty") called at t/lib/Catty.pm line 14
	require Catty.pm called at C:/Perl/site/lib/Module/Runtime.pm line 317
	Module::Runtime::require_module("Catty") called at C:/Perl/lib/Class/Load.pm line 177
	Class::Load::try {...} () called at C:/Perl/lib/Try/Tiny.pm line 78
	eval {...} called at C:/Perl/lib/Try/Tiny.pm line 74
	Try::Tiny::try(CODE(0x33221c4), Try::Tiny::Catch=REF(0x348b56c)) called at C:/Perl/lib/Class/Load.pm line 183
	Class::Load::try_load_class("Catty", undef) called at C:/Perl/lib/Class/Load.pm line 38
	Class::Load::load_class("Catty") called at lib/Test/WWW/Mechanize/Catalyst.pm line 245
	Test::WWW::Mechanize::Catalyst::import("Test::WWW::Mechanize::Catalyst", "Catty") called at t/useragent.t line 8
	main::BEGIN() called at t/lib/Catty.pm line 0
	eval {...} called at t/lib/Catty.pm line 0
Class::MOP::load_class is deprecated at C:/Perl/site/lib/Class/MOP.pm line 71.
	Class::MOP::load_class("Catalyst::DispatchType::Index") called at C:/Perl/site/lib/Catalyst/Dispatcher.pm line 661
	eval {...} called at C:/Perl/site/lib/Catalyst/Dispatcher.pm line 661
	Catalyst::Dispatcher::_load_dispatch_types(Catalyst::Dispatcher=HASH(0x3afe7d4), "Index", "Path", "Regex") called at C:/Perl/site/lib/Catalyst/Dispatcher.pm line 601
	Catalyst::Dispatcher::setup_actions(Catalyst::Dispatcher=HASH(0x3afe7d4), "Catty") called at C:/Perl/site/lib/Catalyst.pm line 2487
	Catalyst::setup_actions("Catty") called at C:/Perl/site/lib/Catalyst.pm line 1195
	Catalyst::setup("Catty") called at t/lib/Catty.pm line 14
	require Catty.pm called at C:/Perl/site/lib/Module/Runtime.pm line 317
	Module::Runtime::require_module("Catty") called at C:/Perl/lib/Class/Load.pm line 177
	Class::Load::try {...} () called at C:/Perl/lib/Try/Tiny.pm line 78
	eval {...} called at C:/Perl/lib/Try/Tiny.pm line 74
	Try::Tiny::try(CODE(0x33221c4), Try::Tiny::Catch=REF(0x348b56c)) called at C:/Perl/lib/Class/Load.pm line 183
	Class::Load::try_load_class("Catty", undef) called at C:/Perl/lib/Class/Load.pm line 38
	Class::Load::load_class("Catty") called at lib/Test/WWW/Mechanize/Catalyst.pm line 245
	Test::WWW::Mechanize::Catalyst::import("Test::WWW::Mechanize::Catalyst", "Catty") called at t/useragent.t line 8
	main::BEGIN() called at t/lib/Catty.pm line 0
	eval {...} called at t/lib/Catty.pm line 0
Class::MOP::load_class is deprecated at C:/Perl/site/lib/Class/MOP.pm line 71.
	Class::MOP::load_class("Catalyst::Action") called at C:/Perl/site/lib/Catalyst/Controller.pm line 320
	Catalyst::Controller::action_class(Catty::Controller::Root=HASH(0x3d67efc), "namespace", "", "name", "_DISPATCH", "class", "Catty::Controller::Root", "attributes", HASH(0x3863bbc), ...) called at C:/Perl/site/lib/Catalyst/Controller.pm line 328
	Catalyst::Controller::create_action(Catty::Controller::Root=HASH(0x3d67efc), "name", "_DISPATCH", "code", CODE(0x385e964), "reverse", "_DISPATCH", "namespace", "", ...) called at C:/Perl/site/lib/Catalyst/Controller.pm line 285
	Catalyst::Controller::register_action_methods(Catty::Controller::Root=HASH(0x3d67efc), "Catty", Moose::Meta::Class::__ANON__::SERIAL::7=HASH(0x3d5a00c), Moose::Meta::Class::__ANON__::SERIAL::7=HASH(0x3d576d4), Moose::Meta::Class::__ANON__::SERIAL::7=HASH(0x3d57a9c), Moose::Meta::Class::__ANON__::SERIAL::7=HASH(0x3d590b4), Moose::Meta::Class::__ANON__::SERIAL::7=HASH(0x3d57d8c), Moose::Meta::Class::__ANON__::SERIAL::7=HASH(0x3d47374), Moose::Meta::Class::__ANON__::SERIAL::7=HASH(0x3d63544), ...) called at C:/Perl/site/lib/Catalyst/Controller.pm line 254
	Catalyst::Controller::register_actions(Catty::Controller::Root=HASH(0x3d67efc), "Catty") called at C:/Perl/site/lib/Catalyst/Dispatcher.pm line 605
	Catalyst::Dispatcher::setup_actions(Catalyst::Dispatcher=HASH(0x3afe7d4), "Catty") called at C:/Perl/site/lib/Catalyst.pm line 2487
	Catalyst::setup_actions("Catty") called at C:/Perl/site/lib/Catalyst.pm line 1195
	Catalyst::setup("Catty") called at t/lib/Catty.pm line 14
	require Catty.pm called at C:/Perl/site/lib/Module/Runtime.pm line 317
	Module::Runtime::require_module("Catty") called at C:/Perl/lib/Class/Load.pm line 177
	Class::Load::try {...} () called at C:/Perl/lib/Try/Tiny.pm line 78
	eval {...} called at C:/Perl/lib/Try/Tiny.pm line 74
	Try::Tiny::try(CODE(0x33221c4), Try::Tiny::Catch=REF(0x348b56c)) called at C:/Perl/lib/Class/Load.pm line 183
	Class::Load::try_load_class("Catty", undef) called at C:/Perl/lib/Class/Load.pm line 38
	Class::Load::load_class("Catty") called at lib/Test/WWW/Mechanize/Catalyst.pm line 245
	Test::WWW::Mechanize::Catalyst::import("Test::WWW::Mechanize::Catalyst", "Catty") called at t/useragent.t line 8
	main::BEGIN() called at t/lib/Catty.pm line 0
	eval {...} called at t/lib/Catty.pm line 0
DEPRECATION WARNING: The Regex dispatch type is deprecated.
  The standalone Catalyst::DispatchType::Regex distribution
  has been temporarily included as a prerequisite of
  Catalyst::Runtime, but will be dropped in the future. Convert
  to Chained methods or include Catalyst::DispatchType::Regex
  as a prerequisite for your application.
t/useragent.t ........... ok
Class::MOP::load_class is deprecated at C:/Perl/site/lib/Class/MOP.pm line 71.
	Class::MOP::load_class("Catalyst::Dispatcher") called at C:/Perl/site/lib/Catalyst.pm line 2643
	Catalyst::setup_dispatcher("Catty", undef) called at C:/Perl/site/lib/Catalyst.pm line 1111
	Catalyst::setup("Catty") called at t/lib/Catty.pm line 14
	require Catty.pm called at C:/Perl/site/lib/Module/Runtime.pm line 317
	Module::Runtime::require_module("Catty") called at C:/Perl/lib/Class/Load.pm line 177
	Class::Load::try {...} () called at C:/Perl/lib/Try/Tiny.pm line 78
	eval {...} called at C:/Perl/lib/Try/Tiny.pm line 74
	Try::Tiny::try(CODE(0x3383184), Try::Tiny::Catch=REF(0x34f5294)) called at C:/Perl/lib/Class/Load.pm line 183
	Class::Load::try_load_class("Catty", undef) called at C:/Perl/lib/Class/Load.pm line 38
	Class::Load::load_class("Catty") called at C:\perl\cpan\build\Test-WWW-Mechanize-Catalyst-0.59-L4oeHA\blib\lib/Test/WWW/Mechanize/Catalyst.pm line 70
	Test::WWW::Mechanize::Catalyst::BUILD(Test::WWW::Mechanize::Catalyst=HASH(0x3385f94), HASH(0x2b85a04)) called at C:/Perl/site/lib/Class/MOP/Method.pm line 126
	Class::MOP::Method::execute(Moose::Meta::Method=HASH(0x3517a64), Test::WWW::Mechanize::Catalyst=HASH(0x3385f94), HASH(0x2b85a04)) called at C:/Perl/site/lib/Moose/Object.pm line 55
	Moose::Object::BUILDALL(Test::WWW::Mechanize::Catalyst=HASH(0x3385f94), HASH(0x2b85a04)) called at C:/Perl/site/lib/Moose/Meta/Class.pm line 281
	Moose::Meta::Class::new_object(Moose::Meta::Class=HASH(0x2a8a25c), "__INSTANCE__", Test::WWW::Mechanize::Catalyst=HASH(0x3385f94), "catalyst_app", "Catty") called at C:\perl\cpan\build\Test-WWW-Mechanize-Catalyst-0.59-L4oeHA\blib\lib/Test/WWW/Mechanize/Catalyst.pm line 52
	Test::WWW::Mechanize::Catalyst::new("Test::WWW::Mechanize::Catalyst", "catalyst_app", "Catty") called at t/white_label.t line 8
Class::MOP::is_class_loaded is deprecated at C:/Perl/site/lib/Class/MOP.pm line 89.
	Class::MOP::is_class_loaded("Catalyst::Stats") called at C:/Perl/site/lib/Catalyst/Utils.pm line 298
	Catalyst::Utils::ensure_class_loaded("Catalyst::Stats") called at C:/Perl/site/lib/Catalyst.pm line 2918
	Catalyst::setup_stats("Catty", undef) called at C:/Perl/site/lib/Catalyst.pm line 1116
	Catalyst::setup("Catty") called at t/lib/Catty.pm line 14
	require Catty.pm called at C:/Perl/site/lib/Module/Runtime.pm line 317
	Module::Runtime::require_module("Catty") called at C:/Perl/lib/Class/Load.pm line 177
	Class::Load::try {...} () called at C:/Perl/lib/Try/Tiny.pm line 78
	eval {...} called at C:/Perl/lib/Try/Tiny.pm line 74
	Try::Tiny::try(CODE(0x3383184), Try::Tiny::Catch=REF(0x34f5294)) called at C:/Perl/lib/Class/Load.pm line 183
	Class::Load::try_load_class("Catty", undef) called at C:/Perl/lib/Class/Load.pm line 38
	Class::Load::load_class("Catty") called at C:\perl\cpan\build\Test-WWW-Mechanize-Catalyst-0.59-L4oeHA\blib\lib/Test/WWW/Mechanize/Catalyst.pm line 70
	Test::WWW::Mechanize::Catalyst::BUILD(Test::WWW::Mechanize::Catalyst=HASH(0x3385f94), HASH(0x2b85a04)) called at C:/Perl/site/lib/Class/MOP/Method.pm line 126
	Class::MOP::Method::execute(Moose::Meta::Method=HASH(0x3517a64), Test::WWW::Mechanize::Catalyst=HASH(0x3385f94), HASH(0x2b85a04)) called at C:/Perl/site/lib/Moose/Object.pm line 55
	Moose::Object::BUILDALL(Test::WWW::Mechanize::Catalyst=HASH(0x3385f94), HASH(0x2b85a04)) called at C:/Perl/site/lib/Moose/Meta/Class.pm line 281
	Moose::Meta::Class::new_object(Moose::Meta::Class=HASH(0x2a8a25c), "__INSTANCE__", Test::WWW::Mechanize::Catalyst=HASH(0x3385f94), "catalyst_app", "Catty") called at C:\perl\cpan\build\Test-WWW-Mechanize-Catalyst-0.59-L4oeHA\blib\lib/Test/WWW/Mechanize/Catalyst.pm line 52
	Test::WWW::Mechanize::Catalyst::new("Test::WWW::Mechanize::Catalyst", "catalyst_app", "Catty") called at t/white_label.t line 8
Class::MOP::is_class_loaded is deprecated at C:/Perl/site/lib/Class/MOP.pm line 89.
	Class::MOP::is_class_loaded("Catty") called at C:/Perl/site/lib/Catalyst/Component.pm line 94
	Catalyst::Component::BUILDARGS("Catty::Controller::Root", "Catty", HASH(0x3e3e384)) called at C:/Perl/site/lib/Moose/Role.pm line 79
	Moose::Role::super() called at C:/Perl/site/lib/Catalyst/Component/ApplicationAttribute.pm line 14
	Catalyst::Component::ApplicationAttribute::__ANON__("Catty::Controller::Root", "Catty", HASH(0x3e3e384)) called at C:/Perl/site/lib/Moose/Meta/Method/Overridden.pm line 40
	Catalyst::Controller::BUILDARGS("Catty::Controller::Root", "Catty", HASH(0x3e3e384)) called at C:/Perl/site/lib/Moose/Object.pm line 24
	Moose::Object::new("Catty::Controller::Root", "Catty", HASH(0x3e3e384)) called at constructor Catalyst::Controller::new (defined at C:/Perl/site/lib/Catalyst/Controller.pm line 585) line 4
	Catalyst::Controller::new("Catty::Controller::Root", "Catty", HASH(0x3e3e384)) called at C:/Perl/site/lib/Catalyst/Component.pm line 121
	Catalyst::Component::COMPONENT("Catty::Controller::Root", "Catty", HASH(0x3e3e384)) called at C:/Perl/site/lib/Catalyst.pm line 2600
	eval {...} called at C:/Perl/site/lib/Catalyst.pm line 2600
	Catalyst::setup_component("Catty", "Catty::Controller::Root") called at C:/Perl/site/lib/Catalyst.pm line 2527
	Catalyst::setup_components("Catty") called at C:/Perl/site/lib/Catalyst.pm line 1177
	Catalyst::setup("Catty") called at t/lib/Catty.pm line 14
	require Catty.pm called at C:/Perl/site/lib/Module/Runtime.pm line 317
	Module::Runtime::require_module("Catty") called at C:/Perl/lib/Class/Load.pm line 177
	Class::Load::try {...} () called at C:/Perl/lib/Try/Tiny.pm line 78
	eval {...} called at C:/Perl/lib/Try/Tiny.pm line 74
	Try::Tiny::try(CODE(0x3383184), Try::Tiny::Catch=REF(0x34f5294)) called at C:/Perl/lib/Class/Load.pm line 183
	Class::Load::try_load_class("Catty", undef) called at C:/Perl/lib/Class/Load.pm line 38
	Class::Load::load_class("Catty") called at C:\perl\cpan\build\Test-WWW-Mechanize-Catalyst-0.59-L4oeHA\blib\lib/Test/WWW/Mechanize/Catalyst.pm line 70
	Test::WWW::Mechanize::Catalyst::BUILD(Test::WWW::Mechanize::Catalyst=HASH(0x3385f94), HASH(0x2b85a04)) called at C:/Perl/site/lib/Class/MOP/Method.pm line 126
	Class::MOP::Method::execute(Moose::Meta::Method=HASH(0x3517a64), Test::WWW::Mechanize::Catalyst=HASH(0x3385f94), HASH(0x2b85a04)) called at C:/Perl/site/lib/Moose/Object.pm line 55
	Moose::Object::BUILDALL(Test::WWW::Mechanize::Catalyst=HASH(0x3385f94), HASH(0x2b85a04)) called at C:/Perl/site/lib/Moose/Meta/Class.pm line 281
	Moose::Meta::Class::new_object(Moose::Meta::Class=HASH(0x2a8a25c), "__INSTANCE__", Test::WWW::Mechanize::Catalyst=HASH(0x3385f94), "catalyst_app", "Catty") called at C:\perl\cpan\build\Test-WWW-Mechanize-Catalyst-0.59-L4oeHA\blib\lib/Test/WWW/Mechanize/Catalyst.pm line 52
	Test::WWW::Mechanize::Catalyst::new("Test::WWW::Mechanize::Catalyst", "catalyst_app", "Catty") called at t/white_label.t line 8
Class::MOP::load_class is deprecated at C:/Perl/site/lib/Class/MOP.pm line 71.
	Class::MOP::load_class("Catalyst::DispatchType::Index") called at C:/Perl/site/lib/Catalyst/Dispatcher.pm line 661
	eval {...} called at C:/Perl/site/lib/Catalyst/Dispatcher.pm line 661
	Catalyst::Dispatcher::_load_dispatch_types(Catalyst::Dispatcher=HASH(0x3b834e4), "Index", "Path", "Regex") called at C:/Perl/site/lib/Catalyst/Dispatcher.pm line 601
	Catalyst::Dispatcher::setup_actions(Catalyst::Dispatcher=HASH(0x3b834e4), "Catty") called at C:/Perl/site/lib/Catalyst.pm line 2487
	Catalyst::setup_actions("Catty") called at C:/Perl/site/lib/Catalyst.pm line 1195
	Catalyst::setup("Catty") called at t/lib/Catty.pm line 14
	require Catty.pm called at C:/Perl/site/lib/Module/Runtime.pm line 317
	Module::Runtime::require_module("Catty") called at C:/Perl/lib/Class/Load.pm line 177
	Class::Load::try {...} () called at C:/Perl/lib/Try/Tiny.pm line 78
	eval {...} called at C:/Perl/lib/Try/Tiny.pm line 74
	Try::Tiny::try(CODE(0x3383184), Try::Tiny::Catch=REF(0x34f5294)) called at C:/Perl/lib/Class/Load.pm line 183
	Class::Load::try_load_class("Catty", undef) called at C:/Perl/lib/Class/Load.pm line 38
	Class::Load::load_class("Catty") called at C:\perl\cpan\build\Test-WWW-Mechanize-Catalyst-0.59-L4oeHA\blib\lib/Test/WWW/Mechanize/Catalyst.pm line 70
	Test::WWW::Mechanize::Catalyst::BUILD(Test::WWW::Mechanize::Catalyst=HASH(0x3385f94), HASH(0x2b85a04)) called at C:/Perl/site/lib/Class/MOP/Method.pm line 126
	Class::MOP::Method::execute(Moose::Meta::Method=HASH(0x3517a64), Test::WWW::Mechanize::Catalyst=HASH(0x3385f94), HASH(0x2b85a04)) called at C:/Perl/site/lib/Moose/Object.pm line 55
	Moose::Object::BUILDALL(Test::WWW::Mechanize::Catalyst=HASH(0x3385f94), HASH(0x2b85a04)) called at C:/Perl/site/lib/Moose/Meta/Class.pm line 281
	Moose::Meta::Class::new_object(Moose::Meta::Class=HASH(0x2a8a25c), "__INSTANCE__", Test::WWW::Mechanize::Catalyst=HASH(0x3385f94), "catalyst_app", "Catty") called at C:\perl\cpan\build\Test-WWW-Mechanize-Catalyst-0.59-L4oeHA\blib\lib/Test/WWW/Mechanize/Catalyst.pm line 52
	Test::WWW::Mechanize::Catalyst::new("Test::WWW::Mechanize::Catalyst", "catalyst_app", "Catty") called at t/white_label.t line 8
Class::MOP::load_class is deprecated at C:/Perl/site/lib/Class/MOP.pm line 71.
	Class::MOP::load_class("Catalyst::Action") called at C:/Perl/site/lib/Catalyst/Controller.pm line 320
	Catalyst::Controller::action_class(Catty::Controller::Root=HASH(0x3f83d0c), "namespace", "", "name", "_DISPATCH", "class", "Catty::Controller::Root", "attributes", HASH(0x39c800c), ...) called at C:/Perl/site/lib/Catalyst/Controller.pm line 328
	Catalyst::Controller::create_action(Catty::Controller::Root=HASH(0x3f83d0c), "name", "_DISPATCH", "code", CODE(0x394a0b4), "reverse", "_DISPATCH", "namespace", "", ...) called at C:/Perl/site/lib/Catalyst/Controller.pm line 285
	Catalyst::Controller::register_action_methods(Catty::Controller::Root=HASH(0x3f83d0c), "Catty", Moose::Meta::Class::__ANON__::SERIAL::7=HASH(0x3f80de4), Moose::Meta::Class::__ANON__::SERIAL::7=HASH(0x3f734e4), Moose::Meta::Class::__ANON__::SERIAL::7=HASH(0x3f738ac), Moose::Meta::Class::__ANON__::SERIAL::7=HASH(0x3f74ec4), Moose::Meta::Class::__ANON__::SERIAL::7=HASH(0x3f73b9c), Moose::Meta::Class::__ANON__::SERIAL::7=HASH(0x3e44dc4), Moose::Meta::Class::__ANON__::SERIAL::7=HASH(0x3f7f354), ...) called at C:/Perl/site/lib/Catalyst/Controller.pm line 254
	Catalyst::Controller::register_actions(Catty::Controller::Root=HASH(0x3f83d0c), "Catty") called at C:/Perl/site/lib/Catalyst/Dispatcher.pm line 605
	Catalyst::Dispatcher::setup_actions(Catalyst::Dispatcher=HASH(0x3b834e4), "Catty") called at C:/Perl/site/lib/Catalyst.pm line 2487
	Catalyst::setup_actions("Catty") called at C:/Perl/site/lib/Catalyst.pm line 1195
	Catalyst::setup("Catty") called at t/lib/Catty.pm line 14
	require Catty.pm called at C:/Perl/site/lib/Module/Runtime.pm line 317
	Module::Runtime::require_module("Catty") called at C:/Perl/lib/Class/Load.pm line 177
	Class::Load::try {...} () called at C:/Perl/lib/Try/Tiny.pm line 78
	eval {...} called at C:/Perl/lib/Try/Tiny.pm line 74
	Try::Tiny::try(CODE(0x3383184), Try::Tiny::Catch=REF(0x34f5294)) called at C:/Perl/lib/Class/Load.pm line 183
	Class::Load::try_load_class("Catty", undef) called at C:/Perl/lib/Class/Load.pm line 38
	Class::Load::load_class("Catty") called at C:\perl\cpan\build\Test-WWW-Mechanize-Catalyst-0.59-L4oeHA\blib\lib/Test/WWW/Mechanize/Catalyst.pm line 70
	Test::WWW::Mechanize::Catalyst::BUILD(Test::WWW::Mechanize::Catalyst=HASH(0x3385f94), HASH(0x2b85a04)) called at C:/Perl/site/lib/Class/MOP/Method.pm line 126
	Class::MOP::Method::execute(Moose::Meta::Method=HASH(0x3517a64), Test::WWW::Mechanize::Catalyst=HASH(0x3385f94), HASH(0x2b85a04)) called at C:/Perl/site/lib/Moose/Object.pm line 55
	Moose::Object::BUILDALL(Test::WWW::Mechanize::Catalyst=HASH(0x3385f94), HASH(0x2b85a04)) called at C:/Perl/site/lib/Moose/Meta/Class.pm line 281
	Moose::Meta::Class::new_object(Moose::Meta::Class=HASH(0x2a8a25c), "__INSTANCE__", Test::WWW::Mechanize::Catalyst=HASH(0x3385f94), "catalyst_app", "Catty") called at C:\perl\cpan\build\Test-WWW-Mechanize-Catalyst-0.59-L4oeHA\blib\lib/Test/WWW/Mechanize/Catalyst.pm line 52
	Test::WWW::Mechanize::Catalyst::new("Test::WWW::Mechanize::Catalyst", "catalyst_app", "Catty") called at t/white_label.t line 8
DEPRECATION WARNING: The Regex dispatch type is deprecated.
  The standalone Catalyst::DispatchType::Regex distribution
  has been temporarily included as a prerequisite of
  Catalyst::Runtime, but will be dropped in the future. Convert
  to Chained methods or include Catalyst::DispatchType::Regex
  as a prerequisite for your application.
t/white_label.t ......... ok
All tests successful.
Files=10, Tests=108, 25 wallclock secs ( 0.11 usr +  0.05 sys =  0.16 CPU)
Result: PASS

------------------------------
PREREQUISITES
------------------------------

Prerequisite modules loaded:

requires:

    Module                                   Need     Have    
    ---------------------------------------- -------- --------
    Catalyst                                 5.90     5.90020 
    Class::Load                              0.19     0.20    
    LWP                                      5.816    6.08    
    Moose                                    0.67     2.1210  
    namespace::clean                         0.09     0.25    
    perl                                     5.008004 5.016003
    Test::WWW::Mechanize                     1.14     1.44    
    WWW::Mechanize                           1.54     1.73    

build_requires:

    Module                                   Need     Have    
    ---------------------------------------- -------- --------
    Catalyst::Plugin::Session::State::Cookie 0        0.17    
    Catalyst::Plugin::Session::Store::Dummy  0        0       
    ExtUtils::MakeMaker                      6.59     6.84    
    Test::Exception                          0        0.32    
    Test::More                               0.88     1.001003
    Test::utf8                               0        1.01    

configure_requires:

    Module                                   Need     Have    
    ---------------------------------------- -------- --------
    ExtUtils::MakeMaker                      6.59     6.84    


------------------------------
ENVIRONMENT AND OTHER CONTEXT
------------------------------

Environment variables:

    COMSPEC = C:\TCMD\TCC.EXE
    INCLUDE = c:\openssl\include;c:\VS10\VC\INCLUDE;c:\VS10\VC\ATLMFC\INCLUDE;C:\Program Files (x86)\Microsoft SDKs\Windows\v7.0A\include;c:\tcl\include
    LIB = c:\openssl\lib;c:\VS10\VC\LIB;c:\VS10\VC\ATLMFC\LIB;C:\Program Files (x86)\Microsoft SDKs\Windows\v7.0A\lib;c:\tcl\lib
    NUMBER_OF_PROCESSORS = 4
    PATH = C:\Windows;C:\Windows\System32;C:\Windows\System32\WBEM;C:\Program Files (x86)\ActiveState Komodo IDE 8;C:\Perl\PDK\bin;C:\Python;C:\Python\Scripts;C:\Program Files\RSA SecurID Token Common;C:\Program Files (x86)\ImageMagick-6.8.7-Q16;C:\Tcl\bin;C:\Program Files (x86)\ImageMagick-6.8.7-Q16;C:\Oracle\product\11.2.0\client\bin;C:\Program Files (x86)\ActiveState Komodo IDE 7;C:\TCMD;C:\Utils;C:\openssl\bin;C:\Python;C:\Perl\PDK\bin;C:\Perl\site\bin;C:\Perl\bin;C:\VS10\VC\bin;C:\Program Files (x86)\Nmap;C:\Windows\IDMU\COMMON;C:\Program Files (x86)\Microsoft F#\v4.0;C:\VS10\VSTSDB\Deploy;C:\VS10\Common7\IDE;C:\VS10\Common7\Tools;C:\Windows\Microsoft.NET\Framework\v4.0.30319;C:\Windows\Microsoft.NET\Framework\v3.5;C:\VS10\VC\vcpackages;C:\Program Files (x86)\Microsoft SDKs\Windows\v7.0A\Bin\NETFX 4.0 Tools;C:\Program Files (x86)\Microsoft SDKs\Windows\v7.0A\Bin;C:\Program Files (x86)\Graphviz 2.28\bin;C:\Windows\SYSTEM32\WINDOWSPOWERSHELL\V1.0\;C:\Apache24\bin;C:\Windows\SYSTEM32\WINDOWSPOWERSHELL\V1.0\;C:\Program Files (x86)\QuickTime\QTSystem;C:\Program Files (x86)\Java\jre\bin;C:\Program Files\VanDyke Software\Clients;C:\Program Files (x86)\Intel\OpenCL SDK\2.0\bin\x86;C:\Program Files (x86)\Intel\OpenCL SDK\2.0\bin\x64;C:\Program Files\Intel\WiFi\bin;C:\Program Files\Common Files\Intel\WirelessCommon;C:\Program Files\VanDyke Software\Clients;C:\Program Files (x86)\WinSCP;C:\Program Files (x86)\QuickTime\QTSystem;C:\Program Files (x86)\Intel\OpenCL SDK\2.0\bin\x86;C:\Program Files (x86)\Intel\OpenCL SDK\2.0\bin\x64;C:\Program Files\VanDyke Software\Clients;C:\Program Files (x86)\WinSCP;C:\Program Files\VanDyke Software\Clients;C:\GnuPG\pub
    PERL5LIB = 
    PERL5OPT = 
    PERL5_CPANPLUS_IS_RUNNING = 3960
    PERL5_CPAN_IS_RUNNING = 3960
    PROCESSOR_IDENTIFIER = Intel64 Family 6 Model 42 Stepping 7, GenuineIntel
    TEMP = C:\Users\a00772a\AppData\Local\Temp
    TERM = dumb

Perl special variables (and OS-specific diagnostics, for MSWin32):

    $^X = C:\Perl\bin\perl.EXE
    $UID/$EUID = 0 / 0
    $GID = 0
    $EGID = 0
    Win32::GetOSName = Win7
    Win32::GetOSVersion = Service Pack 1, 6, 1, 7601, 2, 1, 0, 256, 1
    Win32::FsType = NTFS
    Win32::IsAdminUser = 1

Perl module toolchain versions installed:

    Module              Have    
    ------------------- --------
    CPAN                2.05    
    CPAN::Meta          2.142060
    Cwd                 3.47    
    ExtUtils::CBuilder  0.280216
    ExtUtils::Command   1.18    
    ExtUtils::Install   1.54    
    ExtUtils::MakeMaker 6.84    
    ExtUtils::Manifest  1.63    
    ExtUtils::ParseXS   3.22    
    File::Spec          3.47    
    JSON                2.90    
    JSON::PP            2.27203 
    Module::Build       0.4206  
    Module::Signature   0.73    
    Parse::CPAN::Meta   1.4414  
    Test::Harness       3.32    
    Test::More          1.001003
    YAML                1.01    
    YAML::Syck          1.27    
    version             0.9904  


--

Summary of my perl5 (revision 5 version 16 subversion 3) configuration:
   
  Platform:
    osname=MSWin32, osvers=5.2, archname=MSWin32-x86-multi-thread
    uname=''
    config_args='undef'
    hint=recommended, useposix=true, d_sigaction=undef
    useithreads=define, usemultiplicity=define
    useperlio=define, d_sfio=undef, uselargefiles=define, usesocks=undef
    use64bitint=undef, use64bitall=undef, uselongdouble=undef
    usemymalloc=n, bincompat5005=undef
  Compiler:
    cc='cl', ccflags ='-nologo -GF -W3 -MD -Zi -DNDEBUG -O1 -DWIN32 -D_CONSOLE -DNO_STRICT -DPERL_TEXTMODE_SCRIPTS -DUSE_SITECUSTOMIZE -DPERL_IMPLICIT_CONTEXT -DPERL_IMPLICIT_SYS -DUSE_PERLIO -D_USE_32BIT_TIME_T',
    optimize='-MD -Zi -DNDEBUG -O1',
    cppflags='-DWIN32'
    ccversion='16.0.40219', gccversion='', gccosandvers=''
    intsize=4, longsize=4, ptrsize=4, doublesize=8, byteorder=1234
    d_longlong=undef, longlongsize=8, d_longdbl=define, longdblsize=8
    ivtype='long', ivsize=4, nvtype='double', nvsize=8, Off_t='__int64', lseeksize=8
    alignbytes=8, prototype=define
  Linker and Libraries:
    ld='link', ldflags ='-nologo -nodefaultlib -debug -opt:ref,icf  -libpath:"C:\Perl\lib\CORE"  -machine:x86'
    libpth=\lib
    libs=oldnames.lib kernel32.lib user32.lib gdi32.lib winspool.lib  comdlg32.lib advapi32.lib shell32.lib ole32.lib oleaut32.lib  netapi32.lib uuid.lib ws2_32.lib mpr.lib winmm.lib  version.lib odbc32.lib odbccp32.lib comctl32.lib msvcrt.lib
    perllibs=oldnames.lib kernel32.lib user32.lib gdi32.lib winspool.lib  comdlg32.lib advapi32.lib shell32.lib ole32.lib oleaut32.lib  netapi32.lib uuid.lib ws2_32.lib mpr.lib winmm.lib  version.lib odbc32.lib odbccp32.lib comctl32.lib msvcrt.lib
    libc=msvcrt.lib, so=dll, useshrplib=true, libperl=perl516.lib
    gnulibc_version=''
  Dynamic Linking:
    dlsrc=dl_win32.xs, dlext=dll, d_dlsymun=undef, ccdlflags=' '
    cccdlflags=' ', lddlflags='-dll -nologo -nodefaultlib -debug -opt:ref,icf  -libpath:"C:\Perl\lib\CORE"  -machine:x86'


Characteristics of this binary (from libperl): 
  Compile-time options: HAS_TIMES HAVE_INTERP_INTERN MULTIPLICITY
                        PERLIO_LAYERS PERL_DONT_CREATE_GVSV
                        PERL_IMPLICIT_CONTEXT PERL_IMPLICIT_SYS
                        PERL_MALLOC_WRAP PERL_PRESERVE_IVUV PL_OP_SLAB_ALLOC
                        USE_ITHREADS USE_LARGE_FILES USE_LOCALE
                        USE_LOCALE_COLLATE USE_LOCALE_CTYPE
                        USE_LOCALE_NUMERIC USE_PERLIO USE_PERL_ATOF
                        USE_SITECUSTOMIZE
  Locally applied patches:
	ActivePerl Build 1604 [298023]
  Built under MSWin32
  Compiled at Apr 14 2014 14:32:20
  %ENV:
    PERL5_CPANPLUS_IS_RUNNING="3960"
    PERL5_CPAN_IS_RUNNING="3960"
  @INC:
    C:/Perl/site/lib
    C:/Perl/lib
    .