Mojolicious v9.37 Perl 5 v5.40.0 x86_64-linux

Status
Pass
From
Dan Book
Dist
Mojolicious v9.37
Platform
Perl 5 v5.40.0 x86_64-linux
Date
2024-06-11 05:43:48
ID
9327ab6c-27b5-11ef-a57e-e76f254ff524
This distribution has been tested as part of the CPAN Testers
project, supporting the Perl programming language.  See
http://wiki.cpantesters.org/ for more information or email
questions to cpan-testers-discuss@perl.org


--
Dear SRI,

This is a computer-generated report for Mojolicious-9.37
on perl 5.40.0, created by App::cpanminus::reporter 0.21 (1.7047).

Thank you for uploading your work to CPAN.  Congratulations!
All tests were successful.

Sections of this report:

    * Tester comments
    * Program output
    * Prerequisites
    * Environment and other context

------------------------------
TESTER COMMENTS
------------------------------

Additional comments from tester:

none provided

------------------------------
PROGRAM OUTPUT
------------------------------

Output from '':

Building and testing Mojolicious-9.37
cp lib/Mojo/Asset/File.pm blib/lib/Mojo/Asset/File.pm
cp lib/Mojo/Message/Request.pm blib/lib/Mojo/Message/Request.pm
cp lib/Mojo/IOLoop/Subprocess.pm blib/lib/Mojo/IOLoop/Subprocess.pm
cp lib/Mojo/Reactor/Poll.pm blib/lib/Mojo/Reactor/Poll.pm
cp lib/Mojo/Collection.pm blib/lib/Mojo/Collection.pm
cp lib/Mojo/DOM/CSS.pm blib/lib/Mojo/DOM/CSS.pm
cp lib/Mojo/Parameters.pm blib/lib/Mojo/Parameters.pm
cp lib/Mojo/Reactor.pm blib/lib/Mojo/Reactor.pm
cp lib/Mojo/Cookie/Request.pm blib/lib/Mojo/Cookie/Request.pm
cp lib/Mojo/Log.pm blib/lib/Mojo/Log.pm
cp lib/Mojo/Message/Response.pm blib/lib/Mojo/Message/Response.pm
cp lib/Mojo/DOM.pm blib/lib/Mojo/DOM.pm
cp lib/Mojo/Base.pm blib/lib/Mojo/Base.pm
cp lib/Mojo/IOLoop/TLS.pm blib/lib/Mojo/IOLoop/TLS.pm
cp lib/Mojo/File.pm blib/lib/Mojo/File.pm
cp lib/Mojo/IOLoop.pm blib/lib/Mojo/IOLoop.pm
cp lib/Mojo/Home.pm blib/lib/Mojo/Home.pm
cp lib/Mojo/Cookie.pm blib/lib/Mojo/Cookie.pm
cp lib/Mojo/DynamicMethods.pm blib/lib/Mojo/DynamicMethods.pm
cp lib/Mojo/IOLoop/resources/server.key blib/lib/Mojo/IOLoop/resources/server.key
cp lib/Mojo/IOLoop/Stream.pm blib/lib/Mojo/IOLoop/Stream.pm
cp lib/Mojo/ByteStream.pm blib/lib/Mojo/ByteStream.pm
cp lib/Mojo/Content.pm blib/lib/Mojo/Content.pm
cp lib/Mojo/BaseUtil.pm blib/lib/Mojo/BaseUtil.pm
cp lib/Mojo/IOLoop/Server.pm blib/lib/Mojo/IOLoop/Server.pm
cp lib/Mojo/JSON/Pointer.pm blib/lib/Mojo/JSON/Pointer.pm
cp lib/Mojo/Content/Single.pm blib/lib/Mojo/Content/Single.pm
cp lib/Mojo/Exception.pm blib/lib/Mojo/Exception.pm
cp lib/Mojo/HelloWorld.pm blib/lib/Mojo/HelloWorld.pm
cp lib/Mojo/Date.pm blib/lib/Mojo/Date.pm
cp lib/Mojo.pm blib/lib/Mojo.pm
cp lib/Mojo/IOLoop/resources/server.crt blib/lib/Mojo/IOLoop/resources/server.crt
cp lib/Mojo/DOM/HTML.pm blib/lib/Mojo/DOM/HTML.pm
cp lib/Mojo/IOLoop/Client.pm blib/lib/Mojo/IOLoop/Client.pm
cp lib/Mojo/Headers.pm blib/lib/Mojo/Headers.pm
cp lib/Mojo/Asset/Memory.pm blib/lib/Mojo/Asset/Memory.pm
cp lib/Mojo/JSON.pm blib/lib/Mojo/JSON.pm
cp lib/Mojo/Cache.pm blib/lib/Mojo/Cache.pm
cp lib/Mojo/Message.pm blib/lib/Mojo/Message.pm
cp lib/Mojo/Content/MultiPart.pm blib/lib/Mojo/Content/MultiPart.pm
cp lib/Mojo/Loader.pm blib/lib/Mojo/Loader.pm
cp lib/Mojo/EventEmitter.pm blib/lib/Mojo/EventEmitter.pm
cp lib/Mojo/Asset.pm blib/lib/Mojo/Asset.pm
cp lib/Mojo/Promise.pm blib/lib/Mojo/Promise.pm
cp lib/Mojo/Path.pm blib/lib/Mojo/Path.pm
cp lib/Mojo/Reactor/EV.pm blib/lib/Mojo/Reactor/EV.pm
cp lib/Mojo/Cookie/Response.pm blib/lib/Mojo/Cookie/Response.pm
cp lib/Mojo/WebSocket.pm blib/lib/Mojo/WebSocket.pm
cp lib/Mojo/Util.pm blib/lib/Mojo/Util.pm
cp lib/Mojo/Server/Morbo/Backend.pm blib/lib/Mojo/Server/Morbo/Backend.pm
cp lib/Mojolicious/Command/Author/generate/dockerfile.pm blib/lib/Mojolicious/Command/Author/generate/dockerfile.pm
cp lib/Mojo/UserAgent/Server.pm blib/lib/Mojo/UserAgent/Server.pm
cp lib/Mojolicious/Command/Author/generate/plugin.pm blib/lib/Mojolicious/Command/Author/generate/plugin.pm
cp lib/Mojo/URL.pm blib/lib/Mojo/URL.pm
cp lib/Mojo/UserAgent.pm blib/lib/Mojo/UserAgent.pm
cp lib/Mojo/Template.pm blib/lib/Mojo/Template.pm
cp lib/Mojolicious/Command/eval.pm blib/lib/Mojolicious/Command/eval.pm
cp lib/Mojo/Server.pm blib/lib/Mojo/Server.pm
cp lib/Mojolicious/Command/Author/inflate.pm blib/lib/Mojolicious/Command/Author/inflate.pm
cp lib/Mojolicious/Command/Author/generate.pm blib/lib/Mojolicious/Command/Author/generate.pm
cp lib/Mojolicious/Command/daemon.pm blib/lib/Mojolicious/Command/daemon.pm
cp lib/Mojolicious/Command.pm blib/lib/Mojolicious/Command.pm
cp lib/Mojo/Server/Morbo/Backend/Poll.pm blib/lib/Mojo/Server/Morbo/Backend/Poll.pm
cp lib/Mojo/UserAgent/Proxy.pm blib/lib/Mojo/UserAgent/Proxy.pm
cp lib/Mojo/Server/CGI.pm blib/lib/Mojo/Server/CGI.pm
cp lib/Mojo/Server/PSGI.pm blib/lib/Mojo/Server/PSGI.pm
cp lib/Mojo/UserAgent/CookieJar.pm blib/lib/Mojo/UserAgent/CookieJar.pm
cp lib/Mojolicious/Command/Author/cpanify.pm blib/lib/Mojolicious/Command/Author/cpanify.pm
cp lib/Mojo/Server/Prefork.pm blib/lib/Mojo/Server/Prefork.pm
cp lib/Mojolicious/Command/Author/generate/lite_app.pm blib/lib/Mojolicious/Command/Author/generate/lite_app.pm
cp lib/Mojolicious.pm blib/lib/Mojolicious.pm
cp lib/Mojo/resources/html_entities.txt blib/lib/Mojo/resources/html_entities.txt
cp lib/Mojo/Transaction/WebSocket.pm blib/lib/Mojo/Transaction/WebSocket.pm
cp lib/Mojo/Upload.pm blib/lib/Mojo/Upload.pm
cp lib/Mojolicious/Command/Author/generate/makefile.pm blib/lib/Mojolicious/Command/Author/generate/makefile.pm
cp lib/Mojolicious/Command/Author/generate/app.pm blib/lib/Mojolicious/Command/Author/generate/app.pm
cp lib/Mojolicious/Command/cgi.pm blib/lib/Mojolicious/Command/cgi.pm
cp lib/Mojo/UserAgent/Transactor.pm blib/lib/Mojo/UserAgent/Transactor.pm
cp lib/Mojo/Transaction/HTTP.pm blib/lib/Mojo/Transaction/HTTP.pm
cp lib/Mojo/Server/Hypnotoad.pm blib/lib/Mojo/Server/Hypnotoad.pm
cp lib/Mojo/Server/Daemon.pm blib/lib/Mojo/Server/Daemon.pm
cp lib/Mojo/Server/Morbo.pm blib/lib/Mojo/Server/Morbo.pm
cp lib/Mojo/Transaction.pm blib/lib/Mojo/Transaction.pm
cp lib/Mojolicious/Plugin/JSONConfig.pm blib/lib/Mojolicious/Plugin/JSONConfig.pm
cp lib/Mojolicious/Guides/Routing.pod blib/lib/Mojolicious/Guides/Routing.pod
cp lib/Mojolicious/Plugin/EPLRenderer.pm blib/lib/Mojolicious/Plugin/EPLRenderer.pm
cp lib/Mojolicious/Plugin/Config.pm blib/lib/Mojolicious/Plugin/Config.pm
cp lib/Mojolicious/Plugin/EPRenderer.pm blib/lib/Mojolicious/Plugin/EPRenderer.pm
cp lib/Mojolicious/Guides/FAQ.pod blib/lib/Mojolicious/Guides/FAQ.pod
cp lib/Mojolicious/Command/routes.pm blib/lib/Mojolicious/Command/routes.pm
cp lib/Mojolicious/Command/get.pm blib/lib/Mojolicious/Command/get.pm
cp lib/Mojolicious/Renderer.pm blib/lib/Mojolicious/Renderer.pm
cp lib/Mojolicious/Plugins.pm blib/lib/Mojolicious/Plugins.pm
cp lib/Mojolicious/Guides/Testing.pod blib/lib/Mojolicious/Guides/Testing.pod
cp lib/Mojolicious/Commands.pm blib/lib/Mojolicious/Commands.pm
cp lib/Mojolicious/Command/prefork.pm blib/lib/Mojolicious/Command/prefork.pm
cp lib/Mojolicious/Plugin/HeaderCondition.pm blib/lib/Mojolicious/Plugin/HeaderCondition.pm
cp lib/Mojolicious/Guides.pod blib/lib/Mojolicious/Guides.pod
cp lib/Mojolicious/Routes/Route.pm blib/lib/Mojolicious/Routes/Route.pm
cp lib/Mojolicious/Routes/Pattern.pm blib/lib/Mojolicious/Routes/Pattern.pm
cp lib/Mojolicious/Guides/Growing.pod blib/lib/Mojolicious/Guides/Growing.pod
cp lib/Mojolicious/Lite.pm blib/lib/Mojolicious/Lite.pm
cp lib/Mojolicious/Plugin/DefaultHelpers.pm blib/lib/Mojolicious/Plugin/DefaultHelpers.pm
cp lib/Mojolicious/Guides/Rendering.pod blib/lib/Mojolicious/Guides/Rendering.pod
cp lib/Mojolicious/Plugin/Mount.pm blib/lib/Mojolicious/Plugin/Mount.pm
cp lib/Mojolicious/Plugin/TagHelpers.pm blib/lib/Mojolicious/Plugin/TagHelpers.pm
cp lib/Mojolicious/Plugin/NotYAMLConfig.pm blib/lib/Mojolicious/Plugin/NotYAMLConfig.pm
cp lib/Mojolicious/Routes.pm blib/lib/Mojolicious/Routes.pm
cp lib/Mojolicious/Sessions.pm blib/lib/Mojolicious/Sessions.pm
cp lib/Mojolicious/Guides/Cookbook.pod blib/lib/Mojolicious/Guides/Cookbook.pod
cp lib/Mojolicious/Routes/Match.pm blib/lib/Mojolicious/Routes/Match.pm
cp lib/Mojolicious/Guides/Contributing.pod blib/lib/Mojolicious/Guides/Contributing.pod
cp lib/Mojolicious/Command/psgi.pm blib/lib/Mojolicious/Command/psgi.pm
cp lib/Mojolicious/Command/version.pm blib/lib/Mojolicious/Command/version.pm
cp lib/Mojolicious/Guides/Tutorial.pod blib/lib/Mojolicious/Guides/Tutorial.pod
cp lib/Mojolicious/Plugin.pm blib/lib/Mojolicious/Plugin.pm
cp lib/Mojolicious/Controller.pm blib/lib/Mojolicious/Controller.pm
cp lib/Mojolicious/resources/public/mojo/popper/popper.js blib/lib/Mojolicious/resources/public/mojo/popper/popper.js
cp lib/Mojolicious/Types.pm blib/lib/Mojolicious/Types.pm
cp lib/Mojolicious/Static.pm blib/lib/Mojolicious/Static.pm
cp lib/Mojolicious/resources/public/mojo/failraptor.png blib/lib/Mojolicious/resources/public/mojo/failraptor.png
cp lib/Mojolicious/resources/public/mojo/highlight.js/highlight-mojo-dark.css blib/lib/Mojolicious/resources/public/mojo/highlight.js/highlight-mojo-dark.css
cp lib/Mojolicious/resources/public/mojo/logo.png blib/lib/Mojolicious/resources/public/mojo/logo.png
cp lib/Mojolicious/Validator/Validation.pm blib/lib/Mojolicious/Validator/Validation.pm
cp lib/Mojolicious/resources/templates/mojo/exception.html.ep blib/lib/Mojolicious/resources/templates/mojo/exception.html.ep
cp lib/Mojolicious/resources/public/mojo/pinstripe-light.png blib/lib/Mojolicious/resources/public/mojo/pinstripe-light.png
cp lib/Mojolicious/resources/public/mojo/pinstripe-dark.png blib/lib/Mojolicious/resources/public/mojo/pinstripe-dark.png
cp lib/Mojolicious/resources/public/mojo/mojo.css blib/lib/Mojolicious/resources/public/mojo/mojo.css
cp lib/Mojolicious/resources/public/mojo/bootstrap/bootstrap.css blib/lib/Mojolicious/resources/public/mojo/bootstrap/bootstrap.css
cp lib/Mojolicious/resources/public/favicon.ico blib/lib/Mojolicious/resources/public/favicon.ico
cp lib/Mojolicious/resources/templates/mojo/debug.html.ep blib/lib/Mojolicious/resources/templates/mojo/debug.html.ep
cp lib/Mojolicious/Validator.pm blib/lib/Mojolicious/Validator.pm
cp lib/Mojolicious/resources/public/mojo/bootstrap/bootstrap.min.css.map blib/lib/Mojolicious/resources/public/mojo/bootstrap/bootstrap.min.css.map
cp lib/Mojolicious/resources/public/mojo/logo-white.png blib/lib/Mojolicious/resources/public/mojo/logo-white.png
cp lib/Mojolicious/resources/public/mojo/highlight.js/highlight.min.js blib/lib/Mojolicious/resources/public/mojo/highlight.js/highlight.min.js
cp lib/Mojolicious/resources/public/mojo/bootstrap/bootstrap.js blib/lib/Mojolicious/resources/public/mojo/bootstrap/bootstrap.js
cp lib/Mojolicious/resources/public/mojo/highlight.js/mojolicious.min.js blib/lib/Mojolicious/resources/public/mojo/highlight.js/mojolicious.min.js
cp lib/Mojolicious/resources/public/mojo/noraptor.png blib/lib/Mojolicious/resources/public/mojo/noraptor.png
cp lib/Mojolicious/resources/public/mojo/logo-white-2x.png blib/lib/Mojolicious/resources/public/mojo/logo-white-2x.png
cp lib/Mojolicious/resources/public/mojo/notfound.png blib/lib/Mojolicious/resources/public/mojo/notfound.png
cp lib/Mojolicious/resources/templates/mojo/not_found.html.ep blib/lib/Mojolicious/resources/templates/mojo/not_found.html.ep
cp lib/ojo.pm blib/lib/ojo.pm
cp lib/Test/Mojo.pm blib/lib/Test/Mojo.pm
cp script/hypnotoad blib/script/hypnotoad
"/opt/perl-5.40.0/bin/perl" -MExtUtils::MY -e 'MY->fixin(shift)' -- blib/script/hypnotoad
cp script/mojo blib/script/mojo
"/opt/perl-5.40.0/bin/perl" -MExtUtils::MY -e 'MY->fixin(shift)' -- blib/script/mojo
cp script/morbo blib/script/morbo
"/opt/perl-5.40.0/bin/perl" -MExtUtils::MY -e 'MY->fixin(shift)' -- blib/script/morbo
Manifying 3 pod documents
Manifying 40 pod documents
Manifying 34 pod documents
Manifying 29 pod documents
Manifying 17 pod documents
PERL_DL_NONLAZY=1 "/opt/perl-5.40.0/bin/perl" "-MExtUtils::Command::MM" "-MTest::Harness" "-e" "undef *Test::Harness::Switches; test_harness(0, 'blib/lib', 'blib/arch')" t/*.t t/*/*.t
t/mojo/asset.t ............................. ok
t/mojo/base.t .............................. ok
t/mojo/base_util.t ......................... ok
t/mojo/bytestream.t ........................ ok
t/mojo/cache.t ............................. ok
t/mojo/cgi.t ............................... ok
t/mojo/collection.t ........................ ok
t/mojo/content.t ........................... ok
t/mojo/cookie.t ............................ ok
t/mojo/cookiejar.t ......................... ok
t/mojo/daemon.t ............................ ok
t/mojo/daemon_ipv6_tls.t ................... skipped: set TEST_IPV6 to enable this test (developer only!)
t/mojo/date.t .............................. ok
t/mojo/dom.t ............................... ok
t/mojo/dynamic_methods.t ................... ok
t/mojo/eventemitter.t ...................... ok
t/mojo/exception.t ......................... ok
t/mojo/file.t .............................. ok
t/mojo/headers.t ........................... ok
t/mojo/home.t .............................. ok
t/mojo/hypnotoad.t ......................... skipped: set TEST_HYPNOTOAD to enable this test (developer only!)
t/mojo/ioloop.t ............................ ok
t/mojo/ioloop_ipv6.t ....................... skipped: set TEST_IPV6 to enable this test (developer only!)
t/mojo/ioloop_tls.t ........................ skipped: set TEST_TLS to enable this test (developer only!)
t/mojo/json.t .............................. ok
t/mojo/json_pointer.t ...................... ok
t/mojo/json_xs.t ........................... ok
Old package separator "'" deprecated at (eval 68) line 1.
t/mojo/loader.t ............................ ok
t/mojo/log.t ............................... ok
t/mojo/morbo.t ............................. skipped: set TEST_MORBO to enable this test (developer only!)
t/mojo/parameters.t ........................ ok
t/mojo/path.t .............................. ok
t/mojo/prefork.t ........................... skipped: set TEST_PREFORK to enable this test (developer only!)
t/mojo/promise.t ........................... ok
t/mojo/promise_async_await.t ............... skipped: set TEST_ASYNC_AWAIT to enable this test (developer only!)
t/mojo/proxy.t ............................. ok
t/mojo/psgi.t .............................. ok
t/mojo/reactor_detect.t .................... ok
t/mojo/reactor_ev.t ........................ skipped: set TEST_EV to enable this test (developer only!)
t/mojo/reactor_poll.t ...................... ok
t/mojo/request.t ........................... ok
t/mojo/request_cgi.t ....................... ok
t/mojo/response.t .......................... ok
t/mojo/roles.t ............................. ok
t/mojo/signatures.t ........................ ok
t/mojo/subprocess.t ........................ skipped: set TEST_SUBPROCESS to enable this test (developer only!)
t/mojo/subprocess_ev.t ..................... skipped: set TEST_SUBPROCESS to enable this test (developer only!)
t/mojo/template.t .......................... ok
t/mojo/tls.t ............................... skipped: set TEST_TLS to enable this test (developer only!)
t/mojo/transactor.t ........................ ok
t/mojo/url.t ............................... ok
t/mojo/user_agent.t ........................ ok
t/mojo/user_agent_online.t ................. skipped: set TEST_ONLINE to enable this test (developer only!)
t/mojo/user_agent_socks.t .................. skipped: set TEST_SOCKS to enable this test (developer only!)
t/mojo/user_agent_tls.t .................... skipped: set TEST_TLS to enable this test (developer only!)
t/mojo/user_agent_unix.t ................... skipped: set TEST_UNIX to enable this test (developer only!)
t/mojo/util.t .............................. ok
t/mojo/websocket.t ......................... ok
t/mojo/websocket_frames.t .................. ok
t/mojo/websocket_proxy.t ................... ok
t/mojo/websocket_proxy_tls.t ............... skipped: set TEST_TLS to enable this test (developer only!)
t/mojolicious/app.t ........................ ok
t/mojolicious/charset_lite_app.t ........... ok
t/mojolicious/command.t .................... ok
t/mojolicious/commands.t ................... ok
t/mojolicious/dispatch.t ................... ok
t/mojolicious/dispatcher_lite_app.t ........ ok
t/mojolicious/embedded_app.t ............... ok
t/mojolicious/embedded_lite_app.t .......... ok
t/mojolicious/exception_lite_app.t ......... ok
t/mojolicious/external_app.t ............... ok
t/mojolicious/external_lite_app.t .......... ok
t/mojolicious/group_lite_app.t ............. ok
t/mojolicious/json_config_lite_app.t ....... ok
t/mojolicious/json_config_mode_lite_app.t .. ok
t/mojolicious/layouted_lite_app.t .......... ok
t/mojolicious/lite_app.t ................... ok
t/mojolicious/log_lite_app.t ............... ok
t/mojolicious/longpolling_lite_app.t ....... ok
t/mojolicious/multipath_lite_app.t ......... ok
t/mojolicious/ojo.t ........................ ok
t/mojolicious/ojo_signatures.t ............. ok
t/mojolicious/pattern.t .................... ok
t/mojolicious/production_app.t ............. ok
t/mojolicious/proxy_app.t .................. ok
t/mojolicious/rebased_lite_app.t ........... ok
t/mojolicious/renderer.t ................... ok
t/mojolicious/restful_lite_app.t ........... ok
t/mojolicious/routes.t ..................... ok
t/mojolicious/signatures_lite_app.t ........ ok
t/mojolicious/static_lite_app.t ............ ok
t/mojolicious/static_prefix_lite_app.t ..... ok
t/mojolicious/tag_helper_lite_app.t ........ ok
t/mojolicious/testing_app.t ................ ok
t/mojolicious/tls_lite_app.t ............... skipped: set TEST_TLS to enable this test (developer only!)
t/mojolicious/twinkle_lite_app.t ........... ok
t/mojolicious/types.t ...................... ok
t/mojolicious/upload_lite_app.t ............ ok
t/mojolicious/upload_stream_lite_app.t ..... ok
t/mojolicious/validation_lite_app.t ........ ok
t/mojolicious/websocket_lite_app.t ......... ok
t/mojolicious/yaml_config_lite_app.t ....... ok
t/pod.t .................................... skipped: set TEST_POD to enable this test (developer only!)
t/pod_coverage.t ........................... skipped: set TEST_POD to enable this test (developer only!)
t/test/mojo.t .............................. ok
All tests successful.
Files=105, Tests=4292, 67 wallclock secs ( 1.14 usr  0.26 sys + 45.95 cusr  6.03 csys = 53.38 CPU)
Result: PASS

------------------------------
PREREQUISITES
------------------------------

Prerequisite modules loaded:

runtime:

    Module              Need  Have    
    ------------------- ----- --------
    IO::Socket::IP      0.37  0.42    
    perl                5.016 5.040000
    Sub::Util           1.41  1.63    

build:

    Module              Need  Have    
    ------------------- ----- --------
    ExtUtils::MakeMaker 0     7.70    

configure:

    Module              Need  Have    
    ------------------- ----- --------
    ExtUtils::MakeMaker 0     7.70    


------------------------------
ENVIRONMENT AND OTHER CONTEXT
------------------------------

Environment variables:

    LANG = en_US.UTF-8
    PATH = /opt/perl/bin:/usr/pgsql-9.6/bin:/opt/perl/bin:/usr/pgsql-9.6/bin:/usr/local/bin:/usr/bin
    SHELL = /usr/bin/fish
    TERM = screen

Perl special variables (and OS-specific diagnostics, for MSWin32):

    EGID = 1001 10 1001
    EUID = 1001
    EXECUTABLE_NAME = /opt/perl-5.40.0/bin/perl
    GID = 1001 10 1001
    UID = 1001

Perl module toolchain versions installed:

    Module              Have    
    ------------------- --------
    CPAN                2.36    
    CPAN::Meta          2.150010
    Cwd                 3.90    
    ExtUtils::CBuilder  0.280240
    ExtUtils::Command   7.70    
    ExtUtils::Install   2.22    
    ExtUtils::MakeMaker 7.70    
    ExtUtils::Manifest  1.75    
    ExtUtils::ParseXS   3.51    
    File::Spec          3.90    
    JSON                4.10    
    JSON::PP            4.16    
    Module::Build       0.4234  
    Module::Signature   n/a     
    Parse::CPAN::Meta   2.150010
    Test::Harness       3.48    
    Test::More          1.302199
    YAML                1.31    
    YAML::Syck          n/a     
    version             0.9930  


--

Summary of my perl5 (revision 5 version 40 subversion 0) configuration:
   
  Platform:
    osname=linux
    osvers=3.10.0-1160.119.1.el7.x86_64
    archname=x86_64-linux
    uname='linux grinnz.com 3.10.0-1160.119.1.el7.x86_64 #1 smp tue jun 4 14:43:51 utc 2024 x86_64 x86_64 x86_64 gnulinux '
    config_args='-Dprefix=/opt/perl-5.40.0 -de -A'eval:scriptdir=/opt/perl-5.40.0/bin''
    hint=recommended
    useposix=true
    d_sigaction=define
    useithreads=undef
    usemultiplicity=undef
    use64bitint=define
    use64bitall=define
    uselongdouble=undef
    usemymalloc=n
    default_inc_excludes_dot=define
  Compiler:
    cc='cc'
    ccflags ='-std=gnu99 -fwrapv -fno-strict-aliasing -pipe -fstack-protector-strong -I/usr/local/include -D_LARGEFILE_SOURCE -D_FILE_OFFSET_BITS=64 -D_FORTIFY_SOURCE=2'
    optimize='-O2'
    cppflags='-std=gnu99 -fwrapv -fno-strict-aliasing -pipe -fstack-protector-strong -I/usr/local/include'
    ccversion=''
    gccversion='4.8.5 20150623 (Red Hat 4.8.5-44)'
    gccosandvers=''
    intsize=4
    longsize=8
    ptrsize=8
    doublesize=8
    byteorder=12345678
    doublekind=3
    d_longlong=define
    longlongsize=8
    d_longdbl=define
    longdblsize=16
    longdblkind=3
    ivtype='long'
    ivsize=8
    nvtype='double'
    nvsize=8
    Off_t='off_t'
    lseeksize=8
    alignbytes=8
    prototype=define
  Linker and Libraries:
    ld='cc'
    ldflags =' -fstack-protector-strong -L/usr/local/lib'
    libpth=/usr/local/lib /usr/lib /usr/lib64 /usr/local/lib64
    libs=-lpthread -lgdbm -ldb -ldl -lm -lcrypt -lutil -lc -lgdbm_compat
    perllibs=-lpthread -ldl -lm -lcrypt -lutil -lc
    libc=libc-2.17.so
    so=so
    useshrplib=false
    libperl=libperl.a
    gnulibc_version='2.17'
  Dynamic Linking:
    dlsrc=dl_dlopen.xs
    dlext=so
    d_dlsymun=undef
    ccdlflags='-Wl,-E'
    cccdlflags='-fPIC'
    lddlflags='-shared -O2 -L/usr/local/lib -fstack-protector-strong'


Characteristics of this binary (from libperl): 
  Compile-time options:
    HAS_LONG_DOUBLE
    HAS_STRTOLD
    HAS_TIMES
    PERLIO_LAYERS
    PERL_COPY_ON_WRITE
    PERL_DONT_CREATE_GVSV
    PERL_HASH_FUNC_SIPHASH13
    PERL_HASH_USE_SBOX32
    PERL_MALLOC_WRAP
    PERL_OP_PARENT
    PERL_PRESERVE_IVUV
    PERL_USE_SAFE_PUTENV
    USE_64_BIT_ALL
    USE_64_BIT_INT
    USE_LARGE_FILES
    USE_LOCALE
    USE_LOCALE_COLLATE
    USE_LOCALE_CTYPE
    USE_LOCALE_NUMERIC
    USE_LOCALE_TIME
    USE_PERLIO
    USE_PERL_ATOF
  Built under linux
  Compiled at Jun 11 2024 00:22:28
  @INC:
    /opt/perl-5.40.0/lib/site_perl/5.40.0/x86_64-linux
    /opt/perl-5.40.0/lib/site_perl/5.40.0
    /opt/perl-5.40.0/lib/5.40.0/x86_64-linux
    /opt/perl-5.40.0/lib/5.40.0