Back
From: metabase:user:0d96120c-29e2-11e5-b049-ede3035d37de
Subject: PASS Test-WWW-Mechanize-Catalyst-0.60 v5.23.4 GNU/Linux
Date: 2015-11-16T00:54:26Z
This distribution has been tested as part of the CPAN Testers
project, supporting the Perl programming language. See
http://wiki.cpantesters.org/ for more information or email
questions to cpan-testers-discuss@perl.org
--
Dear John Napiorkowski,
This is a computer-generated report for Test-WWW-Mechanize-Catalyst-0.60
on perl 5.23.4, created by CPAN-Reporter-1.2015.
Thank you for uploading your work to CPAN. Congratulations!
All tests were successful.
Sections of this report:
* Tester comments
* Program output
* Prerequisites
* Environment and other context
------------------------------
TESTER COMMENTS
------------------------------
Additional comments from tester:
MEMORY : 1.96 GB
ARCH : armv7l
OS : Debian 8.1
KERNEL : Linux 4.1.3-armv7-x2
VIRTUALIZATION : No Virtualization
------------------------------
PROGRAM OUTPUT
------------------------------
Output from '/usr/bin/make test':
PERL_DL_NONLAZY=1 "/home/jmaslak/perl5/perlbrew/perls/perl-5.23.4-thread-multi/bin/perl5.23.4" "-MExtUtils::Command::MM" "-MTest::Harness" "-e" "undef *Test::Harness::Switches; test_harness(0, 'inc', 'blib/lib', 'blib/arch')" t/*.t
t/auth-test.t ........... ok
t/cookies.t ............. ok
t/decoded_content.t ..... ok
#
# ###################################################################
# Starting an external Catalyst HTTP server on port 7357
# To change the port, please set the TWMC_TEST_PORT env variable.
# (The server will be automatically shut-down right after the tests).
# ###################################################################
HTTP::Server::PSGI: Accepting connections at http://0:7357/
t/multi_content_type.t .. ok
t/pod.t ................. ok
t/redirect.t ............ ok
Term::Size::Any is not installed, can't autodetect terminal column width
Trouble trying to detect your terminal size, looking at $ENV{COLUMNS}
Cannot determine desired terminal width, using default of 80 columns
t/simple.t .............. ok
t/two_app.t ............. ok
t/useragent.t ........... ok
t/utf8.t ................ ok
t/white_label.t ......... ok
All tests successful.
Files=11, Tests=109, 61 wallclock secs ( 0.24 usr 0.06 sys + 48.92 cusr 1.97 csys = 51.19 CPU)
Result: PASS
------------------------------
PREREQUISITES
------------------------------
Prerequisite modules loaded:
requires:
Module Need Have
---------------------------------------- -------- --------
Catalyst 5.90 5.90103
Class::Load 0.19 0.23
LWP 5.816 6.13
Moose 0.67 2.1604
namespace::clean 0.09 0.26
perl 5.008004 5.023004
Test::WWW::Mechanize 1.14 1.44
WWW::Mechanize 1.54 1.75
build_requires:
Module Need Have
---------------------------------------- -------- --------
Catalyst::Plugin::Session::State::Cookie 0 0.17
Catalyst::Plugin::Session::Store::Dummy 0 0
ExtUtils::MakeMaker 6.59 7.10
Test::Exception 0 0.40
Test::More 0.88 1.001014
Test::utf8 0 1.01
configure_requires:
Module Need Have
---------------------------------------- -------- --------
ExtUtils::MakeMaker 6.59 7.10
------------------------------
ENVIRONMENT AND OTHER CONTEXT
------------------------------
Environment variables:
LANG = en_US.UTF-8
NONINTERACTIVE_TESTING = 1
PATH = /home/jmaslak/perl5/perlbrew/bin:/home/jmaslak/perl5/perlbrew/perls/perl-5.23.4-thread-multi/bin:/home/jmaslak/perl5/perlbrew/bin:/home/jmaslak/perl5/perlbrew/perls/perl-5.22.0/bin:/usr/local/bin:/usr/bin:/bin:/usr/local/games:/usr/games:/usr/sbin:~/perltest/bin
PERL5LIB =
PERL5OPT =
PERL5_CPANPLUS_IS_RUNNING = 20589
PERL5_CPAN_IS_RUNNING = 20589
PERLBREW_BASHRC_VERSION = 0.73
PERLBREW_HOME = /home/jmaslak/.perlbrew
PERLBREW_LIB =
PERLBREW_MANPATH = /home/jmaslak/perl5/perlbrew/perls/perl-5.23.4-thread-multi/man
PERLBREW_PATH = /home/jmaslak/perl5/perlbrew/bin:/home/jmaslak/perl5/perlbrew/perls/perl-5.23.4-thread-multi/bin
PERLBREW_PERL = perl-5.23.4-thread-multi
PERLBREW_ROOT = /home/jmaslak/perl5/perlbrew
PERLBREW_VERSION = 0.73
PERL_LOCAL_LIB_ROOT =
PERL_MM_USE_DEFAULT = 1
SHELL = /bin/bash
TERM = vt100
Perl special variables (and OS-specific diagnostics, for MSWin32):
$^X = /home/jmaslak/perl5/perlbrew/perls/perl-5.23.4-thread-multi/bin/perl5.23.4
$UID/$EUID = 1000 / 1000
$GID = 1000 27 1000
$EGID = 1000 27 1000
Perl module toolchain versions installed:
Module Have
------------------- --------
CPAN 2.11
CPAN::Meta 2.150005
Cwd 3.58
ExtUtils::CBuilder 0.280224
ExtUtils::Command 7.10
ExtUtils::Install 2.04
ExtUtils::MakeMaker 7.10
ExtUtils::Manifest 1.70
ExtUtils::ParseXS 3.30
File::Spec 3.58
JSON 2.90
JSON::PP 2.27300
Module::Build 0.4214
Module::Signature n/a
Parse::CPAN::Meta 1.4417
Test::Harness 3.35
Test::More 1.001014
YAML 1.15
YAML::Syck n/a
version 0.9909
--
Summary of my perl5 (revision 5 version 23 subversion 4) configuration:
Platform:
osname=linux, osvers=4.1.3-armv7-x2, archname=armv7l-linux-thread-multi
uname='linux armperl.antelope.net 4.1.3-armv7-x2 #1 smp wed jul 29 12:23:30 mdt 2015 armv7l gnulinux '
config_args='-de -Dprefix=/home/jmaslak/perl5/perlbrew/perls/perl-5.23.4-thread-multi -Dusemultiplicity -Dusethreads -Dusedevel -Aeval:scriptdir=/home/jmaslak/perl5/perlbrew/perls/perl-5.23.4-thread-multi/bin'
hint=recommended, useposix=true, d_sigaction=define
useithreads=define, usemultiplicity=define
use64bitint=undef, use64bitall=undef, uselongdouble=undef
usemymalloc=n, bincompat5005=undef
Compiler:
cc='cc', ccflags ='-D_REENTRANT -D_GNU_SOURCE -fwrapv -fno-strict-aliasing -pipe -fstack-protector-strong -I/usr/local/include -D_LARGEFILE_SOURCE -D_FILE_OFFSET_BITS=64 -D_FORTIFY_SOURCE=2',
optimize='-O2',
cppflags='-D_REENTRANT -D_GNU_SOURCE -fwrapv -fno-strict-aliasing -pipe -fstack-protector-strong -I/usr/local/include'
ccversion='', gccversion='4.9.2', gccosandvers=''
intsize=4, longsize=4, ptrsize=4, doublesize=8, byteorder=1234, doublekind=3
d_longlong=define, longlongsize=8, d_longdbl=define, longdblsize=8, longdblkind=0
ivtype='long', ivsize=4, nvtype='double', nvsize=8, Off_t='off_t', lseeksize=8
alignbytes=8, prototype=define
Linker and Libraries:
ld='cc', ldflags =' -fstack-protector-strong -L/usr/local/lib'
libpth=/usr/local/lib /usr/lib/gcc/arm-linux-gnueabihf/4.9/include-fixed /usr/include/arm-linux-gnueabihf /usr/lib /lib/arm-linux-gnueabihf /lib /usr/lib/arm-linux-gnueabihf
libs=-lpthread -lnsl -ldl -lm -lcrypt -lutil -lc
perllibs=-lpthread -lnsl -ldl -lm -lcrypt -lutil -lc
libc=libc-2.19.so, so=so, useshrplib=false, libperl=libperl.a
gnulibc_version='2.19'
Dynamic Linking:
dlsrc=dl_dlopen.xs, dlext=so, d_dlsymun=undef, ccdlflags='-Wl,-E'
cccdlflags='-fPIC', lddlflags='-shared -O2 -L/usr/local/lib -fstack-protector-strong'
Characteristics of this binary (from libperl):
Compile-time options: HAS_TIMES MULTIPLICITY PERLIO_LAYERS
PERL_COPY_ON_WRITE PERL_DONT_CREATE_GVSV
PERL_HASH_FUNC_ONE_AT_A_TIME_HARD
PERL_IMPLICIT_CONTEXT PERL_MALLOC_WRAP
PERL_PRESERVE_IVUV PERL_USE_DEVEL USE_ITHREADS
USE_LARGE_FILES USE_LOCALE USE_LOCALE_COLLATE
USE_LOCALE_CTYPE USE_LOCALE_NUMERIC USE_LOCALE_TIME
USE_PERLIO USE_PERL_ATOF USE_REENTRANT_API
Locally applied patches:
Devel::PatchPerl 1.38
Built under linux
Compiled at Nov 11 2015 19:49:13
%ENV:
PERL5LIB=""
PERL5OPT=""
PERL5_CPANPLUS_IS_RUNNING="20589"
PERL5_CPAN_IS_RUNNING="20589"
PERLBREW_BASHRC_VERSION="0.73"
PERLBREW_HOME="/home/jmaslak/.perlbrew"
PERLBREW_LIB=""
PERLBREW_MANPATH="/home/jmaslak/perl5/perlbrew/perls/perl-5.23.4-thread-multi/man"
PERLBREW_PATH="/home/jmaslak/perl5/perlbrew/bin:/home/jmaslak/perl5/perlbrew/perls/perl-5.23.4-thread-multi/bin"
PERLBREW_PERL="perl-5.23.4-thread-multi"
PERLBREW_ROOT="/home/jmaslak/perl5/perlbrew"
PERLBREW_VERSION="0.73"
PERL_LOCAL_LIB_ROOT=""
PERL_MM_USE_DEFAULT="1"
@INC:
/home/jmaslak/perl5/perlbrew/perls/perl-5.23.4-thread-multi/lib/site_perl/5.23.4/armv7l-linux-thread-multi
/home/jmaslak/perl5/perlbrew/perls/perl-5.23.4-thread-multi/lib/site_perl/5.23.4
/home/jmaslak/perl5/perlbrew/perls/perl-5.23.4-thread-multi/lib/5.23.4/armv7l-linux-thread-multi
/home/jmaslak/perl5/perlbrew/perls/perl-5.23.4-thread-multi/lib/5.23.4
.