CGI v4.57 Perl 5 v5.20.3 darwin-thread-multi-2level

Status
Pass
From
Roland van Ipenburg (IPENBURG)
Dist
CGI v4.57
Platform
Perl 5 v5.20.3 darwin-thread-multi-2level
Date
2023-08-18 09:21:18
ID
968a4618-3da8-11ee-bcf6-2410cff7296b
This distribution has been tested as part of the CPAN Testers
project, supporting the Perl programming language.  See
http://wiki.cpantesters.org/ for more information or email
questions to cpan-testers-discuss@perl.org


--
Dear Lee Johnson,

This is a computer-generated report for CGI-4.57
on perl 5.20.3, created by CPAN-Reporter-1.2019.

Thank you for uploading your work to CPAN.  Congratulations!
All tests were successful.

Sections of this report:

    * Tester comments
    * Program output
    * Prerequisites
    * Environment and other context

------------------------------
TESTER COMMENTS
------------------------------

Additional comments from tester:

none provided

------------------------------
PROGRAM OUTPUT
------------------------------

Output from '/usr/bin/make test':

PERL_DL_NONLAZY=1 /opt/local/bin/perl5.20 "-MExtUtils::Command::MM" "-MTest::Harness" "-e" "undef *Test::Harness::Switches; test_harness(0, 'blib/lib', 'blib/arch')" t/*.t t/headers/*.t
t/append_query.t ............ ok
t/arbitrary_handles.t ....... ok
t/autoescape.t .............. ok
t/can.t ..................... ok
[Fri Aug 18 11:21:00 2023] carp.t: foo at /Users/roland/.cpan/build/CGI-4.57-_7oNvy/blib/lib/CGI/Carp.pm line 360.
t/carp.t .................... ok
# cgi-lib.pl routines
private_tempfiles has been deprecated at /Users/roland/.cpan/build/CGI-4.57-_7oNvy/blib/lib/CGI.pm line 3238.
t/cgi.t ..................... ok
t/changes.t ................. skipped: Test::CPAN::Changes required for this test
t/charset.t ................. ok
t/checkbox_group.t .......... ok
t/command_line.t ............ ok
t/compiles_pod.t ............ ok
t/cookie.t .................. ok
t/delete.t .................. ok
t/Dump.t .................... ok
t/end_form.t ................ ok
t/form.t .................... ok
t/function.t ................ ok
t/gh-155.t .................. ok
t/headers.t ................. ok
t/headers/attachment.t ...... ok
t/headers/charset.t ......... ok
t/headers/cookie.t .......... ok
t/headers/default.t ......... ok
t/headers/nph.t ............. ok
t/headers/p3p.t ............. ok
t/headers/target.t .......... ok
t/headers/type.t ............ ok
t/hidden.t .................. ok
t/html.t .................... ok
t/html_functions.t .......... ok
t/http.t .................... ok
t/init.t .................... ok
t/multipart_globals.t ....... ok
t/multipart_init.t .......... ok
t/multipart_start.t ......... ok
t/no_tabindex.t ............. ok
t/param_fetch.t ............. ok
t/param_list_context.t ...... ok
t/popup_menu.t .............. ok
t/postdata.t ................ ok
CGI::Pretty is DEPRECATED and will be removed in a future release. Please see https://github.com/leejo/CGI.pm/issues/162 for more information at /Users/roland/.cpan/build/CGI-4.57-_7oNvy/blib/lib/CGI/Pretty.pm line 20.
t/pretty.t .................. ok
t/push.t .................... ok
t/query_string.t ............ ok
t/redirect_query_string.t ... ok
t/request.t ................. ok
t/rt-31107.t ................ ok
t/rt-52469.t ................ ok
t/rt-57524.t ................ ok
t/rt-75628.t ................ ok
t/rt-84767.t ................ ok
t/save_read_roundtrip.t ..... ok
t/sorted.t .................. ok
t/start_end_asterisk.t ...... ok
t/start_end_end.t ........... ok
t/start_end_start.t ......... ok
t/unescapeHTML.t ............ ok
t/upload.t .................. ok
t/upload_quoted_unquoted.t .. ok
t/uploadInfo.t .............. ok
t/url.t ..................... ok
t/user_agent.t .............. ok
t/utf8.t .................... ok
t/util-58.t ................. ok
t/util.t .................... ok
All tests successful.
Files=64, Tests=1588, 17 wallclock secs ( 0.58 usr  0.31 sys + 13.49 cusr  2.91 csys = 17.29 CPU)
Result: PASS

------------------------------
PREREQUISITES
------------------------------

Prerequisite modules loaded:

requires:

    Module              Need     Have    
    ------------------- -------- --------
    Carp                0        1.3301  
    Config              0        5.020003
    Encode              0        2.60    
    Exporter            0        5.71    
    File::Spec          0.82     3.75    
    File::Temp          0.17     0.2304  
    HTML::Entities      3.69     3.81    
    if                  0        0.0603  
    overload            0        1.22    
    parent              0.225    0.228   
    perl                5.008001 5.020003
    strict              0        1.08    
    utf8                0        1.13_01 
    warnings            0        1.23    

build_requires:

    Module              Need     Have    
    ------------------- -------- --------
    Cwd                 0        3.75    
    ExtUtils::MakeMaker 0        6.98    
    File::Find          0        1.27    
    IO::File            0        1.16    
    IO::Handle          0        1.35    
    POSIX               0        1.38_03 
    Test::More          0.98     1.302195
    Test::NoWarnings    0        1.06    
    Test::Warn          0.3      0.37    

configure_requires:

    Module              Need     Have    
    ------------------- -------- --------
    ExtUtils::MakeMaker 0        6.98    


------------------------------
ENVIRONMENT AND OTHER CONTEXT
------------------------------

Environment variables:

    NONINTERACTIVE_TESTING = 1
    PATH = /Users/roland/perl5/bin:/opt/local/bin:/opt/local/sbin:/bin:/sbin:/usr/bin:/usr/sbin
    PERL5LIB = /Users/roland/.cpan/build/Class-Measure-0.10-fvds08/blib/arch:/Users/roland/.cpan/build/Class-Measure-0.10-fvds08/blib/lib:/Users/roland/.cpan/build/Readonly-2.05-TzEM9_/blib/arch:/Users/roland/.cpan/build/Readonly-2.05-TzEM9_/blib/lib:/Users/roland/.cpan/build/Module-Build-Tiny-0.046-l5Drdi/blib/arch:/Users/roland/.cpan/build/Module-Build-Tiny-0.046-l5Drdi/blib/lib:/Users/roland/perl5/lib/perl5
    PERL5OPT = 
    PERL5_CPANPLUS_IS_RUNNING = 20634
    PERL5_CPAN_IS_RUNNING = 20634
    PERL_LOCAL_LIB_ROOT = /Users/roland/perl5
    PERL_MB_OPT = --install_base "/Users/roland/perl5"
    PERL_MM_OPT = INSTALL_BASE=/Users/roland/perl5
    PERL_MM_USE_DEFAULT = 1
    SHELL = /bin/bash
    TERM = screen

Perl special variables (and OS-specific diagnostics, for MSWin32):

    $^X = /opt/local/bin/perl5.20
    $UID/$EUID = 501 / 501
    $GID = 501 501 81 79 80
    $EGID = 501 501 81 79 80

Perl module toolchain versions installed:

    Module              Have    
    ------------------- --------
    CPAN                2.05    
    CPAN::Meta          2.150010
    Cwd                 3.75    
    ExtUtils::CBuilder  0.280217
    ExtUtils::Command   1.18    
    ExtUtils::Install   1.67    
    ExtUtils::MakeMaker 6.98    
    ExtUtils::Manifest  1.63    
    ExtUtils::ParseXS   3.24    
    File::Spec          3.75    
    JSON                n/a     
    JSON::PP            4.16    
    Module::Build       0.4234  
    Module::Signature   n/a     
    Parse::CPAN::Meta   2.150010
    Test2               1.302195
    Test::Harness       3.30    
    Test::More          1.302195
    YAML                n/a     
    YAML::Syck          n/a     
    version             0.9909  


--

Summary of my perl5 (revision 5 version 20 subversion 3) configuration:
   
  Platform:
    osname=darwin, osvers=8.11.1, archname=darwin-thread-multi-2level
    uname='darwin paterson-wired.fritz.box 8.11.1 darwin kernel version 8.11.1: wed oct 10 18:23:28 pdt 2007; root:xnu-792.25.20~1release_i386 i386 i386 '
    config_args='-des -Dprefix=/opt/local -Dscriptdir=/opt/local/bin -Dvendorprefix=/opt/local -Dusemultiplicity=y -Dusethreads -Duseshrplib -Dcc=/usr/bin/cc -Dman1ext=1pm -Dman3ext=3pm -Dinstallstyle=lib/perl5 -Dman1dir=/opt/local/share/man/man1p -Dman3dir=/opt/local/share/man/man3p -Dsitebin=/opt/local/libexec/perl5.20/sitebin -Dsiteman1dir=/opt/local/share/perl5.20/siteman/man1 -Dsiteman3dir=/opt/local/share/perl5.20/siteman/man3 -Dvendorbin=/opt/local/libexec/perl5.20 -Dvendorman1dir=/opt/local/share/perl5.20/man/man1 -Dvendorman3dir=/opt/local/share/perl5.20/man/man3 -Dpager=/usr/bin/less -sR -Dperlpath=/opt/local/bin/perl5.20 -Dstartperl=#!/opt/local/bin/perl5.20 -Acppflags=-I/opt/local/include -Accflags=-pipe -Os  -Alddlflags=-L/opt/local/lib -Wl,-headerpad_max_install_names  -Aldflags=-L/opt/local/lib -Wl,-headerpad_max_install_names '
    hint=recommended, useposix=true, d_sigaction=define
    useithreads=define, usemultiplicity=define
    use64bitint=undef, use64bitall=undef, uselongdouble=undef
    usemymalloc=n, bincompat5005=undef
  Compiler:
    cc='/usr/bin/cc', ccflags ='-fno-common -DPERL_DARWIN -pipe -Os  -fno-strict-aliasing -I/opt/local/include',
    optimize='-O3',
    cppflags='-I/opt/local/include -fno-common -DPERL_DARWIN -pipe -Os  -fno-strict-aliasing -I/opt/local/include'
    ccversion='', gccversion='4.2.1 (Apple Inc. build 5666) (dot 3) (MacPorts apple-gcc42 5666.3_16)', gccosandvers=''
    intsize=4, longsize=4, ptrsize=4, doublesize=8, byteorder=1234
    d_longlong=define, longlongsize=8, d_longdbl=define, longdblsize=16
    ivtype='long', ivsize=4, nvtype='double', nvsize=8, Off_t='off_t', lseeksize=8
    alignbytes=8, prototype=define
  Linker and Libraries:
    ld='env MACOSX_DEPLOYMENT_TARGET=10.3 /usr/bin/cc', ldflags =' -L/opt/local/lib -Wl,-headerpad_max_install_names '
    libpth=/opt/local/lib /usr/lib
    libs=-lpthread -lgdbm -ldbm -ldl -lm -lc
    perllibs=-lpthread -ldl -lm -lc
    libc=, so=dylib, useshrplib=true, libperl=libperl.dylib
    gnulibc_version=''
  Dynamic Linking:
    dlsrc=dl_dlopen.xs, dlext=bundle, d_dlsymun=undef, ccdlflags=' '
    cccdlflags=' ', lddlflags=' -bundle -undefined dynamic_lookup -L/opt/local/lib -Wl,-headerpad_max_install_names '


Characteristics of this binary (from libperl): 
  Compile-time options: HAS_TIMES MULTIPLICITY PERLIO_LAYERS
                        PERL_DONT_CREATE_GVSV
                        PERL_HASH_FUNC_ONE_AT_A_TIME_HARD
                        PERL_IMPLICIT_CONTEXT PERL_MALLOC_WRAP
                        PERL_NEW_COPY_ON_WRITE PERL_PRESERVE_IVUV
                        USE_ITHREADS USE_LARGE_FILES USE_LOCALE
                        USE_LOCALE_COLLATE USE_LOCALE_CTYPE
                        USE_LOCALE_NUMERIC USE_PERLIO USE_PERL_ATOF
                        USE_REENTRANT_API
  Built under darwin
  Compiled at Jul 25 2023 09:01:40
  %ENV:
    PERL5LIB="/Users/roland/.cpan/build/Class-Measure-0.10-fvds08/blib/arch:/Users/roland/.cpan/build/Class-Measure-0.10-fvds08/blib/lib:/Users/roland/.cpan/build/Readonly-2.05-TzEM9_/blib/arch:/Users/roland/.cpan/build/Readonly-2.05-TzEM9_/blib/lib:/Users/roland/.cpan/build/Module-Build-Tiny-0.046-l5Drdi/blib/arch:/Users/roland/.cpan/build/Module-Build-Tiny-0.046-l5Drdi/blib/lib:/Users/roland/perl5/lib/perl5"
    PERL5OPT=""
    PERL5_CPANPLUS_IS_RUNNING="20634"
    PERL5_CPAN_IS_RUNNING="20634"
    PERL_LOCAL_LIB_ROOT="/Users/roland/perl5"
    PERL_MB_OPT="--install_base "/Users/roland/perl5""
    PERL_MM_OPT="INSTALL_BASE=/Users/roland/perl5"
    PERL_MM_USE_DEFAULT="1"
  @INC:
    /Users/roland/.cpan/build/Class-Measure-0.10-fvds08/blib/arch
    /Users/roland/.cpan/build/Class-Measure-0.10-fvds08/blib/lib
    /Users/roland/.cpan/build/Readonly-2.05-TzEM9_/blib/arch
    /Users/roland/.cpan/build/Readonly-2.05-TzEM9_/blib/lib
    /Users/roland/.cpan/build/Module-Build-Tiny-0.046-l5Drdi/blib/arch
    /Users/roland/.cpan/build/Module-Build-Tiny-0.046-l5Drdi/blib/lib
    /Users/roland/perl5/lib/perl5/darwin-thread-multi-2level
    /Users/roland/perl5/lib/perl5
    /opt/local/lib/perl5/site_perl/5.20/darwin-thread-multi-2level
    /opt/local/lib/perl5/site_perl/5.20
    /opt/local/lib/perl5/vendor_perl/5.20/darwin-thread-multi-2level
    /opt/local/lib/perl5/vendor_perl/5.20
    /opt/local/lib/perl5/5.20/darwin-thread-multi-2level
    /opt/local/lib/perl5/5.20
    .