Imager v1.024_007 Perl 5 v5.30.2 i86pc-solaris-thread-multi-64

Status
Pass
From
David Cantrell (DCANTRELL)
Dist
Imager v1.024_007
Platform
Perl 5 v5.30.2 i86pc-solaris-thread-multi-64
Date
2024-06-14 03:10:03
ID
981acfd0-29fb-11ef-86f4-135e6c209c2b
This distribution has been tested as part of the CPAN Testers
project, supporting the Perl programming language.  See
http://wiki.cpantesters.org/ for more information or email
questions to cpan-testers-discuss@perl.org


--
Dear Tony Cook,

This is a computer-generated report for Imager-1.024_007
on perl 5.30.2, created by CPAN-Reporter-1.2018.

Thank you for uploading your work to CPAN.  Congratulations!
All tests were successful.

Sections of this report:

    * Tester comments
    * Program output
    * Prerequisites
    * Environment and other context

------------------------------
TESTER COMMENTS
------------------------------

Additional comments from tester:

this report is from an automated smoke testing program
and was not reviewed by a human for accuracy

------------------------------
PROGRAM OUTPUT
------------------------------

Output from '/usr/bin/make test':

"/home/david/cpantesting/perl-5.30.2/bin/perl" -MExtUtils::Command::MM -e 'cp_nonempty' -- Imager.bs blib/arch/auto/Imager/Imager.bs 644
gcc -c    -D_REENTRANT -fwrapv -fno-strict-aliasing -pipe -fstack-protector-strong -m64 -D_LARGEFILE_SOURCE -D_FILE_OFFSET_BITS=64 -D_FORTIFY_SOURCE=2 -DPERL_USE_SAFE_PUTENV -O    -DVERSION=\"1.024_007\"  -DXS_VERSION=\"1.024_007\" -fPIC "-I/home/david/cpantesting/perl-5.30.2/lib/5.30.2/i86pc-solaris-thread-multi-64/CORE"  -DOS_solaris   -std=gnu11 flip.c
rm -f blib/arch/auto/Imager/Imager.so
gcc  -shared -m64 -L/usr/gnu/lib -fstack-protector-strong  Imager.o context.o draw.o polygon.o image.o io.o iolayer.o log.o gaussian.o conv.o pnm.o raw.o feat.o combine.o filters.o dynaload.o stackmach.o datatypes.o regmach.o trans2.o quant.o error.o convert.o map.o tags.o palimg.o maskimg.o img8.o img16.o rotate.o bmp.o tga.o color.o fills.o imgdouble.o limits.o hlines.o imext.o scale.o rubthru.o render.o paste.o compose.o flip.o perlio.o imexif.o trim.o data.o imgflt.o linimg16.o linimgdbl.o imnocms.o mutexpthr.o  -o blib/arch/auto/Imager/Imager.so  \
   -lm   \
  
chmod 755 blib/arch/auto/Imager/Imager.so
"/home/david/cpantesting/perl-5.30.2/bin/perl" -MExtUtils::Command::MM -e 'cp_nonempty' -- CountColor.bs ../blib/arch/auto/Imager/CountColor/CountColor.bs 644
Manifying 1 pod document
"/home/david/cpantesting/perl-5.30.2/bin/perl" -MExtUtils::Command::MM -e 'cp_nonempty' -- DynTest.bs ../blib/arch/auto/Imager/Filter/DynTest/DynTest.bs 644
"/home/david/cpantesting/perl-5.30.2/bin/perl" -MExtUtils::Command::MM -e 'cp_nonempty' -- Flines.bs ../blib/arch/auto/Imager/Filter/Flines/Flines.bs 644
Manifying 1 pod document
"/home/david/cpantesting/perl-5.30.2/bin/perl" -MExtUtils::Command::MM -e 'cp_nonempty' -- ICO.bs ../blib/arch/auto/Imager/File/ICO/ICO.bs 644
gcc -c  -I..  -D_REENTRANT -fwrapv -fno-strict-aliasing -pipe -fstack-protector-strong -m64 -D_LARGEFILE_SOURCE -D_FILE_OFFSET_BITS=64 -D_FORTIFY_SOURCE=2 -DPERL_USE_SAFE_PUTENV -O    -DVERSION=\"0.09\"  -DXS_VERSION=\"0.09\" -fPIC "-I/home/david/cpantesting/perl-5.30.2/lib/5.30.2/i86pc-solaris-thread-multi-64/CORE" -DOS_solaris   -std=gnu11  ICO.c
rm -f ../blib/arch/auto/Imager/File/ICO/ICO.so
gcc  -shared -m64 -L/usr/gnu/lib -fstack-protector-strong  ICO.o msicon.o imicon.o  -o ../blib/arch/auto/Imager/File/ICO/ICO.so  \
      \
  
chmod 755 ../blib/arch/auto/Imager/File/ICO/ICO.so
Manifying 1 pod document
"/home/david/cpantesting/perl-5.30.2/bin/perl" -MExtUtils::Command::MM -e 'cp_nonempty' -- Mandelbrot.bs ../blib/arch/auto/Imager/Filter/Mandelbrot/Mandelbrot.bs 644
rm -f ../blib/arch/auto/Imager/Filter/Mandelbrot/Mandelbrot.so
gcc  -shared -m64 -L/usr/gnu/lib -fstack-protector-strong  Mandelbrot.o mandel.o  -o ../blib/arch/auto/Imager/Filter/Mandelbrot/Mandelbrot.so  \
      \
  
chmod 755 ../blib/arch/auto/Imager/Filter/Mandelbrot/Mandelbrot.so
Manifying 1 pod document
"/home/david/cpantesting/perl-5.30.2/bin/perl" -MExtUtils::Command::MM -e 'cp_nonempty' -- SGI.bs ../blib/arch/auto/Imager/File/SGI/SGI.bs 644
rm -f ../blib/arch/auto/Imager/File/SGI/SGI.so
gcc  -shared -m64 -L/usr/gnu/lib -fstack-protector-strong  SGI.o imsgi.o  -o ../blib/arch/auto/Imager/File/SGI/SGI.so  \
      \
  
chmod 755 ../blib/arch/auto/Imager/File/SGI/SGI.so
Manifying 1 pod document
"/home/david/cpantesting/perl-5.30.2/bin/perl" -MExtUtils::Command::MM -e 'cp_nonempty' -- CountColor.bs ../blib/arch/auto/Imager/CountColor/CountColor.bs 644
PERL_DL_NONLAZY=1 "/home/david/cpantesting/perl-5.30.2/bin/perl" "-MExtUtils::Command::MM" "-MTest::Harness" "-e" "undef *Test::Harness::Switches; test_harness(0, '../blib/lib', '../blib/arch')" t/*.t
t/t00countcolor.t .. ok
All tests successful.
Files=1, Tests=9, 10 wallclock secs ( 0.11 usr  0.05 sys +  0.61 cusr  0.12 csys =  0.88 CPU)
Result: PASS
"/home/david/cpantesting/perl-5.30.2/bin/perl" -MExtUtils::Command::MM -e 'cp_nonempty' -- DynTest.bs ../blib/arch/auto/Imager/Filter/DynTest/DynTest.bs 644
PERL_DL_NONLAZY=1 "/home/david/cpantesting/perl-5.30.2/bin/perl" "-MExtUtils::Command::MM" "-MTest::Harness" "-e" "undef *Test::Harness::Switches; test_harness(0, '../blib/lib', '../blib/arch')" t/*.t
t/t00dyntest.t .. ok
All tests successful.
Files=1, Tests=4,  0 wallclock secs ( 0.09 usr  0.01 sys +  0.58 cusr  0.06 csys =  0.74 CPU)
Result: PASS
"/home/david/cpantesting/perl-5.30.2/bin/perl" -MExtUtils::Command::MM -e 'cp_nonempty' -- Flines.bs ../blib/arch/auto/Imager/Filter/Flines/Flines.bs 644
PERL_DL_NONLAZY=1 "/home/david/cpantesting/perl-5.30.2/bin/perl" "-MExtUtils::Command::MM" "-MTest::Harness" "-e" "undef *Test::Harness::Switches; test_harness(0, '../blib/lib', '../blib/arch')" t/*.t
t/t00flines.t .. ok
All tests successful.
Files=1, Tests=3,  2 wallclock secs ( 0.07 usr  0.04 sys +  0.57 cusr  1.98 csys =  2.66 CPU)
Result: PASS
"/home/david/cpantesting/perl-5.30.2/bin/perl" -MExtUtils::Command::MM -e 'cp_nonempty' -- ICO.bs ../blib/arch/auto/Imager/File/ICO/ICO.bs 644
PERL_DL_NONLAZY=1 "/home/david/cpantesting/perl-5.30.2/bin/perl" "-MExtUtils::Command::MM" "-MTest::Harness" "-e" "undef *Test::Harness::Switches; test_harness(0, '../blib/lib', '../blib/arch')" t/*.t
t/t10icon.t ......... ok
t/t20readone.t ...... ok
t/t21readmult.t ..... ok
t/t30cursor.t ....... ok
t/t40readcurone.t ... ok
t/t41curmultread.t .. ok
t/t50readfail.t ..... ok
t/t60writefail.t .... ok
t/t70icosing.t ...... ok
t/t71icomult.t ...... ok
t/t72cursing.t ...... ok
t/t73curmult.t ...... ok
All tests successful.
Files=12, Tests=253, 17 wallclock secs ( 0.41 usr  0.20 sys +  9.25 cusr  5.25 csys = 15.11 CPU)
Result: PASS
"/home/david/cpantesting/perl-5.30.2/bin/perl" -MExtUtils::Command::MM -e 'cp_nonempty' -- Mandelbrot.bs ../blib/arch/auto/Imager/Filter/Mandelbrot/Mandelbrot.bs 644
PERL_DL_NONLAZY=1 "/home/david/cpantesting/perl-5.30.2/bin/perl" "-MExtUtils::Command::MM" "-MTest::Harness" "-e" "undef *Test::Harness::Switches; test_harness(0, '../blib/lib', '../blib/arch')" t/*.t
t/t00mandel.t .. ok
All tests successful.
Files=1, Tests=3,  0 wallclock secs ( 0.02 usr  0.01 sys +  0.12 cusr  0.03 csys =  0.18 CPU)
Result: PASS
"/home/david/cpantesting/perl-5.30.2/bin/perl" -MExtUtils::Command::MM -e 'cp_nonempty' -- SGI.bs ../blib/arch/auto/Imager/File/SGI/SGI.bs 644
PERL_DL_NONLAZY=1 "/home/david/cpantesting/perl-5.30.2/bin/perl" "-MExtUtils::Command::MM" "-MTest::Harness" "-e" "undef *Test::Harness::Switches; test_harness(0, '../blib/lib', '../blib/arch')" t/*.t
t/00load.t ... ok
t/10read.t ... ok
t/20write.t .. ok
t/30limit.t .. ok
All tests successful.
Files=4, Tests=175,  8 wallclock secs ( 0.32 usr  0.06 sys +  2.85 cusr  8.43 csys = 11.66 CPU)
Result: PASS
PERL_DL_NONLAZY=1 "/home/david/cpantesting/perl-5.30.2/bin/perl" "-MExtUtils::Command::MM" "-MTest::Harness" "-e" "undef *Test::Harness::Switches; test_harness(0, 'blib/lib', 'blib/arch')" t/*.t t/*/*.t
t/000-load.t ......................... ok
t/100-base/010-introvert.t ........... ok
t/100-base/020-color.t ............... ok
t/100-base/030-countc.t .............. ok
t/100-base/040-extra8.t .............. ok
t/100-base/050-data8.t ............... ok
t/100-base/100-linear.t .............. ok
t/100-base/800-tr18561.t ............. ok
t/100-base/801-tr18561b.t ............ ok
t/150-type/020-sixteen.t ............. ok
t/150-type/030-double.t .............. ok
t/150-type/040-palette.t ............. ok
t/150-type/050-float.t ............... ok
t/150-type/060-lin16.t ............... ok
t/150-type/070-lindbl.t .............. ok
t/150-type/100-masked.t .............. ok
t/150-type/300-extra16.t ............. ok
t/150-type/310-extradbl.t ............ ok
t/150-type/320-extramask.t ........... ok
t/200-file/010-iolayer.t ............. ok
t/200-file/100-files.t ............... ok
t/200-file/200-nojpeg.t .............. ok
t/200-file/210-nopng.t ............... ok
t/200-file/220-nogif.t ............... ok
t/200-file/230-notiff.t .............. ok
t/200-file/300-raw.t ................. ok
t/200-file/310-pnm.t ................. ok
t/200-file/320-bmp.t ................. ok
t/200-file/330-tga.t ................. ok
t/200-file/400-basic.t ............... ok
t/200-file/450-preload.t ............. ok
t/250-draw/010-draw.t ................ ok
t/250-draw/020-flood.t ............... ok
t/250-draw/030-paste.t ............... ok
t/250-draw/040-rubthru.t ............. ok
t/250-draw/050-polyaa.t .............. ok
t/250-draw/060-polypoly.t ............ ok
t/250-draw/100-fill.t ................ ok
t/250-draw/200-compose.t ............. ok
t/300-transform/010-scale.t .......... ok
t/300-transform/020-combine.t ........ ok
t/300-transform/030-copyflip.t ....... ok
t/300-transform/040-crop.t ........... ok
t/300-transform/050-convert.t ........ ok
t/300-transform/060-map.t ............ ok
t/300-transform/200-trimcolorlist.t .. ok
t/300-transform/210-trim.t ........... ok
t/300-transform/500-trans.t .......... skipped: No Affix::Infix2Postfix
t/300-transform/600-trans2.t ......... ok
t/300-transform/610-postfix.t ........ ok
t/300-transform/620-infix.t .......... ok
t/300-transform/630-assem.t .......... ok
t/350-font/010-font.t ................ ok
t/350-font/020-tt.t .................. ok
t/350-font/030-ttoo.t ................ ok
t/350-font/040-ttstd.t ............... skipped: No tt available
t/350-font/100-texttools.t ........... ok
t/400-filter/010-filters.t ........... ok
t/400-filter/020-autolevels.t ........ ok
t/450-api/100-inline.t ............... skipped: Inline required for testing API
t/450-api/110-inlinectx.t ............ skipped: Inline required for testing API
t/450-api/130-cpp.t .................. skipped: Inline::CPP required for testing C++ compatibility
t/850-thread/010-base.t .............. ok
t/850-thread/100-error.t ............. ok
t/850-thread/110-log.t ............... ok
t/900-util/010-test.t ................ ok
t/900-util/020-error.t ............... ok
t/900-util/030-log.t ................. ok
t/900-util/040-limit.t ............... ok
t/900-util/050-matrix.t .............. ok
t/900-util/060-extutil.t ............. ok
t/900-util/060-hlines.t .............. ok
t/950-kwalitee/010-pod.t ............. ok
t/950-kwalitee/020-samples.t ......... ok
t/950-kwalitee/030-podcover.t ........ ok
t/950-kwalitee/040-strict.t .......... ok
t/950-kwalitee/050-meta.t ............ ok
t/950-kwalitee/060-podstruct.t ....... ok
t/950-kwalitee/070-mymeta.t .......... ok
t/950-kwalitee/080-nousevars.t ....... ok
All tests successful.
Files=80, Tests=8966, 180 wallclock secs ( 3.46 usr  0.94 sys + 70.73 cusr 84.35 csys = 159.49 CPU)
Result: PASS

------------------------------
PREREQUISITES
------------------------------

Prerequisite modules loaded:

requires:

    Module              Need Have    
    ------------------- ---- --------
    Exporter            5.57 5.77    
    Scalar::Util        1.00 1.63    
    Test::More          0.99 1.302198
    XSLoader            0    0.24    

build_requires:

    Module              Need Have    
    ------------------- ---- --------
    ExtUtils::MakeMaker 0    7.70    
    Test::More          0.99 1.302198

configure_requires:

    Module              Need Have    
    ------------------- ---- --------
    ExtUtils::MakeMaker 0    7.70    


------------------------------
ENVIRONMENT AND OTHER CONTEXT
------------------------------

Environment variables:

    AUTOMATED_TESTING = 1
    LANG = en_GB.UTF-8
    NONINTERACTIVE_TESTING = 1
    PATH = /home/david/bin:/home/david/perl5/perlbrew/bin:/home/david/perl5/perlbrew/perls/perl-5.32.0/bin:/home/david/bin:/home/david/.cargo/bin:/home/david/bin:/usr/bin:/usr/sbin:/sbin:/usr/gnu/bin:/opt/ooce/bin:/home/david/.fzf.git/bin:/opt/ooce/bin:/opt/ooce/bin
    PERL = 5.30.2
    PERL5LIB = 
    PERL5OPT = 
    PERL5_CPANPLUS_IS_RUNNING = 25730
    PERL5_CPAN_IS_RUNNING = 25730
    PERLBREW_HOME = /home/david/.perlbrew
    PERLBREW_MANPATH = /home/david/perl5/perlbrew/perls/perl-5.32.0/man
    PERLBREW_PATH = /home/david/perl5/perlbrew/bin:/home/david/perl5/perlbrew/perls/perl-5.32.0/bin
    PERLBREW_PERL = perl-5.32.0
    PERLBREW_ROOT = /home/david/perl5/perlbrew
    PERLBREW_SHELLRC_VERSION = 0.89
    PERLBREW_VERSION = 0.89
    PERLVER = 5.30.2
    PERL_INLINE_DIRECTORY = /home/david/.Inline-5.30.2
    PERL_MM_USE_DEFAULT = 1
    PERL_USE_UNSAFE_INC = 0
    SHELL = /bin/bash
    TERM = screen

Perl special variables (and OS-specific diagnostics, for MSWin32):

    $^X = /home/david/cpantesting/perl-5.30.2/bin/perl
    $UID/$EUID = 100 / 100
    $GID = 1 1 100
    $EGID = 1 1 100

Perl module toolchain versions installed:

    Module              Have    
    ------------------- --------
    CPAN                2.22    
    CPAN::Meta          2.150010
    Cwd                 3.75    
    ExtUtils::CBuilder  0.280236
    ExtUtils::Command   7.70    
    ExtUtils::Install   2.22    
    ExtUtils::MakeMaker 7.70    
    ExtUtils::Manifest  1.75    
    ExtUtils::ParseXS   3.51    
    File::Spec          3.75    
    JSON                4.10    
    JSON::PP            4.16    
    Module::Build       0.4234  
    Module::Signature   n/a     
    Parse::CPAN::Meta   2.150010
    Test::Harness       3.48    
    Test::More          1.302198
    YAML                1.30    
    YAML::Syck          n/a     
    version             0.9930  


--

Summary of my perl5 (revision 5 version 30 subversion 2) configuration:
   
  Platform:
    osname=solaris
    osvers=2.11
    archname=i86pc-solaris-thread-multi-64
    uname='sunos cpantesting-illumos 5.11 omnios-r151036-4a32ffb911 i86pc i386 i86pc '
    config_args='-de -Dcc=gcc -Dprefix=/home/david/cpantesting/perl-5.30.2 -Dusethreads'
    hint=recommended
    useposix=true
    d_sigaction=define
    useithreads=define
    usemultiplicity=define
    use64bitint=define
    use64bitall=define
    uselongdouble=undef
    usemymalloc=n
    default_inc_excludes_dot=define
    bincompat5005=undef
  Compiler:
    cc='gcc'
    ccflags ='-D_REENTRANT -fwrapv -fno-strict-aliasing -pipe -fstack-protector-strong -m64 -D_LARGEFILE_SOURCE -D_FILE_OFFSET_BITS=64 -D_FORTIFY_SOURCE=2 -DPERL_USE_SAFE_PUTENV'
    optimize='-O'
    cppflags='-D_REENTRANT -fwrapv -fno-strict-aliasing -pipe -fstack-protector-strong'
    ccversion=''
    gccversion='9.3.0'
    gccosandvers=''
    intsize=4
    longsize=8
    ptrsize=8
    doublesize=8
    byteorder=12345678
    doublekind=3
    d_longlong=define
    longlongsize=8
    d_longdbl=define
    longdblsize=16
    longdblkind=3
    ivtype='long'
    ivsize=8
    nvtype='double'
    nvsize=8
    Off_t='off_t'
    lseeksize=8
    alignbytes=8
    prototype=define
  Linker and Libraries:
    ld='gcc'
    ldflags =' -fstack-protector-strong -L/usr/gnu/lib -m64 '
    libpth=/opt/gcc-9/lib /opt/gcc-9/lib/gcc/x86_64-pc-solaris2.11/9.3.0/include-fixed /usr/lib /usr/gnu/lib /usr/ccs/lib
    libs=-lpthread -lsocket -lnsl -ldl -lm -lc
    perllibs=-lpthread -lsocket -lnsl -ldl -lm -lc
    libc=/lib/libc.so
    so=so
    useshrplib=true
    libperl=libperl.so
    gnulibc_version=''
  Dynamic Linking:
    dlsrc=dl_dlopen.xs
    dlext=so
    d_dlsymun=undef
    ccdlflags='  -R /home/david/cpantesting/perl-5.30.2/lib/5.30.2/i86pc-solaris-thread-multi-64/CORE'
    cccdlflags='-fPIC'
    lddlflags=' -shared -m64 -L/usr/gnu/lib -fstack-protector-strong'


Characteristics of this binary (from libperl): 
  Compile-time options:
    HAS_TIMES
    MULTIPLICITY
    PERLIO_LAYERS
    PERL_COPY_ON_WRITE
    PERL_DONT_CREATE_GVSV
    PERL_IMPLICIT_CONTEXT
    PERL_MALLOC_WRAP
    PERL_OP_PARENT
    PERL_PRESERVE_IVUV
    PERL_USE_SAFE_PUTENV
    USE_64_BIT_ALL
    USE_64_BIT_INT
    USE_ITHREADS
    USE_LARGE_FILES
    USE_LOCALE
    USE_LOCALE_COLLATE
    USE_LOCALE_CTYPE
    USE_LOCALE_NUMERIC
    USE_LOCALE_TIME
    USE_PERLIO
    USE_PERL_ATOF
    USE_REENTRANT_API
    USE_THREAD_SAFE_LOCALE
  Built under solaris
  Compiled at Dec 12 2020 00:49:07
  %ENV:
    PERL="5.30.2"
    PERL5LIB=""
    PERL5OPT=""
    PERL5_CPANPLUS_IS_RUNNING="25730"
    PERL5_CPAN_IS_RUNNING="25730"
    PERLBREW_HOME="/home/david/.perlbrew"
    PERLBREW_MANPATH="/home/david/perl5/perlbrew/perls/perl-5.32.0/man"
    PERLBREW_PATH="/home/david/perl5/perlbrew/bin:/home/david/perl5/perlbrew/perls/perl-5.32.0/bin"
    PERLBREW_PERL="perl-5.32.0"
    PERLBREW_ROOT="/home/david/perl5/perlbrew"
    PERLBREW_SHELLRC_VERSION="0.89"
    PERLBREW_VERSION="0.89"
    PERLVER="5.30.2"
    PERL_INLINE_DIRECTORY="/home/david/.Inline-5.30.2"
    PERL_MM_USE_DEFAULT="1"
    PERL_USE_UNSAFE_INC="0"
  @INC:
    /home/david/cpantesting/perl-5.30.2/lib/site_perl/5.30.2/i86pc-solaris-thread-multi-64
    /home/david/cpantesting/perl-5.30.2/lib/site_perl/5.30.2
    /home/david/cpantesting/perl-5.30.2/lib/5.30.2/i86pc-solaris-thread-multi-64
    /home/david/cpantesting/perl-5.30.2/lib/5.30.2