Back
From: metabase:user:31dd1d2e-2aae-11df-837a-5e0a49663a4f
Subject: PASS Parse-CPAN-Authors-2.27 v5.12.4
Date: 2011-08-10T13:43:42Z
This distribution has been tested as part of the CPAN Testers
project, supporting the Perl programming language. See
http://wiki.cpantesters.org/ for more information or email
questions to cpan-testers-discuss@perl.org
--
Dear Leon Brocard,
This is a computer-generated report for Parse-CPAN-Authors-2.27
on perl 5.12.4, created by CPAN-Reporter-1.20.
Thank you for uploading your work to CPAN. Congratulations!
All tests were successful.
Sections of this report:
* Tester comments
* Program output
* Prerequisites
* Environment and other context
------------------------------
TESTER COMMENTS
------------------------------
Additional comments from tester:
none provided
------------------------------
PROGRAM OUTPUT
------------------------------
Output from 'C:\Perl\bin\perl.exe ./Build test':
t\pod.t ........... skipped: Test::Pod 1.14 required for testing POD
t\pod_coverage.t .. skipped: Test::Pod::Coverage 1.04 required for testing POD coverage
t\simple.t ........ ok
All tests successful.
Files=3, Tests=43, 0 wallclock secs ( 0.03 usr + 0.05 sys = 0.08 CPU)
Result: PASS
------------------------------
PREREQUISITES
------------------------------
Prerequisite modules loaded:
requires:
Module Need Have
--------------------- ---- ----
Class::Accessor::Fast 0 0.34
IO::Zlib 0 1.10
Test::Exception 0 0.31
Test::More 0 0.98
------------------------------
ENVIRONMENT AND OTHER CONTEXT
------------------------------
Environment variables:
ACTIVEPERL_CONFIG_SILENT = 1
COMSPEC = C:\windows\system32\cmd.exe
INCLUDE = ;C:\strawberry\c\include;C:\strawberry\perl\lib\CORE
LIB = ;C:\strawberry\c\lib;C:\strawberry\perl\bin
NUMBER_OF_PROCESSORS = 2
PATH = C:\Perl\site\bin;C:\Perl\bin;C:\Perl14\site\bin;C:\Perl14\bin;C:\Programme\PC Connectivity Solution\;C:\Programme\ActiveState Komodo IDE 6;C:\Programme\NVIDIA Corporation\PhysX\Common;C:\wamp\bin\php\php5.3.0\;C:\Programme\ImageMagick-6.6.7-Q16;C:\Perl\bin;C:\Perl\site\bin;C:\Programme\CollabNet Subversion Server\;C:\windows\system32;C:\windows;C:\windows\System32\Wbem;C:\Programme\Gemeinsame Dateien\Lenovo;C:\Programme\Microsoft SQL Server\90\Tools\binn\;C:\Programme\WinSCP\;C:\Programme\VDMSound;C:\Programme\Subversion;C:\Programme\QuickTime\QTSystem\;C:\WINDOWS\system32\WindowsPowerShell\v1.0;C:\Programme\Intel\WiFi\bin\;c:\Programme\PostgreSQL\8.4\bin\;C:\Programme\TortoiseSVN\bin;c:\MinGW\dmake\;C:\MinGW\bin\;C:\blast\bin;C:\Programme\OpenVPN\bin;c:\Sysinternals;c:\Programme\MySQL\MySQL Server 5.1\bin\;C:\cygwin\bin;C:\Programme\Graphviz2.26.3\bin;C:\Programme\TortoiseGit\bin;C:\Programme\Git\cmd
PERL5LIB =
PERL5OPT =
PERL5_CPANPLUS_IS_RUNNING = 18632
PERL5_CPAN_IS_RUNNING = 18632
PROCESSOR_IDENTIFIER = x86 Family 6 Model 23 Stepping 6, GenuineIntel
TEMP = C:\DOKUME~1\ADMINI~1\LOKALE~1\Temp
TERM = dumb
Perl special variables (and OS-specific diagnostics, for MSWin32):
$^X = C:\Perl\bin\perl.exe
$UID/$EUID = 0 / 0
$GID = 0
$EGID = 0
Win32::GetOSName = WinXP/.Net
Win32::GetOSVersion = Service Pack 3, 5, 1, 2600, 2, 3, 0, 256, 1
Win32::FsType = NTFS
Win32::IsAdminUser = 1
Perl module toolchain versions installed:
Module Have
------------------- --------
CPAN 1.94_56
CPAN::Meta 2.112150
Cwd 3.33
ExtUtils::CBuilder 0.280201
ExtUtils::Command 1.17
ExtUtils::Install 1.55
ExtUtils::MakeMaker 6.59
ExtUtils::Manifest 1.58
ExtUtils::ParseXS 2.2206
File::Spec 3.33
JSON 2.51
JSON::PP 2.27200
Module::Build 0.3607
Module::Signature n/a
Parse::CPAN::Meta 1.4401
Test::Harness 3.23
Test::More 0.98
YAML 0.73
YAML::Syck n/a
version 0.88
--
Summary of my perl5 (revision 5 version 12 subversion 4) configuration:
Platform:
osname=MSWin32, osvers=5.2, archname=MSWin32-x86-multi-thread
uname=''
config_args='undef'
hint=recommended, useposix=true, d_sigaction=undef
useithreads=define, usemultiplicity=define
useperlio=define, d_sfio=undef, uselargefiles=define, usesocks=undef
use64bitint=undef, use64bitall=undef, uselongdouble=undef
usemymalloc=n, bincompat5005=undef
Compiler:
cc='C:/Perl/site/bin/gcc.exe', ccflags ='-DNDEBUG -DWIN32 -D_CONSOLE -DNO_STRICT -DHAVE_DES_FCRYPT -DUSE_SITECUSTOMIZE -DPERL_IMPLICIT_CONTEXT -DPERL_IMPLICIT_SYS -DUSE_PERLIO -D_USE_32BIT_TIME_T -DPERL_MSVCRT_READFIX -DHASATTRIBUTE -fno-strict-aliasing -mms-bitfields',
optimize='-O2',
cppflags='-DWIN32'
ccversion='', gccversion='3.4.5 (mingw-vista special r3)', gccosandvers=''
intsize=4, longsize=4, ptrsize=4, doublesize=8, byteorder=1234
d_longlong=undef, longlongsize=8, d_longdbl=define, longdblsize=8
ivtype='long', ivsize=4, nvtype='double', nvsize=8, Off_t='__int64', lseeksize=8
alignbytes=8, prototype=define
Linker and Libraries:
ld='C:\Perl\site\bin\g++.exe', ldflags ='-L"C:\Perl\lib\CORE"'
libpth=\lib
libs=-lkernel32 -luser32 -lgdi32 -lwinspool -lcomdlg32 -ladvapi32 -lshell32 -lole32 -loleaut32 -lnetapi32 -luuid -lws2_32 -lmpr -lwinmm -lversion -lodbc32 -lodbccp32 -lcomctl32 -lmsvcrt
perllibs=-lkernel32 -luser32 -lgdi32 -lwinspool -lcomdlg32 -ladvapi32 -lshell32 -lole32 -loleaut32 -lnetapi32 -luuid -lws2_32 -lmpr -lwinmm -lversion -lodbc32 -lodbccp32 -lcomctl32 -lmsvcrt
libc=msvcrt.lib, so=dll, useshrplib=true, libperl=perl512.lib
gnulibc_version=''
Dynamic Linking:
dlsrc=dl_win32.xs, dlext=dll, d_dlsymun=undef, ccdlflags=' '
cccdlflags=' ', lddlflags='-mdll -L"C:\Perl\lib\CORE"'
Characteristics of this binary (from libperl):
Compile-time options: MULTIPLICITY PERL_DONT_CREATE_GVSV
PERL_IMPLICIT_CONTEXT PERL_IMPLICIT_SYS
PERL_MALLOC_WRAP PL_OP_SLAB_ALLOC USE_ITHREADS
USE_LARGE_FILES USE_PERLIO USE_PERL_ATOF
USE_SITECUSTOMIZE
Locally applied patches:
ActivePerl Build 1205 [294981]
c6fbf28 [perl #71806] perldb does not setup %dbline with the shebang option -d
1fd8fa4 Add Wolfram Humann to AUTHORS
f120055 make string-append on win32 100 times faster
a2a8d15 Define _USE_32BIT_TIME_T for VC6 and VC7
007cfe1 Don't pretend to support really old VC++ compilers
6d8f7c9 Get rid of obsolete PerlCRT.dll support
d956618 Make Term::ReadLine::findConsole fall back to STDIN if /dev/tty can't be opened
321e50c Escape patch strings before embedding them in patchlevel.h
Built under MSWin32
Compiled at Jun 20 2011 18:35:25
%ENV:
PERL5_CPANPLUS_IS_RUNNING="18632"
PERL5_CPAN_IS_RUNNING="18632"
@INC:
C:/Perl/site/lib
C:/Perl/lib
.