Report for Task-App-ZofCMS-0.0109

Back
From: metabase:user:30977d10-2aae-11df-837a-5e0a49663a4f
Subject: PASS Task-App-ZofCMS-0.0109 v5.15.2 GNU/Linux
Date: 2011-08-28T09:53:46Z

This distribution has been tested as part of the CPAN Testers
project, supporting the Perl programming language.  See
http://wiki.cpantesters.org/ for more information or email
questions to cpan-testers-discuss@perl.org


--
Dear Zoffix Znet,

This is a computer-generated report for Task-App-ZofCMS-0.0109
on perl 5.15.2, created by CPAN-Reporter-1.2002.

Thank you for uploading your work to CPAN.  Congratulations!
All tests were successful.

Sections of this report:

    * Tester comments
    * Program output
    * Prerequisites
    * Environment and other context

------------------------------
TESTER COMMENTS
------------------------------

Additional comments from tester:

this report is from an automated smoke testing program
and was not reviewed by a human for accuracy

------------------------------
PROGRAM OUTPUT
------------------------------

Output from './Build test':

Use of qw(...) as parentheses is deprecated at /home/trushel/perl/perl5152/lib/site_perl/5.15.2/WWW/GetPageTitle.pm line 16.
Use of qw(...) as parentheses is deprecated at /home/trushel/perl/perl5152/lib/site_perl/5.15.2/WWW/Google/Time.pm line 16.
Use of qw(...) as parentheses is deprecated at /home/trushel/perl/perl5152/lib/site_perl/5.15.2/WWW/BashOrg.pm line 17.
Use of uninitialized value $Task::App::ZofCMS::VERSION in concatenation (.) or string at t/00-load.t line 80.
# Testing Task::App::ZofCMS , Perl 5.015002, /home/trushel/perl/perl5152/bin/perl
t/00-load.t ....... ok
t/pod-coverage.t .. ok
t/pod.t ........... ok
All tests successful.
Files=3, Tests=74,  0 wallclock secs ( 0.04 usr  0.00 sys +  0.34 cusr  0.03 csys =  0.41 CPU)
Result: PASS

------------------------------
PREREQUISITES
------------------------------

Prerequisite modules loaded:

requires:

    Module                                               Need   Have   
    ---------------------------------------------------- ------ -------
    App::ZofCMS                                          0.0221 0.0221 
    App::ZofCMS::Plugin::AccessDenied                    0.0101 0.0101 
    App::ZofCMS::Plugin::AntiSpamMailTo                  0.0101 0.0101 
    App::ZofCMS::Plugin::AutoDump                        0.0101 0.0101 
    App::ZofCMS::Plugin::AutoEmptyQueryDelete            0.0101 0.0101 
    App::ZofCMS::Plugin::AutoIMGSize                     0.0102 0.0102 
    App::ZofCMS::Plugin::Barcode                         0.0103 0.0103 
    App::ZofCMS::Plugin::Base                            0.0106 0.0111 
    App::ZofCMS::Plugin::BasicLWP                        0.0104 0.0104 
    App::ZofCMS::Plugin::BoolSettingsManager             0.0101 0.0102 
    App::ZofCMS::Plugin::BreadCrumbs                     0.0103 0.0103 
    App::ZofCMS::Plugin::Captcha                         0.0102 0.0102 
    App::ZofCMS::Plugin::Comments                        0.0102 0.0102 
    App::ZofCMS::Plugin::ConditionalRedirect             0.0101 0.0101 
    App::ZofCMS::Plugin::ConfigToTemplate                0.0104 0.0104 
    App::ZofCMS::Plugin::Cookies                         0.0104 0.0104 
    App::ZofCMS::Plugin::CSSMinifier                     0.0104 0.0104 
    App::ZofCMS::Plugin::DateSelector                    0.0112 0.0112 
    App::ZofCMS::Plugin::DBI                             0.0402 0.0402 
    App::ZofCMS::Plugin::DBIPPT                          0.0104 0.0104 
    App::ZofCMS::Plugin::Debug::Dumper                   0.0102 0.0102 
    App::ZofCMS::Plugin::Debug::Validator::HTML          0.0102 0.0102 
    App::ZofCMS::Plugin::DirTreeBrowse                   0.0105 0.0105 
    App::ZofCMS::Plugin::Doctypes                        0.0101 0.0101 
    App::ZofCMS::Plugin::FileList                        0.0101 0.0101 
    App::ZofCMS::Plugin::FileToTemplate                  0.0101 0.0101 
    App::ZofCMS::Plugin::FileTypeIcon                    0.0105 0.0105 
    App::ZofCMS::Plugin::FileUpload                      0.0114 0.0114 
    App::ZofCMS::Plugin::FloodControl                    0.0103 0.0103 
    App::ZofCMS::Plugin::FormChecker                     0.0341 0.0341 
    App::ZofCMS::Plugin::FormFiller                      0.0101 0.0101 
    App::ZofCMS::Plugin::FormMailer                      0.0222 0.0222 
    App::ZofCMS::Plugin::FormToDatabase                  0.0101 0.0101 
    App::ZofCMS::Plugin::GetRemotePageTitle              0.0104 0.0104 
    App::ZofCMS::Plugin::GoogleCalculator                0.0103 0.0103 
    App::ZofCMS::Plugin::GooglePageRank                  0.0103 0.0103 
    App::ZofCMS::Plugin::GoogleTime                      0.0103 0.0103 
    App::ZofCMS::Plugin::HTMLFactory                     0.0102 0.0102 
    App::ZofCMS::Plugin::HTMLFactory::Entry              0.0101 0.0101 
    App::ZofCMS::Plugin::HTMLFactory::PageToBodyId       0.0102 0.0102 
    App::ZofCMS::Plugin::HTMLMailer                      0.0102 0.0102 
    App::ZofCMS::Plugin::ImageGallery                    0.0203 0.0203 
    App::ZofCMS::Plugin::ImageResize                     0.0103 0.0103 
    App::ZofCMS::Plugin::InstalledModuleChecker          0.0102 0.0102 
    App::ZofCMS::Plugin::JavaScriptMinifier              0.0102 0.0102 
    App::ZofCMS::Plugin::LinkifyText                     0.0110 0.0110 
    App::ZofCMS::Plugin::LinksToSpecs::CSS               0.0104 0.0104 
    App::ZofCMS::Plugin::LinksToSpecs::HTML              0.0101 0.0101 
    App::ZofCMS::Plugin::NavMaker                        0.0103 0.0103 
    App::ZofCMS::Plugin::PreferentialOrder               0.0102 0.0103 
    App::ZofCMS::Plugin::QueryToTemplate                 0.0102 0.0102 
    App::ZofCMS::Plugin::QuickNote                       0.0107 0.0107 
    App::ZofCMS::Plugin::RandomBashOrgQuote              0.0102 0.0102 
    App::ZofCMS::Plugin::RandomPasswordGenerator         0.0102 0.0102 
    App::ZofCMS::Plugin::RandomPasswordGeneratorPurePerl 0.0103 0.0103 
    App::ZofCMS::Plugin::Search::Indexer                 0.0102 0.0102 
    App::ZofCMS::Plugin::SendFile                        0.0103 0.0103 
    App::ZofCMS::Plugin::Session                         0.0102 0.0102 
    App::ZofCMS::Plugin::SplitPriceSelect                0.0103 0.0103 
    App::ZofCMS::Plugin::StyleSwitcher                   0.0102 0.0102 
    App::ZofCMS::Plugin::Sub                             0.0101 0.0101 
    App::ZofCMS::Plugin::Syntax::Highlight::CSS          0.0102 0.0102 
    App::ZofCMS::Plugin::Syntax::Highlight::HTML         0.0101 0.0101 
    App::ZofCMS::Plugin::TagCloud                        0.0103 0.0103 
    App::ZofCMS::Plugin::Tagged                          0.0252 0.0252 
    App::ZofCMS::Plugin::TOC                             0.0103 0.0103 
    App::ZofCMS::Plugin::UserLogin                       0.0212 0.0213 
    App::ZofCMS::Plugin::UserLogin::ChangePassword       0.0110 0.0110 
    App::ZofCMS::Plugin::UserLogin::ForgotPassword       0.0112 0.0114 
    App::ZofCMS::Plugin::ValidationLinks                 0.0101 0.0101 
    App::ZofCMS::Plugin::YouTube                         0.0104 0.0104 
    App::ZofCMS::PluginReference                         0.0106 0.0107 
    App::ZofCMS::Test::Plugin                            0.0104 0.0104 

build_requires:

    Module                                               Need   Have   
    ---------------------------------------------------- ------ -------
    Test::More                                           0      0.98   

configure_requires:

    Module                                               Need   Have   
    ---------------------------------------------------- ------ -------
    Module::Build                                        0.36   0.39_01


------------------------------
ENVIRONMENT AND OTHER CONTEXT
------------------------------

Environment variables:

    AUTOMATED_TESTING = 1
    LANG = en_US.UTF-8
    LANGUAGE = en
    LC_COLLATE = C
    LC_MONETARY = C
    LC_NUMERIC = C
    LC_TIME = C
    PATH = /usr/local/sbin:/usr/local/bin:/usr/sbin:/usr/bin:/sbin:/bin
    PERL5LIB = 
    PERL5OPT = 
    PERL5_CPANPLUS_IS_RUNNING = 24374
    PERL5_CPAN_IS_RUNNING = 24374
    PERL5_CPAN_IS_RUNNING_IN_RECURSION = 17270,24374
    PERL_CR_SMOKER_CURRENT = Task-App-ZofCMS-0.0109
    PERL_EXTUTILS_AUTOINSTALL = --defaultdeps
    PERL_MM_USE_DEFAULT = 1
    SHELL = /bin/bash
    TERM = xterm

Perl special variables (and OS-specific diagnostics, for MSWin32):

    $^X = /home/trushel/perl/perl5152/bin/perl
    $UID/$EUID = 138375 / 138375
    $GID = 5762 4 20 21 24 25 26 30 44 46 104 105 119 122 431 5762
    $EGID = 5762 4 20 21 24 25 26 30 44 46 104 105 119 122 431 5762

Perl module toolchain versions installed:

    Module              Have    
    ------------------- --------
    CPAN                1.9800  
    CPAN::Meta          2.112150
    Cwd                 3.33    
    ExtUtils::CBuilder  0.280204
    ExtUtils::Command   1.17    
    ExtUtils::Install   1.54    
    ExtUtils::MakeMaker 6.59    
    ExtUtils::Manifest  1.60    
    ExtUtils::ParseXS   3.03_01 
    File::Spec          3.33    
    JSON                2.53    
    JSON::PP            2.27200 
    Module::Build       0.39_01 
    Module::Signature   n/a     
    Parse::CPAN::Meta   1.4401  
    Test::Harness       3.23    
    Test::More          0.98    
    YAML                0.73    
    YAML::Syck          n/a     
    version             0.93    


--

Summary of my perl5 (revision 5 version 15 subversion 2) configuration:
   
  Platform:
    osname=linux, osvers=2.6.32-33-generic, archname=x86_64-linux
    uname='linux trushel-glaptop 2.6.32-33-generic #72-ubuntu smp fri jul 29 21:07:13 utc 2011 x86_64 gnulinux '
    config_args=''
    hint=recommended, useposix=true, d_sigaction=define
    useithreads=undef, usemultiplicity=undef
    useperlio=define, d_sfio=undef, uselargefiles=define, usesocks=undef
    use64bitint=define, use64bitall=define, uselongdouble=undef
    usemymalloc=n, bincompat5005=undef
  Compiler:
    cc='cc', ccflags ='-fno-strict-aliasing -pipe -fstack-protector -I/usr/local/include -D_LARGEFILE_SOURCE -D_FILE_OFFSET_BITS=64',
    optimize='-O2',
    cppflags='-fno-strict-aliasing -pipe -fstack-protector -I/usr/local/include'
    ccversion='', gccversion='4.4.3', gccosandvers=''
    intsize=4, longsize=8, ptrsize=8, doublesize=8, byteorder=12345678
    d_longlong=define, longlongsize=8, d_longdbl=define, longdblsize=16
    ivtype='long', ivsize=8, nvtype='double', nvsize=8, Off_t='off_t', lseeksize=8
    alignbytes=8, prototype=define
  Linker and Libraries:
    ld='cc', ldflags =' -fstack-protector -L/usr/local/lib'
    libpth=/usr/local/lib /lib/../lib /usr/lib/../lib /lib /usr/lib /usr/lib/x86_64-linux-gnu /lib64 /usr/lib64
    libs=-lnsl -ldb -ldl -lm -lcrypt -lutil -lc
    perllibs=-lnsl -ldl -lm -lcrypt -lutil -lc
    libc=/lib/libc-2.11.1.so, so=so, useshrplib=false, libperl=libperl.a
    gnulibc_version='2.11.1'
  Dynamic Linking:
    dlsrc=dl_dlopen.xs, dlext=so, d_dlsymun=undef, ccdlflags='-Wl,-E'
    cccdlflags='-fPIC', lddlflags='-shared -O2 -L/usr/local/lib -fstack-protector'


Characteristics of this binary (from libperl): 
  Compile-time options: HAS_TIMES PERLIO_LAYERS PERL_DONT_CREATE_GVSV
                        PERL_MALLOC_WRAP PERL_PRESERVE_IVUV USE_64_BIT_ALL
                        USE_64_BIT_INT USE_LARGE_FILES USE_LOCALE
                        USE_LOCALE_COLLATE USE_LOCALE_CTYPE
                        USE_LOCALE_NUMERIC USE_PERLIO USE_PERL_ATOF
  Built under linux
  Compiled at Aug 22 2011 22:49:36
  %ENV:
    PERL5LIB=""
    PERL5OPT=""
    PERL5_CPANPLUS_IS_RUNNING="24374"
    PERL5_CPAN_IS_RUNNING="24374"
    PERL5_CPAN_IS_RUNNING_IN_RECURSION="17270,24374"
    PERL_CR_SMOKER_CURRENT="Task-App-ZofCMS-0.0109"
    PERL_EXTUTILS_AUTOINSTALL="--defaultdeps"
    PERL_MM_USE_DEFAULT="1"
  @INC:
    /home/trushel/perl/perl5152/lib/site_perl/5.15.2/x86_64-linux
    /home/trushel/perl/perl5152/lib/site_perl/5.15.2
    /home/trushel/perl/perl5152/lib/5.15.2/x86_64-linux
    /home/trushel/perl/perl5152/lib/5.15.2
    .