Report for MooseX-App-Cmd-0.27

Back
From: metabase:user:5f77f54e-6c0d-1014-966e-55cac1b3e646
Subject: PASS MooseX-App-Cmd-0.27 v5.16.2 
Date: 2014-01-07T19:42:01Z

This distribution has been tested as part of the CPAN Testers
project, supporting the Perl programming language.  See
http://wiki.cpantesters.org/ for more information or email
questions to cpan-testers-discuss@perl.org


--
Dear Mark Gardner,

This is a computer-generated report for MooseX-App-Cmd-0.27
on perl 5.16.2, created by CPAN-Reporter-1.2010.

Thank you for uploading your work to CPAN.  Congratulations!
All tests were successful.

Sections of this report:

    * Tester comments
    * Program output
    * Prerequisites
    * Environment and other context

------------------------------
TESTER COMMENTS
------------------------------

Additional comments from tester:

none provided

------------------------------
PROGRAM OUTPUT
------------------------------

Output from 'C:\VS10\VC\bin\nmake.exe test':


Microsoft (R) Program Maintenance Utility Version 10.00.30319.01
Copyright (C) Microsoft Corporation.  All rights reserved.

	C:\Perl\bin\perl.EXE "-MExtUtils::Command::MM" "-MTest::Harness" "-e" "undef *Test::Harness::Switches; test_harness(0, 'blib\lib', 'blib\arch')" t/*.t
t/00-compile.t .......................... ok
# Testing with Perl 5.016002, C:\Perl\bin\perl.EXE
#     Any::Moose version is 0.21
#     App::Cmd version is 0.323
#     App::Cmd::Command version is 0.323
#     Carp version is 1.32
#     Data::Dumper version is 2.145
#     English version is 1.05
#     ExtUtils::MakeMaker version is 6.86
#     File::Basename version is 2.84
#     File::Spec version is 3.40
#     Getopt::Long::Descriptive version is 0.096
#     IO::Handle version is 1.33
#     IPC::Open3 version is 1.12
#     MouseX::Getopt version is 0.34
#     Scalar::Util version is 1.35
#     Test::More version is 1.001002
#     Test::Output version is 1.02
#     Test::use::ok version is 0.11
#     YAML version is 0.88
#     base version is 2.18
#     lib version is 0.63
#     namespace::clean version is 0.24
#     strict version is 1.07
#     warnings version is 1.13
t/000-report-versions.t ................. ok
t/author-critic.t ....................... skipped: these tests are for testing by the author
t/author-test-eol.t ..................... skipped: these tests are for testing by the author
t/basic.t ............................... ok
t/build_emulates_new.t .................. ok
t/configfile.t .......................... ok
t/moose.t ............................... ok
t/mouse.t ............................... ok
t/release-changes_has_content.t ......... skipped: these tests are for release candidate testing
t/release-cpan-changes.t ................ skipped: these tests are for release candidate testing
t/release-dist-manifest.t ............... skipped: these tests are for release candidate testing
t/release-distmeta.t .................... skipped: these tests are for release candidate testing
t/release-kwalitee.t .................... skipped: these tests are for release candidate testing
t/release-localbrew-perl-latest-TEST.t .. skipped: these tests are for release candidate testing
t/release-meta-json.t ................... skipped: these tests are for release candidate testing
t/release-minimum-version.t ............. skipped: these tests are for release candidate testing
t/release-mojibake.t .................... skipped: these tests are for release candidate testing
t/release-no-tabs.t ..................... skipped: these tests are for release candidate testing
t/release-pod-coverage.t ................ skipped: these tests are for release candidate testing
t/release-pod-linkcheck.t ............... skipped: these tests are for release candidate testing
t/release-pod-syntax.t .................. skipped: these tests are for release candidate testing
t/release-portability.t ................. skipped: these tests are for release candidate testing
t/release-synopsis.t .................... skipped: these tests are for release candidate testing
t/release-test-version.t ................ skipped: these tests are for release candidate testing
t/release-unused-vars.t ................. skipped: these tests are for release candidate testing
All tests successful.
Files=26, Tests=47,  7 wallclock secs ( 0.13 usr +  0.11 sys =  0.23 CPU)
Result: PASS

------------------------------
PREREQUISITES
------------------------------

Prerequisite modules loaded:

requires:

    Module                    Need  Have    
    ------------------------- ----- --------
    Any::Moose                0     0.21    
    App::Cmd                  0.321 0.323   
    App::Cmd::Command         0     0.323   
    English                   0     1.05    
    File::Basename            0     2.84    
    Getopt::Long::Descriptive 0.091 0.096   
    MouseX::Getopt            0     0.34    
    namespace::clean          0     0.24    
    Test::use::ok             0     0.11    

build_requires:

    Module                    Need  Have    
    ------------------------- ----- --------
    base                      0     2.18    
    Carp                      0     1.32    
    Data::Dumper              0     2.145   
    ExtUtils::MakeMaker       0     6.86    
    File::Spec                0     3.40    
    IO::Handle                0     1.33    
    IPC::Open3                0     1.12    
    lib                       0     0.63    
    Scalar::Util              0     1.35    
    strict                    0     1.07    
    Test::More                0.94  1.001002
    Test::Output              0     1.02    
    warnings                  0     1.13    
    YAML                      0     0.88    

configure_requires:

    Module                    Need  Have    
    ------------------------- ----- --------
    ExtUtils::MakeMaker       6.30  6.86    


------------------------------
ENVIRONMENT AND OTHER CONTEXT
------------------------------

Environment variables:

    COMSPEC = C:\TCMD\TCC.EXE
    INCLUDE = c:\openssl\include;c:\VS10\VC\INCLUDE;c:\VS10\VC\ATLMFC\INCLUDE;C:\Program Files (x86)\Microsoft SDKs\Windows\v7.0A\include;c:\tcl\include
    LIB = c:\openssl\lib;c:\VS10\VC\LIB;c:\VS10\VC\ATLMFC\LIB;C:\Program Files (x86)\Microsoft SDKs\Windows\v7.0A\lib;c:\tcl\lib
    NUMBER_OF_PROCESSORS = 4
    PATH = C:\Windows;C:\Windows\System32;C:\Windows\System32\WBEM;C:\Program Files (x86)\ImageMagick-6.8.7-Q16;C:\Program Files\Common Files\Microsoft Shared\Microsoft Online Services;C:\Program Files (x86)\Common Files\microsoft shared\Microsoft Online Services;C:\Tcl\bin;C:\Program Files (x86)\RSA SecurID Token Common;C:\Program Files (x86)\ImageMagick-6.8.2-Q16;C:\Oracle\product\11.2.0\client\bin;C:\Program Files (x86)\ActiveState Komodo IDE 7;C:\TCMD;C:\Utils;C:\openssl\bin;C:\GnuPG;C:\Python;C:\Python\Scripts;C:\Perl\PDK\bin;C:\Perl\site\bin;C:\Perl\bin;C:\VS10\VC\bin;C:\Program Files (x86)\Stellent\IBPM;C:\Program Files (x86)\Nmap;C:\Windows\IDMU\COMMON;C:\Program Files (x86)\Microsoft F#\v4.0;C:\VS10\VSTSDB\Deploy;C:\VS10\Common7\IDE;C:\VS10\Common7\Tools;C:\Windows\Microsoft.NET\Framework\v4.0.30319;C:\Windows\Microsoft.NET\Framework\v3.5;C:\VS10\VC\vcpackages;C:\Program Files (x86)\Microsoft SDKs\Windows\v7.0A\Bin\NETFX 4.0 Tools;C:\Program Files (x86)\Microsoft SDKs\Windows\v7.0A\Bin;C:\Expat\Bin;C:\Program Files (x86)\Graphviz 2.28\bin;C:\Windows\SYSTEM32\WINDOWSPOWERSHELL\V1.0\;C:\Apache24\bin;C:\Windows\SYSTEM32\WINDOWSPOWERSHELL\V1.0\;C:\Program Files (x86)\WinSCP;C:\Program Files\MySQL\MySQL Server 5.6\bin;C:\Program Files (x86)\QuickTime\QTSystem;C:\Program Files (x86)\Java\jre7\bin;C:\Program Files\VanDyke Software\Clients;C:\Program Files (x86)\Intel\OpenCL SDK\2.0\bin\x86;C:\Program Files (x86)\Intel\OpenCL SDK\2.0\bin\x64;C:\Program Files\Intel\WiFi\bin;C:\Program Files\Common Files\Intel\WirelessCommon;C:\Program Files\VanDyke Software\Clients;C:\Program Files\VanDyke Software\Clients;C:\Program Files\VanDyke Software\Clients;C:\Program Files\VanDyke Software\Clients;C:\Program Files (x86)\WinSCP;C:\Program Files\VanDyke Software\Clients;C:\Program Files (x86)\WinSCP;C:\Program Files\Intel\WiFi\bin\;C:\Program Files\Common Files\Intel\WirelessCommon\;.;;.;
    PERL5LIB = 
    PERL5OPT = 
    PERL5_CPANPLUS_IS_RUNNING = 4192
    PERL5_CPAN_IS_RUNNING = 4192
    PROCESSOR_IDENTIFIER = Intel64 Family 6 Model 42 Stepping 7, GenuineIntel
    TEMP = C:\Users\a00772a\AppData\Local\Temp
    TERM = dumb

Perl special variables (and OS-specific diagnostics, for MSWin32):

    $^X = C:\Perl\bin\perl.EXE
    $UID/$EUID = 0 / 0
    $GID = 0
    $EGID = 0
    Win32::GetOSName = Win7
    Win32::GetOSVersion = Service Pack 1, 6, 1, 7601, 2, 1, 0, 256, 1
    Win32::FsType = NTFS
    Win32::IsAdminUser = 1

Perl module toolchain versions installed:

    Module              Have    
    ------------------- --------
    CPAN                2.00    
    CPAN::Meta          2.133380
    Cwd                 3.40    
    ExtUtils::CBuilder  0.280212
    ExtUtils::Command   1.18    
    ExtUtils::Install   1.54    
    ExtUtils::MakeMaker 6.86    
    ExtUtils::Manifest  1.63    
    ExtUtils::ParseXS   3.22    
    File::Spec          3.40    
    JSON                2.90    
    JSON::PP            2.27203 
    Module::Build       0.4203  
    Module::Signature   0.73    
    Parse::CPAN::Meta   1.4409  
    Test::Harness       3.30    
    Test::More          1.001002
    YAML                0.88    
    YAML::Syck          1.27    
    version             0.9904  


--

Summary of my perl5 (revision 5 version 16 subversion 2) configuration:
   
  Platform:
    osname=MSWin32, osvers=5.2, archname=MSWin32-x86-multi-thread
    uname=''
    config_args='undef'
    hint=recommended, useposix=true, d_sigaction=undef
    useithreads=define, usemultiplicity=define
    useperlio=define, d_sfio=undef, uselargefiles=define, usesocks=undef
    use64bitint=undef, use64bitall=undef, uselongdouble=undef
    usemymalloc=n, bincompat5005=undef
  Compiler:
    cc='cl', ccflags ='-nologo -GF -W3 -MD -Zi -DNDEBUG -O1 -DWIN32 -D_CONSOLE -DNO_STRICT -DPERL_TEXTMODE_SCRIPTS -DUSE_SITECUSTOMIZE -DPERL_IMPLICIT_CONTEXT -DPERL_IMPLICIT_SYS -DUSE_PERLIO -D_USE_32BIT_TIME_T',
    optimize='-MD -Zi -DNDEBUG -O1',
    cppflags='-DWIN32'
    ccversion='16.0.40219', gccversion='', gccosandvers=''
    intsize=4, longsize=4, ptrsize=4, doublesize=8, byteorder=1234
    d_longlong=undef, longlongsize=8, d_longdbl=define, longdblsize=8
    ivtype='long', ivsize=4, nvtype='double', nvsize=8, Off_t='__int64', lseeksize=8
    alignbytes=8, prototype=define
  Linker and Libraries:
    ld='link', ldflags ='-nologo -nodefaultlib -debug -opt:ref,icf  -libpath:"C:\Perl\lib\CORE"  -machine:x86'
    libpth=\lib
    libs=oldnames.lib kernel32.lib user32.lib gdi32.lib winspool.lib  comdlg32.lib advapi32.lib shell32.lib ole32.lib oleaut32.lib  netapi32.lib uuid.lib ws2_32.lib mpr.lib winmm.lib  version.lib odbc32.lib odbccp32.lib comctl32.lib msvcrt.lib
    perllibs=oldnames.lib kernel32.lib user32.lib gdi32.lib winspool.lib  comdlg32.lib advapi32.lib shell32.lib ole32.lib oleaut32.lib  netapi32.lib uuid.lib ws2_32.lib mpr.lib winmm.lib  version.lib odbc32.lib odbccp32.lib comctl32.lib msvcrt.lib
    libc=msvcrt.lib, so=dll, useshrplib=true, libperl=perl516.lib
    gnulibc_version=''
  Dynamic Linking:
    dlsrc=dl_win32.xs, dlext=dll, d_dlsymun=undef, ccdlflags=' '
    cccdlflags=' ', lddlflags='-dll -nologo -nodefaultlib -debug -opt:ref,icf  -libpath:"C:\Perl\lib\CORE"  -machine:x86'


Characteristics of this binary (from libperl): 
  Compile-time options: HAS_TIMES HAVE_INTERP_INTERN MULTIPLICITY
                        PERLIO_LAYERS PERL_DONT_CREATE_GVSV
                        PERL_IMPLICIT_CONTEXT PERL_IMPLICIT_SYS
                        PERL_MALLOC_WRAP PERL_PRESERVE_IVUV PL_OP_SLAB_ALLOC
                        USE_ITHREADS USE_LARGE_FILES USE_LOCALE
                        USE_LOCALE_COLLATE USE_LOCALE_CTYPE
                        USE_LOCALE_NUMERIC USE_PERLIO USE_PERL_ATOF
                        USE_SITECUSTOMIZE
  Locally applied patches:
	ActivePerl Build 1602 [296513]
  Built under MSWin32
  Compiled at Dec 19 2012 12:35:59
  %ENV:
    PERL5_CPANPLUS_IS_RUNNING="4192"
    PERL5_CPAN_IS_RUNNING="4192"
  @INC:
    C:/Perl/site/lib
    C:/Perl/lib
    .