CGI v4.57 Perl 5 v5.38.0 x86_64-linux-thread-multi

Status
Pass
From
Daniel Șuteu
Dist
CGI v4.57
Platform
Perl 5 v5.38.0 x86_64-linux-thread-multi
Date
2023-08-28 20:51:15
ID
a16de12c-45e4-11ee-8eab-af9fc92cd055
This distribution has been tested as part of the CPAN Testers
project, supporting the Perl programming language.  See
http://wiki.cpantesters.org/ for more information or email
questions to cpan-testers-discuss@perl.org


--
Dear LEEJO,

This is a computer-generated report for CGI-4.57
on perl 5.38.0, created by App::cpanminus::reporter 0.21 (1.7047).

Thank you for uploading your work to CPAN.  Congratulations!
All tests were successful.

Sections of this report:

    * Tester comments
    * Program output
    * Prerequisites
    * Environment and other context

------------------------------
TESTER COMMENTS
------------------------------

Additional comments from tester:

none provided

------------------------------
PROGRAM OUTPUT
------------------------------

Output from '':

Building and testing CGI-4.57
cp lib/CGI.pm blib/lib/CGI.pm
cp lib/CGI/HTML/Functions.pm blib/lib/CGI/HTML/Functions.pm
cp lib/CGI/Pretty.pm blib/lib/CGI/Pretty.pm
cp lib/CGI/Push.pm blib/lib/CGI/Push.pm
cp lib/CGI/File/Temp.pm blib/lib/CGI/File/Temp.pm
cp lib/CGI/Util.pm blib/lib/CGI/Util.pm
cp lib/CGI/HTML/Functions.pod blib/lib/CGI/HTML/Functions.pod
cp lib/Fh.pm blib/lib/Fh.pm
cp lib/CGI.pod blib/lib/CGI.pod
cp lib/CGI/Cookie.pm blib/lib/CGI/Cookie.pm
cp lib/CGI/Carp.pm blib/lib/CGI/Carp.pm
Manifying 7 pod documents
PERL_DL_NONLAZY=1 "/usr/bin/perl" "-MExtUtils::Command::MM" "-MTest::Harness" "-e" "undef *Test::Harness::Switches; test_harness(0, 'blib/lib', 'blib/arch')" t/*.t t/headers/*.t
t/append_query.t ............ ok
t/arbitrary_handles.t ....... ok
t/autoescape.t .............. ok
t/can.t ..................... ok
[Mon Aug 28 23:51:05 2023] carp.t: foo at /home/swampyx/.cpanm/work/1693255862.13440/CGI-4.57/blib/lib/CGI/Carp.pm line 360.
t/carp.t .................... ok
# cgi-lib.pl routines
private_tempfiles has been deprecated at /home/swampyx/.cpanm/work/1693255862.13440/CGI-4.57/blib/lib/CGI.pm line 3238.
t/cgi.t ..................... ok
t/changes.t ................. skipped: Test::CPAN::Changes required for this test
t/charset.t ................. ok
t/checkbox_group.t .......... ok
t/command_line.t ............ ok
t/compiles_pod.t ............ ok
t/cookie.t .................. ok
t/delete.t .................. ok
t/Dump.t .................... ok
t/end_form.t ................ ok
t/form.t .................... ok
t/function.t ................ ok
t/gh-155.t .................. ok
t/headers.t ................. ok
t/headers/attachment.t ...... ok
t/headers/charset.t ......... ok
t/headers/cookie.t .......... ok
t/headers/default.t ......... ok
t/headers/nph.t ............. ok
t/headers/p3p.t ............. ok
t/headers/target.t .......... ok
t/headers/type.t ............ ok
t/hidden.t .................. ok
t/html.t .................... ok
t/html_functions.t .......... ok
t/http.t .................... ok
t/init.t .................... ok
t/multipart_globals.t ....... ok
t/multipart_init.t .......... ok
t/multipart_start.t ......... ok
t/no_tabindex.t ............. ok
t/param_fetch.t ............. ok
t/param_list_context.t ...... ok
t/popup_menu.t .............. ok
t/postdata.t ................ ok
CGI::Pretty is DEPRECATED and will be removed in a future release. Please see https://github.com/leejo/CGI.pm/issues/162 for more information at /home/swampyx/.cpanm/work/1693255862.13440/CGI-4.57/blib/lib/CGI/Pretty.pm line 20.
t/pretty.t .................. ok
t/push.t .................... ok
t/query_string.t ............ ok
t/redirect_query_string.t ... ok
t/request.t ................. ok
t/rt-31107.t ................ ok
t/rt-52469.t ................ ok
t/rt-57524.t ................ ok
t/rt-75628.t ................ ok
t/rt-84767.t ................ ok
t/save_read_roundtrip.t ..... ok
t/sorted.t .................. ok
t/start_end_asterisk.t ...... ok
t/start_end_end.t ........... ok
t/start_end_start.t ......... ok
t/unescapeHTML.t ............ ok
t/upload.t .................. ok
t/upload_quoted_unquoted.t .. ok
t/uploadInfo.t .............. ok
t/url.t ..................... ok
t/user_agent.t .............. ok
t/utf8.t .................... ok
t/util-58.t ................. ok
t/util.t .................... ok
All tests successful.
Files=64, Tests=1588,  6 wallclock secs ( 0.30 usr  0.07 sys +  5.30 cusr  0.81 csys =  6.48 CPU)
Result: PASS

------------------------------
PREREQUISITES
------------------------------

Prerequisite modules loaded:

runtime:

    Module              Need     Have    
    ------------------- -------- --------
    Carp                0        1.54    
    Config              0        5.038000
    Encode              0        3.19    
    Exporter            0        5.77    
    File::Spec          0.82     3.88    
    File::Temp          0.17     0.2311  
    HTML::Entities      3.69     3.81    
    if                  0        0.0608  
    overload            0        1.37    
    parent              0.225    0.241   
    perl                5.008001 5.038000
    strict              0        1.12    
    utf8                0        1.25    
    warnings            0        1.65    

build:

    Module              Need     Have    
    ------------------- -------- --------
    ExtUtils::MakeMaker 0        7.70    

configure:

    Module              Need     Have    
    ------------------- -------- --------
    ExtUtils::MakeMaker 0        7.70    


------------------------------
ENVIRONMENT AND OTHER CONTEXT
------------------------------

Environment variables:

    CCFLAGS = -march=native -O3 -pipe -fno-plt -fexceptions -Wp,-D_FORTIFY_SOURCE=2 -Wformat -Werror=format-security -fstack-clash-protection -fcf-protection
    LANG = en_US.UTF-8
    LANGUAGE = 
    LC_ADDRESS = 
    LC_COLLATE = 
    LC_CTYPE = 
    LC_IDENTIFICATION = 
    LC_MEASUREMENT = 
    LC_MESSAGES = 
    LC_MONETARY = 
    LC_NAME = 
    LC_NUMERIC = 
    LC_PAPER = 
    LC_TELEPHONE = 
    LC_TIME = 
    LDFLAGS = -Wl,-O1,--sort-common,--as-needed,-z,relro,-z,now
    PATH = /usr/lib/ccache/bin:/usr/local/sbin:/usr/local/bin:/usr/bin:/opt/android-sdk/platform-tools:/usr/lib/jvm/default/bin:/usr/bin/site_perl:/usr/bin/vendor_perl:/usr/bin/core_perl:/usr/share/perl6/vendor/bin:/home/swampyx/.raku/bin:/opt/android-ndk/toolchains/llvm/prebuilt/linux-x86_64/bin
    PERL_MM_OPT = OPTIMIZE="-march=native -O3 -pipe -fno-plt -fstack-clash-protection -fcf-protection"
    SHELL = /usr/bin/zsh
    TEMP = /tmp
    TERM = xterm

Perl special variables (and OS-specific diagnostics, for MSWin32):

    EGID = 100 50 91 92 93 95 98 100 108
    EUID = 1000
    EXECUTABLE_NAME = /usr/bin/perl
    GID = 100 50 91 92 93 95 98 100 108
    UID = 1000

Perl module toolchain versions installed:

    Module              Have    
    ------------------- --------
    CPAN                2.36    
    CPAN::Meta          2.150010
    Cwd                 3.89    
    ExtUtils::CBuilder  0.280236
    ExtUtils::Command   7.70    
    ExtUtils::Install   2.22    
    ExtUtils::MakeMaker 7.70    
    ExtUtils::Manifest  1.75    
    ExtUtils::ParseXS   3.44    
    File::Spec          3.88    
    JSON                4.10    
    JSON::PP            4.16    
    Module::Build       0.4234  
    Module::Signature   0.88    
    Parse::CPAN::Meta   2.150010
    Test::Harness       3.47    
    Test::More          1.302195
    YAML                1.30    
    YAML::Syck          n/a     
    version             0.9929  


--

Summary of my perl5 (revision 5 version 38 subversion 0) configuration:
   
  Platform:
    osname=linux
    osvers=5.12.15-arch1-1
    archname=x86_64-linux-thread-multi
    uname='archlinux'
    config_args='-des -Dusethreads -Duseshrplib -Doptimize=-march=x86-64 -mtune=generic -O2 -pipe -fno-plt -fexceptions         -Wp,-D_FORTIFY_SOURCE=2 -Wformat -Werror=format-security         -fstack-clash-protection -fcf-protection -g -ffile-prefix-map=/build/perl/src=/usr/src/debug/perl -flto=auto -Dprefix=/usr -Dvendorprefix=/usr -Dprivlib=/usr/share/perl5/core_perl -Darchlib=/usr/lib/perl5/5.38/core_perl -Dsitelib=/usr/share/perl5/site_perl -Dsitearch=/usr/lib/perl5/5.38/site_perl -Dvendorlib=/usr/share/perl5/vendor_perl -Dvendorarch=/usr/lib/perl5/5.38/vendor_perl -Dscriptdir=/usr/bin/core_perl -Dsitescript=/usr/bin/site_perl -Dvendorscript=/usr/bin/vendor_perl -Dinc_version_list=none -Dman1ext=1perl -Dman3ext=3perl -Dlddlflags=-shared -Wl,-O1,--sort-common,--as-needed,-z,relro,-z,now -flto=auto -Dldflags=-Wl,-O1,--sort-common,--as-needed,-z,relro,-z,now -flto=auto'
    hint=recommended
    useposix=true
    d_sigaction=define
    useithreads=define
    usemultiplicity=define
    use64bitint=define
    use64bitall=define
    uselongdouble=undef
    usemymalloc=n
    default_inc_excludes_dot=define
  Compiler:
    cc='cc'
    ccflags ='-D_REENTRANT -D_GNU_SOURCE -fwrapv -fno-strict-aliasing -pipe -fstack-protector-strong -I/usr/local/include -D_LARGEFILE_SOURCE -D_FILE_OFFSET_BITS=64'
    optimize='-march=x86-64 -mtune=generic -O2 -pipe -fno-plt -fexceptions -Wp,-D_FORTIFY_SOURCE=2 -Wformat -Werror=format-security -fstack-clash-protection -fcf-protection -g -ffile-prefix-map=/build/perl/src=/usr/src/debug/perl -flto=auto'
    cppflags='-D_REENTRANT -D_GNU_SOURCE -fwrapv -fno-strict-aliasing -pipe -fstack-protector-strong -I/usr/local/include'
    ccversion=''
    gccversion='13.1.1 20230714'
    gccosandvers=''
    intsize=4
    longsize=8
    ptrsize=8
    doublesize=8
    byteorder=12345678
    doublekind=3
    d_longlong=define
    longlongsize=8
    d_longdbl=define
    longdblsize=16
    longdblkind=3
    ivtype='long'
    ivsize=8
    nvtype='double'
    nvsize=8
    Off_t='off_t'
    lseeksize=8
    alignbytes=8
    prototype=define
  Linker and Libraries:
    ld='cc'
    ldflags ='-Wl,-O1,--sort-common,--as-needed,-z,relro,-z,now -flto=auto -fstack-protector-strong -L/usr/local/lib'
    libpth=/usr/local/lib /usr/lib
    libs=-lpthread -lgdbm -ldb -ldl -lm -lcrypt -lutil -lc -lgdbm_compat
    perllibs=-lpthread -ldl -lm -lcrypt -lutil -lc
    libc=/lib/../lib/libc.so.6
    so=so
    useshrplib=true
    libperl=libperl.so
    gnulibc_version='2.37'
  Dynamic Linking:
    dlsrc=dl_dlopen.xs
    dlext=so
    d_dlsymun=undef
    ccdlflags='-Wl,-E -Wl,-rpath,/usr/lib/perl5/5.38/core_perl/CORE'
    cccdlflags='-fPIC'
    lddlflags='-shared -Wl,-O1,--sort-common,--as-needed,-z,relro,-z,now -flto=auto -L/usr/local/lib -fstack-protector-strong'


Characteristics of this binary (from libperl): 
  Compile-time options:
    HAS_LONG_DOUBLE
    HAS_STRTOLD
    HAS_TIMES
    MULTIPLICITY
    PERLIO_LAYERS
    PERL_COPY_ON_WRITE
    PERL_DONT_CREATE_GVSV
    PERL_HASH_FUNC_SIPHASH13
    PERL_HASH_USE_SBOX32
    PERL_MALLOC_WRAP
    PERL_OP_PARENT
    PERL_PRESERVE_IVUV
    PERL_USE_SAFE_PUTENV
    USE_64_BIT_ALL
    USE_64_BIT_INT
    USE_ITHREADS
    USE_LARGE_FILES
    USE_LOCALE
    USE_LOCALE_COLLATE
    USE_LOCALE_CTYPE
    USE_LOCALE_NUMERIC
    USE_LOCALE_TIME
    USE_PERLIO
    USE_PERL_ATOF
    USE_REENTRANT_API
    USE_THREAD_SAFE_LOCALE
  Built under linux
  Compiled at Jul 24 2023 22:17:30
  %ENV:
    PERL_MM_OPT="OPTIMIZE="-march=native -O3 -pipe -fno-plt -fstack-clash-protection -fcf-protection""
  @INC:
    /usr/lib/perl5/5.38/site_perl
    /usr/share/perl5/site_perl
    /usr/lib/perl5/5.38/vendor_perl
    /usr/share/perl5/vendor_perl
    /usr/lib/perl5/5.38/core_perl
    /usr/share/perl5/core_perl