Report for SDL_Perl-v2.2.6

Back
From: metabase:user:1eed3a18-483e-11e2-a87b-a3931c712682
Subject: PASS SDL_Perl-v2.2.6 v5.18.0 RC4 Mac OS X
Date: 2013-05-18T14:38:44Z

This distribution has been tested as part of the CPAN Testers
project, supporting the Perl programming language.  See
http://wiki.cpantesters.org/ for more information or email
questions to cpan-testers-discuss@perl.org


--
Dear Kartik Thakore,

This is a computer-generated report for SDL_Perl-v2.2.6
on perl 5.18.0, created by CPAN-Reporter-1.2010.

Thank you for uploading your work to CPAN.  Congratulations!
All tests were successful.

Sections of this report:

    * Tester comments
    * Program output
    * Prerequisites
    * Environment and other context

------------------------------
TESTER COMMENTS
------------------------------

Additional comments from tester:

none provided

------------------------------
PROGRAM OUTPUT
------------------------------

Output from './Build test':

defined(@array) is deprecated at blib/lib/SDL/Surface.pm line 211.
	(Maybe you should just omit the defined()?)
t/apppm.t .......... ok
t/cdrompm.t ........ ok
t/colorpm.t ........ ok
t/cursorpm.t ....... ok
t/eventpm.t ........ ok
defined(@array) is deprecated at blib/lib/SDL/Surface.pm line 211.
	(Maybe you should just omit the defined()?)
t/fontpm.t ......... ok
t/manifest.t ....... skipped: Author tests not required for installation
t/mixerpm.t ........ ok
t/mpegpm.t ......... skipped: smpeg support not compiled
t/musicpm.t ........ ok
t/opengl.t ......... ok
t/palettepm.t ...... ok
t/rectpm.t ......... ok
t/sdlgamerect.t .... ok
t/sdlpm.t .......... ok
t/soundpm.t ........ ok
defined(@array) is deprecated at blib/lib/SDL/Surface.pm line 211.
	(Maybe you should just omit the defined()?)
t/surfaceML.t ...... skipped: Author tests not required for installation
defined(@array) is deprecated at blib/lib/SDL/Surface.pm line 211.
	(Maybe you should just omit the defined()?)
t/surfacepm.t ...... ok
t/timerpm.t ........ ok
defined(@array) is deprecated at blib/lib/SDL/Surface.pm line 211.
	(Maybe you should just omit the defined()?)
t/toolfontpm.t ..... ok
defined(@array) is deprecated at blib/lib/SDL/Surface.pm line 211.
	(Maybe you should just omit the defined()?)
t/toolgraphicpm.t .. ok
defined(@array) is deprecated at blib/lib/SDL/Surface.pm line 211.
	(Maybe you should just omit the defined()?)
t/ttfontpm.t ....... ok
t/videopm.t ........ skipped: smpeg support not compiled
All tests successful.
Files=23, Tests=187,  3 wallclock secs ( 0.13 usr  0.08 sys +  2.18 cusr  0.57 csys =  2.96 CPU)
Result: PASS

------------------------------
PREREQUISITES
------------------------------

Prerequisite modules loaded:

build_requires:

    Module             Need     Have    
    ------------------ -------- --------
    ExtUtils::CBuilder 0        0.280210
    Test::Simple       0.47     0.98    

configure_requires:

    Module             Need     Have    
    ------------------ -------- --------
  ! Alien::SDL         v0.7.1   n/a     
    ExtUtils::CBuilder 0.260301 0.280210
    Module::Build      0.35     0.4005  
    YAML               0.68     0.84    


------------------------------
ENVIRONMENT AND OTHER CONTEXT
------------------------------

Environment variables:

    LANG = en_US.UTF-8
    LC_ALL = en_US.UTF-8
    LC_CTYPE = en_US.UTF-8
    PATH = /Users/stas/perl5/perlbrew/bin:/Users/stas/perl5/perlbrew/perls/perl-5.18.0-RC4/bin:/Users/stas/.vim/bin:/Users/stas/bin:/Users/stas/node_modules/.bin:/opt/local/Library/Frameworks/Python.framework/Versions/2.7/bin:/opt/local/lib/postgresql92/bin:/opt/local/bin:/opt/local/sbin:/usr/bin:/bin:/usr/sbin:/sbin:/usr/local/bin:/opt/X11/bin:/Users/stas/.vim/bin:/Users/stas/bin:/Users/stas/node_modules/.bin:/opt/local/Library/Frameworks/Python.framework/Versions/2.7/bin:/opt/local/lib/postgresql92/bin:/opt/local/bin:/opt/local/sbin
    PERL5LIB = 
    PERL5OPT = 
    PERL5_CPANPLUS_IS_RUNNING = 82806
    PERL5_CPAN_IS_RUNNING = 82806
    PERLBREW_BASHRC_VERSION = 0.63
    PERLBREW_HOME = /Users/stas/.perlbrew
    PERLBREW_MANPATH = /Users/stas/perl5/perlbrew/perls/perl-5.18.0-RC4/man
    PERLBREW_PATH = /Users/stas/perl5/perlbrew/bin:/Users/stas/perl5/perlbrew/perls/perl-5.18.0-RC4/bin
    PERLBREW_PERL = perl-5.18.0-RC4
    PERLBREW_ROOT = /Users/stas/perl5/perlbrew
    PERLBREW_VERSION = 0.63
    PERL_MM_USE_DEFAULT = 1
    SHELL = /opt/local/bin/zsh
    TERM = screen
    TMPDIR = /var/folders/k7/cj2hxbn162362g2150r7t9480000gn/T/

Perl special variables (and OS-specific diagnostics, for MSWin32):

    $^X = /Users/stas/perl5/perlbrew/perls/perl-5.18.0-RC4/bin/perl
    $UID/$EUID = 501 / 501
    $GID = 20 20 401 12 33 61 79 80 81 98 100 204 402
    $EGID = 20 20 401 12 33 61 79 80 81 98 100 204 402

Perl module toolchain versions installed:

    Module              Have    
    ------------------- --------
    CPAN                2.00    
    CPAN::Meta          2.130880
    Cwd                 3.40    
    ExtUtils::CBuilder  0.280210
    ExtUtils::Command   1.17    
    ExtUtils::Install   1.59    
    ExtUtils::MakeMaker 6.66    
    ExtUtils::Manifest  1.63    
    ExtUtils::ParseXS   3.18    
    File::Spec          3.40    
    JSON                2.57    
    JSON::PP            2.27202 
    Module::Build       0.4005  
    Module::Signature   0.70    
    Parse::CPAN::Meta   1.4404  
    Test::Harness       3.28    
    Test::More          0.98    
    YAML                0.84    
    YAML::Syck          1.25    
    version             0.9902  


--

Summary of my perl5 (revision 5 version 18 subversion 0) configuration:
   
  Platform:
    osname=darwin, osvers=12.3.0, archname=darwin-2level
    uname='darwin stanislaws-macbook-pro.local 12.3.0 darwin kernel version 12.3.0: sun jan 6 22:37:10 pst 2013; root:xnu-2050.22.13~1release_x86_64 x86_64 '
    config_args='-de -Dprefix=/Users/stas/perl5/perlbrew/perls/perl-5.18.0-RC4 -Aeval:scriptdir=/Users/stas/perl5/perlbrew/perls/perl-5.18.0-RC4/bin'
    hint=recommended, useposix=true, d_sigaction=define
    useithreads=undef, usemultiplicity=undef
    useperlio=define, d_sfio=undef, uselargefiles=define, usesocks=undef
    use64bitint=define, use64bitall=define, uselongdouble=undef
    usemymalloc=n, bincompat5005=undef
  Compiler:
    cc='cc', ccflags ='-fno-common -DPERL_DARWIN -fno-strict-aliasing -pipe -fstack-protector -I/opt/local/include',
    optimize='-O3',
    cppflags='-fno-common -DPERL_DARWIN -fno-strict-aliasing -pipe -fstack-protector -I/opt/local/include'
    ccversion='', gccversion='4.2.1 Compatible Apple Clang 4.0 ((tags/Apple/clang-421.0.60))', gccosandvers=''
    intsize=4, longsize=8, ptrsize=8, doublesize=8, byteorder=12345678
    d_longlong=define, longlongsize=8, d_longdbl=define, longdblsize=16
    ivtype='long', ivsize=8, nvtype='double', nvsize=8, Off_t='off_t', lseeksize=8
    alignbytes=8, prototype=define
  Linker and Libraries:
    ld='env MACOSX_DEPLOYMENT_TARGET=10.3 cc', ldflags =' -fstack-protector -L/opt/local/lib'
    libpth=/opt/local/lib /usr/lib
    libs=-lgdbm -ldbm -ldl -lm -lutil -lc
    perllibs=-ldl -lm -lutil -lc
    libc=, so=dylib, useshrplib=false, libperl=libperl.a
    gnulibc_version=''
  Dynamic Linking:
    dlsrc=dl_dlopen.xs, dlext=bundle, d_dlsymun=undef, ccdlflags=' '
    cccdlflags=' ', lddlflags=' -bundle -undefined dynamic_lookup -L/opt/local/lib -fstack-protector'


Characteristics of this binary (from libperl): 
  Compile-time options: HAS_TIMES PERLIO_LAYERS PERL_DONT_CREATE_GVSV
                        PERL_HASH_FUNC_ONE_AT_A_TIME_HARD PERL_MALLOC_WRAP
                        PERL_PRESERVE_IVUV PERL_SAWAMPERSAND USE_64_BIT_ALL
                        USE_64_BIT_INT USE_LARGE_FILES USE_LOCALE
                        USE_LOCALE_COLLATE USE_LOCALE_CTYPE
                        USE_LOCALE_NUMERIC USE_PERLIO USE_PERL_ATOF
  Locally applied patches:
	RC4
  Built under darwin
  Compiled at May 16 2013 21:48:41
  %ENV:
    PERL5LIB=""
    PERL5OPT=""
    PERL5_CPANPLUS_IS_RUNNING="82806"
    PERL5_CPAN_IS_RUNNING="82806"
    PERLBREW_BASHRC_VERSION="0.63"
    PERLBREW_HOME="/Users/stas/.perlbrew"
    PERLBREW_MANPATH="/Users/stas/perl5/perlbrew/perls/perl-5.18.0-RC4/man"
    PERLBREW_PATH="/Users/stas/perl5/perlbrew/bin:/Users/stas/perl5/perlbrew/perls/perl-5.18.0-RC4/bin"
    PERLBREW_PERL="perl-5.18.0-RC4"
    PERLBREW_ROOT="/Users/stas/perl5/perlbrew"
    PERLBREW_VERSION="0.63"
    PERL_MM_USE_DEFAULT="1"
  @INC:
    /Users/stas/perl5/perlbrew/perls/perl-5.18.0-RC4/lib/site_perl/5.18.0/darwin-2level
    /Users/stas/perl5/perlbrew/perls/perl-5.18.0-RC4/lib/site_perl/5.18.0
    /Users/stas/perl5/perlbrew/perls/perl-5.18.0-RC4/lib/5.18.0/darwin-2level
    /Users/stas/perl5/perlbrew/perls/perl-5.18.0-RC4/lib/5.18.0
    .