Report for Net-RabbitMQ-0.1.8

Back
From: metabase:user:322078bc-2aae-11df-837a-5e0a49663a4f
Subject: PASS Net-RabbitMQ-0.1.8 v5.10.1 Dragonfly BSD
Date: 2010-10-12T12:24:22Z

This distribution has been tested as part of the CPAN Testers
project, supporting the Perl programming language.  See
http://wiki.cpantesters.org/ for more information or email
questions to cpan-testers-discuss@perl.org


--

Dear JESUS,
    
This is a computer-generated error report created automatically by
CPANPLUS, version 0.9007. Testers personal comments may appear 
at the end of this report.

MAKE TEST passed: PERL_DL_NONLAZY=1 /usr/home/cpan/pit/bare/perl-5.10.1/bin/perl "-MExtUtils::Command::MM" "-e" "test_harness(0, 'blib/lib', 'blib/arch')" t/*.t
t/001_declare_exchange.t .. ok
t/002_publish.t ........... ok
t/003_consume.t ........... ok
t/004_selfconsume.t ....... ok
t/005_noack.t ............. ok
t/006_txn.t ............... ok
t/007_get.t ............... ok
t/008_queue_declare.t ..... ok
t/009_delete_exchange.t ... ok
All tests successful.
Files=9, Tests=82, 23 wallclock secs ( 0.13 usr  0.30 sys +  0.59 cusr  0.84 csys =  1.88 CPU)
Result: PASS

[MSG] [Tue Oct 12 13:24:21 2010] Sending test report for 'Net-RabbitMQ-0.1.8'

This report was machine-generated by CPANPLUS::Dist::YACSmoke 0.58.
Powered by minismokebox version 0.32

------------------------------
ENVIRONMENT AND OTHER CONTEXT
------------------------------

Environment variables:

    AUTOMATED_TESTING = 1
    PATH = /sbin:/bin:/usr/sbin:/usr/bin:/usr/games:/usr/pkg/sbin:/usr/pkg/bin:/usr/pkg/xorg/bin:/usr/local/sbin:/usr/local/bin:/home/cpan/bin
    PERL5LIB = :/usr/home/cpan/pit/bare/conf/perl-5.10.1/.cpanplus/5.10.1/build/Net-RabbitMQ-0.1.8/blib/lib:/usr/home/cpan/pit/bare/conf/perl-5.10.1/.cpanplus/5.10.1/build/Net-RabbitMQ-0.1.8/blib/arch
    PERL5_CPANPLUS_IS_RUNNING = 85994
    PERL5_CPANPLUS_IS_VERSION = 0.9007
    PERL5_MINISMOKEBOX = 0.32
    PERL5_YACSMOKE_BASE = /usr/home/cpan/pit/bare/conf/perl-5.10.1
    PERL_EXTUTILS_AUTOINSTALL = --defaultdeps
    PERL_MM_USE_DEFAULT = 1
    SHELL = /usr/pkg/bin/bash
    TERM = screen

Perl special variables (and OS-specific diagnostics, for MSWin32):

    Perl: $^X = /usr/home/cpan/pit/bare/perl-5.10.1/bin/perl
    UID:  $<  = 1002
    EUID: $>  = 1002
    GID:  $(  = 1002 1002
    EGID: $)  = 1002 1002


-------------------------------


--

Summary of my perl5 (revision 5 version 10 subversion 1) configuration:
   
  Platform:
    osname=dragonfly, osvers=2.6-release, archname=i386-dragonfly
    uname='dragonfly ddraig32.bingosnet.co.uk 2.6-release dragonfly v2.6.3-release #4: mon may 3 09:54:14 pdt 2010 root@test28.backplane.com:usrobjusrsrc-miscsysgeneric i386 '
    config_args='-des -Dprefix=/usr/home/cpan/pit/bare/perl-5.10.1'
    hint=recommended, useposix=true, d_sigaction=define
    useithreads=undef, usemultiplicity=undef
    useperlio=define, d_sfio=undef, uselargefiles=define, usesocks=undef
    use64bitint=undef, use64bitall=undef, uselongdouble=undef
    usemymalloc=n, bincompat5005=undef
  Compiler:
    cc='cc', ccflags ='-DHAS_FPSETMASK -DHAS_FLOATINGPOINT_H -fno-strict-aliasing -pipe -fstack-protector -I/usr/local/include',
    optimize='-O',
    cppflags='-DHAS_FPSETMASK -DHAS_FLOATINGPOINT_H -fno-strict-aliasing -pipe -fstack-protector -I/usr/local/include'
    ccversion='', gccversion='4.1.2 (DragonFly)', gccosandvers=''
    intsize=4, longsize=4, ptrsize=4, doublesize=8, byteorder=1234
    d_longlong=define, longlongsize=8, d_longdbl=define, longdblsize=12
    ivtype='long', ivsize=4, nvtype='double', nvsize=8, Off_t='off_t', lseeksize=8
    alignbytes=4, prototype=define
  Linker and Libraries:
    ld='cc', ldflags ='-Wl,-E  -fstack-protector -L/usr/local/lib'
    libpth=/usr/lib /usr/local/lib
    libs=-lm -lcrypt -lutil -lc
    perllibs=-lm -lcrypt -lutil -lc
    libc=, so=so, useshrplib=false, libperl=libperl.a
    gnulibc_version=''
  Dynamic Linking:
    dlsrc=dl_dlopen.xs, dlext=so, d_dlsymun=undef, ccdlflags=' '
    cccdlflags='-DPIC -fPIC', lddlflags='-shared  -L/usr/local/lib -fstack-protector'


Characteristics of this binary (from libperl): 
  Compile-time options: PERL_DONT_CREATE_GVSV PERL_MALLOC_WRAP
                        USE_LARGE_FILES USE_PERLIO
  Built under dragonfly
  Compiled at Sep 26 2010 17:25:33
  %ENV:
    PERL5LIB=":/usr/home/cpan/pit/bare/conf/perl-5.10.1/.cpanplus/5.10.1/build/Net-RabbitMQ-0.1.8/blib/lib:/usr/home/cpan/pit/bare/conf/perl-5.10.1/.cpanplus/5.10.1/build/Net-RabbitMQ-0.1.8/blib/arch"
    PERL5_CPANPLUS_IS_RUNNING="85994"
    PERL5_CPANPLUS_IS_VERSION="0.9007"
    PERL5_MINISMOKEBOX="0.32"
    PERL5_YACSMOKE_BASE="/usr/home/cpan/pit/bare/conf/perl-5.10.1"
    PERL_EXTUTILS_AUTOINSTALL="--defaultdeps"
    PERL_MM_USE_DEFAULT="1"
  @INC:
    /usr/home/cpan/pit/bare/conf/perl-5.10.1/.cpanplus/5.10.1/build/Net-RabbitMQ-0.1.8/blib/lib
    /usr/home/cpan/pit/bare/conf/perl-5.10.1/.cpanplus/5.10.1/build/Net-RabbitMQ-0.1.8/blib/arch
    /usr/home/cpan/pit/bare/perl-5.10.1/lib/5.10.1/i386-dragonfly
    /usr/home/cpan/pit/bare/perl-5.10.1/lib/5.10.1
    /usr/home/cpan/pit/bare/perl-5.10.1/lib/site_perl/5.10.1/i386-dragonfly
    /usr/home/cpan/pit/bare/perl-5.10.1/lib/site_perl/5.10.1
    .