Geo-IP6 v1.0 Perl 5 v5.26.3 x86_64-linux-thread-multi

Status
Pass
From
Slaven Rezić (SREZIC)
Dist
Geo-IP6 v1.0
Platform
Perl 5 v5.26.3 x86_64-linux-thread-multi
Date
2019-07-23T10:21:33
ID
a53bda3c-ad33-11e9-9749-5d2f1f24ea8f
This distribution has been tested as part of the CPAN Testers
project, supporting the Perl programming language.  See
http://wiki.cpantesters.org/ for more information or email
questions to cpan-testers-discuss@perl.org


--
Dear GCore GmbH,

This is a computer-generated report for Geo-IP6-1.0
on perl 5.26.3, created by CPAN-Reporter-1.2018.

Thank you for uploading your work to CPAN.  Congratulations!
All tests were successful.

Sections of this report:

    * Tester comments
    * Program output
    * Prerequisites
    * Environment and other context

------------------------------
TESTER COMMENTS
------------------------------

Additional comments from tester:

none provided

------------------------------
PROGRAM OUTPUT
------------------------------

Output from '/usr/bin/make test':

PERL_DL_NONLAZY=1 "/usr/bin/perl" "-MExtUtils::Command::MM" "-MTest::Harness" "-e" "undef *Test::Harness::Switches; test_harness(0, 'blib/lib', 'blib/arch')" t/*.t
# Testing Geo::IP6 1.0, Perl 5.026003, /usr/bin/perl
t/00-load.t ....... ok
t/manifest.t ...... skipped: Author tests not required for installation
t/pod-coverage.t .. skipped: Author tests not required for installation
t/pod.t ........... skipped: Author tests not required for installation
All tests successful.
Files=4, Tests=1,  1 wallclock secs ( 0.04 usr  0.02 sys +  0.25 cusr  0.06 csys =  0.37 CPU)
Result: PASS

------------------------------
PREREQUISITES
------------------------------

Prerequisite modules loaded:

requires:

    Module              Need  Have    
    ------------------- ----- --------
    LMDB_File           0.12  0.12    
    perl                5.006 5.026003

build_requires:

    Module              Need  Have    
    ------------------- ----- --------
    ExtUtils::MakeMaker 0     7.34    
    Test::More          0     1.302135

configure_requires:

    Module              Need  Have    
    ------------------- ----- --------
    ExtUtils::MakeMaker 0     7.34    


------------------------------
ENVIRONMENT AND OTHER CONTEXT
------------------------------

Environment variables:

    LANG = en_US.UTF-8
    PATH = /usr/local/bin:/usr/bin:/bin:/usr/local/sbin:/usr/sbin:/sbin:/home/cpansand/bin/linux-gnu:/home/cpansand/bin/sh:/home/cpansand/bin:/usr/games:/home/cpansand/devel:/home/eserte/src/srezic-misc/scripts
    PERL5LIB = /home/cpansand/.cpan/build/2019072312/LMDB_File-0.12-4/blib/arch:/home/cpansand/.cpan/build/2019072312/LMDB_File-0.12-4/blib/lib:/home/cpansand/.cpan/build/2019072312/Test-Exception-0.43-1/blib/arch:/home/cpansand/.cpan/build/2019072312/Test-Exception-0.43-1/blib/lib:/home/cpansand/.cpan/build/2019072312/Sub-Uplevel-0.2800-1/blib/arch:/home/cpansand/.cpan/build/2019072312/Sub-Uplevel-0.2800-1/blib/lib
    PERL5OPT = 
    PERL5_CPANPLUS_IS_RUNNING = 3498
    PERL5_CPAN_IS_RUNNING = 3498
    PERL5_CPAN_IS_RUNNING_IN_RECURSION = 3368,3498
    PERLDOC = -MPod::Perldoc::ToTextOverstrike
    PERL_BATCH = yes
    PERL_CANARY_STABILITY_NOPROMPT = 1
    PERL_CPAN_REPORTER_CONFIG = /var/tmp/cpansmoker-1023/2019072312/cpanreporter_000_config.ini
    PERL_EXTUTILS_AUTOINSTALL = --defaultdeps
    PERL_USE_UNSAFE_INC = 1
    SHELL = /usr/bin/zsh
    TERM = screen
    TMPDIR = /var/tmp/cpansmoker-1023/2019072312

Perl special variables (and OS-specific diagnostics, for MSWin32):

    $^X = /usr/bin/perl
    $UID/$EUID = 1023 / 1023
    $GID = 1023 1023
    $EGID = 1023 1023

Perl module toolchain versions installed:

    Module              Have    
    ------------------- --------
    CPAN                2.18    
    CPAN::Meta          2.150010
    Cwd                 3.75    
    ExtUtils::CBuilder  0.280231
    ExtUtils::Command   7.34    
    ExtUtils::Install   2.14    
    ExtUtils::MakeMaker 7.34    
    ExtUtils::Manifest  1.70    
    ExtUtils::ParseXS   3.35    
    File::Spec          3.75    
    JSON                n/a     
    JSON::PP            2.97001 
    Module::Build       0.4224  
    Module::Signature   n/a     
    Parse::CPAN::Meta   2.150010
    Test::Harness       3.42    
    Test::More          1.302135
    YAML                n/a     
    YAML::Syck          1.30    
    version             0.9924  


--

Summary of my perl5 (revision 5 version 26 subversion 3) configuration:
   
  Platform:
    osname=linux
    osvers=4.20.13-200.fc29.x86_64
    archname=x86_64-linux-thread-multi
    uname='linux buildvm-31.phx2.fedoraproject.org 4.20.13-200.fc29.x86_64 #1 smp wed feb 27 19:42:55 utc 2019 x86_64 x86_64 x86_64 gnulinux '
    config_args='-des -Doptimize=none -Dccflags=-O2 -g -pipe -Wall -Werror=format-security -Wp,-D_FORTIFY_SOURCE=2 -Wp,-D_GLIBCXX_ASSERTIONS -fexceptions -fstack-protector-strong -grecord-gcc-switches -specs=/usr/lib/rpm/redhat/redhat-hardened-cc1 -specs=/usr/lib/rpm/redhat/redhat-annobin-cc1 -m64 -mtune=generic -fasynchronous-unwind-tables -fstack-clash-protection -fcf-protection -Dldflags=-Wl,-z,relro  -Wl,-z,now -specs=/usr/lib/rpm/redhat/redhat-hardened-ld -Dccdlflags=-Wl,--enable-new-dtags -Wl,-z,relro  -Wl,-z,now -specs=/usr/lib/rpm/redhat/redhat-hardened-ld -Dlddlflags=-shared -Wl,-z,relro  -Wl,-z,now -specs=/usr/lib/rpm/redhat/redhat-hardened-ld -Dshrpdir=/usr/lib64 -DDEBUGGING=-g -Dversion=5.26.3 -Dmyhostname=localhost -Dperladmin=root@localhost -Dcc=gcc -Dcf_by=Red Hat, Inc. -Dprefix=/usr -Dvendorprefix=/usr -Dsiteprefix=/usr/local -Dsitelib=/usr/local/share/perl5 -Dsitearch=/usr/local/lib64/perl5 -Dprivlib=/usr/share/perl5 -Dvendorlib=/usr/share/perl5/vendor_perl -Darchlib=/usr/lib64/perl5 -Dvendorarch=/usr/lib64/perl5/vendor_perl -Darchname=x86_64-linux-thread-multi -Dlibpth=/usr/local/lib64 /lib64 /usr/lib64 -Duseshrplib -Dusethreads -Duseithreads -Dusedtrace=/usr/bin/dtrace -Duselargefiles -Dd_semctl_semun -Di_db -Ui_ndbm -Di_gdbm -Di_shadow -Di_syslog -Dman3ext=3pm -Duseperlio -Dinstallusrbinperl=n -Ubincompat5005 -Uversiononly -Dpager=/usr/bin/less -isr -Dd_gethostent_r_proto -Ud_endhostent_r_proto -Ud_sethostent_r_proto -Ud_endprotoent_r_proto -Ud_setprotoent_r_proto -Ud_endservent_r_proto -Ud_setservent_r_proto -Dscriptdir=/usr/bin -Dusesitecustomize -Duse64bitint'
    hint=recommended
    useposix=true
    d_sigaction=define
    useithreads=define
    usemultiplicity=define
    use64bitint=define
    use64bitall=define
    uselongdouble=undef
    usemymalloc=n
    default_inc_excludes_dot=define
    bincompat5005=undef
  Compiler:
    cc='gcc'
    ccflags ='-D_REENTRANT -D_GNU_SOURCE -O2 -g -pipe -Wall -Werror=format-security -Wp,-D_FORTIFY_SOURCE=2 -Wp,-D_GLIBCXX_ASSERTIONS -fexceptions -fstack-protector-strong -grecord-gcc-switches -specs=/usr/lib/rpm/redhat/redhat-hardened-cc1 -specs=/usr/lib/rpm/redhat/redhat-annobin-cc1 -m64 -mtune=generic -fasynchronous-unwind-tables -fstack-clash-protection -fcf-protection -fwrapv -fno-strict-aliasing -I/usr/local/include -D_LARGEFILE_SOURCE -D_FILE_OFFSET_BITS=64'
    optimize='  -g'
    cppflags='-D_REENTRANT -D_GNU_SOURCE -O2 -g -pipe -Wall -Werror=format-security -Wp,-D_FORTIFY_SOURCE=2 -Wp,-D_GLIBCXX_ASSERTIONS -fexceptions -fstack-protector-strong -grecord-gcc-switches -specs=/usr/lib/rpm/redhat/redhat-hardened-cc1 -specs=/usr/lib/rpm/redhat/redhat-annobin-cc1 -m64 -mtune=generic -fasynchronous-unwind-tables -fstack-clash-protection -fcf-protection -fwrapv -fno-strict-aliasing -I/usr/local/include'
    ccversion=''
    gccversion='8.3.1 20190223 (Red Hat 8.3.1-2)'
    gccosandvers=''
    intsize=4
    longsize=8
    ptrsize=8
    doublesize=8
    byteorder=12345678
    doublekind=3
    d_longlong=define
    longlongsize=8
    d_longdbl=define
    longdblsize=16
    longdblkind=3
    ivtype='long'
    ivsize=8
    nvtype='double'
    nvsize=8
    Off_t='off_t'
    lseeksize=8
    alignbytes=8
    prototype=define
  Linker and Libraries:
    ld='gcc'
    ldflags ='-Wl,-z,relro -Wl,-z,now -specs=/usr/lib/rpm/redhat/redhat-hardened-ld -fstack-protector-strong -L/usr/local/lib'
    libpth=/usr/local/lib64 /lib64 /usr/lib64 /usr/local/lib /usr/lib /lib/../lib64 /usr/lib/../lib64 /lib
    libs=-lpthread -lresolv -lgdbm -ldb -ldl -lm -lcrypt -lutil -lc -lgdbm_compat
    perllibs=-lpthread -lresolv -ldl -lm -lcrypt -lutil -lc
    libc=libc-2.27.so
    so=so
    useshrplib=true
    libperl=libperl.so
    gnulibc_version='2.27'
  Dynamic Linking:
    dlsrc=dl_dlopen.xs
    dlext=so
    d_dlsymun=undef
    ccdlflags='-Wl,--enable-new-dtags -Wl,-z,relro -Wl,-z,now -specs=/usr/lib/rpm/redhat/redhat-hardened-ld'
    cccdlflags='-fPIC'
    lddlflags='-lpthread -shared -Wl,-z,relro -Wl,-z,now -specs=/usr/lib/rpm/redhat/redhat-hardened-ld -L/usr/local/lib -fstack-protector-strong'


Characteristics of this binary (from libperl): 
  Compile-time options:
    HAS_TIMES
    MULTIPLICITY
    PERLIO_LAYERS
    PERL_COPY_ON_WRITE
    PERL_DONT_CREATE_GVSV
    PERL_IMPLICIT_CONTEXT
    PERL_MALLOC_WRAP
    PERL_OP_PARENT
    PERL_PRESERVE_IVUV
    USE_64_BIT_ALL
    USE_64_BIT_INT
    USE_ITHREADS
    USE_LARGE_FILES
    USE_LOCALE
    USE_LOCALE_COLLATE
    USE_LOCALE_CTYPE
    USE_LOCALE_NUMERIC
    USE_LOCALE_TIME
    USE_PERLIO
    USE_PERL_ATOF
    USE_REENTRANT_API
    USE_SITECUSTOMIZE
  Locally applied patches:
    Fedora Patch1: Removes date check, Fedora/RHEL specific
    Fedora Patch3: support for libdir64
    Fedora Patch4: use libresolv instead of libbind
    Fedora Patch5: USE_MM_LD_RUN_PATH
    Fedora Patch6: Provide MM::maybe_command independently (bug #1129443)
    Fedora Patch7: Dont run one io test due to random builder failures
    Fedora Patch15: Define SONAME for libperl.so
    Fedora Patch16: Install libperl.so to -Dshrpdir value
    Fedora Patch22: Document Math::BigInt::CalcEmu requires Math::BigInt (CPAN RT#85015)
    Fedora Patch26: Make *DBM_File desctructors thread-safe (RT#61912)
    Fedora Patch27: Make PadlistNAMES() lvalue again (CPAN RT#101063)
    Fedora Patch30: Replace EU::MakeMaker dependency with EU::MM::Utils in IPC::Cmd (bug #1129443)
    Fedora Patch31: Make File::Glob more resistant against degenerative matching (RT#131211)
    Fedora Patch36: Fix glob UTF-8 flag on a glob reassignment (RT#131263)
    Fedora Patch38: Fix handling backslashes in PATH environment variable when executing "perl -S" (RT#129183)
    Fedora Patch45: Fix File::Glob rt131211.t test random failures
    Fedora Patch46: Fix t/op/hash.t test random failures
    Fedora Patch47: Parse caret variables with subscripts as normal variables inside ${...} escaping (RT#131664)
    Fedora Patch49: Do not display too many bytes when reporting malformed UTF-8 character
    Fedora Patch51: Fix error message for "our sub foo::bar" (RT#131679)
    Fedora Patch52: Fix executing arybase::_tie_it() in Safe compartement (RT#131588)
    Fedora Patch54: Fix splitting non-ASCII strings if unicode_strings feature is enabled (RT#130907)
    Fedora Patch55: Fix compiler warnings in code generated by ExtUtils::Constant (CPAN RT#63832)
    Fedora Patch56: Fix compiler warnings in code generated by ExtUtils::Constant (CPAN RT#101487)
    Fedora Patch58: Fix unreliable Time-HiRes tests (CPAN RT#122819)
    Fedora Patch61: Fix Term::ReadLine not to create spurious &STDERR files (RT#132008)
    Fedora Patch64: Fix an overflow when parsing a character range with no preceding character (RT#132245)
    Fedora Patch65: Fix walking symbol table for ISA in Carp
    Fedora Patch66: Fix handling file names with null bytes in stat and lstat functions (RT#131895)
    Fedora Patch67: Fix a crash when untying an object witout a stash
    Fedora Patch68: Fix deparsing of transliterations with unprintable characters (RT#132405)
    Fedora Patch69: Fix error reporting on do() on a directory (RT#125774)
    Fedora Patch70: Fix stack manipulation when a lexical subroutine is defined in a do block in a member of an iteration list (RT#132442)
    Fedora Patch71: Fix setting $! when statting a closed filehandle (RT#108288)
    Fedora Patch72: Fix tainting of s/// with overloaded replacement (RT#115266)
    Fedora Patch73: Expand system() arguments before a fork (RT#121105)
    Fedora Patch76: Avoid undefined behavior when copying memory in Glob and pp_caller (RT#131746)
    Fedora Patch78: Fix compatibility with libxcrypt (RT#133184)
    Fedora Patch79: Link XS modules to pthread library to fix linking with -z defs
    Fedora Patch80: Fix parsing braced subscript after parentheses (RT#8045)
    Fedora Patch81: Do not clobber file bytes in :encoding layer (RT#132833)
    Fedora Patch82: Fix line numbers in multi-line s/// (RT#131930)
    Fedora Patch83: Fix parsing extended bracketed character classes (RT#132167)
    Fedora Patch84: Fix a possibly unitialized memory read in the Perl parser (RT#133074)
    Fedora Patch85: Fix an infinite loop in the regular expression compiler (RT#133185)
    Fedora Patch88: Fix printing a warning about a wide character when matching a regular expression while ISO-8859-1 locale is in effect
    Fedora Patch89: Fix invoking a check for wide characters while ISO-8859-1 locale is in effect
    Fedora Patch90: Pass the correct CFLAGS to dtrace
    Fedora Patch91: Fix a time race in Time-HiRes/t/itimer.t test
    Fedora Patch92: Fix a spurious warning about uninitialized value in warn (RT#132683)
    Fedora Patch93: Fix unpack "u" of invalid data (RT#132655)
    Fedora Patch94: Fix an undefined behaviour in S_hv_delete_common()
    Fedora Patch95: Fix compiling regular expressions that contain both compile- and run-time compiled code blocks (RT#133687)
    Fedora Patch96: Adjust tests to gdbm-1.15 (RT#133295)
    Fedora Patch99: Fix reporting a line number for non-terminated prototypes (RT#133524)
    Fedora Patch100: Fix first eof() return value (RT#133721)
    Fedora Patch102: Fix a crash when compiling a malformed form (RT#132158)
    Fedora Patch103: Prevent long jumps from clobbering local variables (RT#133575)
    Fedora Patch104: Fix a mismatch with a case-insesitive regular expression on a text with ligatures (RT#133756)
    Fedora Patch106: Fix a crash when parsing #line directives with large numbers in eval (RT#131562)
    Fedora Patch107: Fix setting magic when changing $^R (RT#133782)
    Fedora Patch108: Fix a race when loading XS modules
    Fedora Patch109: Fix extending a stack in Perl parser (RT#133778)
    Fedora Patch110: Fix a leak when compiling a typed hash dereference
    Fedora Patch112: Fix a buffer overread when handling a scope error in qr/\(?{/ (RT#133879)
    Fedora Patch113: Fix a memory leak when spawning threads in a BEGIN phase
    Fedora Patch114: Fix a memory leak when assignig to a localized ${^WARNING_BITS}
    Fedora Patch115: Fix a memory leak when parsing misindented here-documents
    Fedora Patch116: Fix a memory leak when deletion in a tied hash dies
    Fedora Patch117: Fix a memory leak when warning about malformed UTF-8 string
    Fedora Patch200: Link XS modules to libperl.so with EU::CBuilder on Linux
    Fedora Patch201: Link XS modules to libperl.so with EU::MM on Linux
  Built under linux
  Compiled at Apr 10 2019 11:01:11
  %ENV:
    PERL5LIB="/home/cpansand/.cpan/build/2019072312/LMDB_File-0.12-4/blib/arch:/home/cpansand/.cpan/build/2019072312/LMDB_File-0.12-4/blib/lib:/home/cpansand/.cpan/build/2019072312/Test-Exception-0.43-1/blib/arch:/home/cpansand/.cpan/build/2019072312/Test-Exception-0.43-1/blib/lib:/home/cpansand/.cpan/build/2019072312/Sub-Uplevel-0.2800-1/blib/arch:/home/cpansand/.cpan/build/2019072312/Sub-Uplevel-0.2800-1/blib/lib"
    PERL5OPT=""
    PERL5_CPANPLUS_IS_RUNNING="3498"
    PERL5_CPAN_IS_RUNNING="3498"
    PERL5_CPAN_IS_RUNNING_IN_RECURSION="3368,3498"
    PERLDOC="-MPod::Perldoc::ToTextOverstrike"
    PERL_BATCH="yes"
    PERL_CANARY_STABILITY_NOPROMPT="1"
    PERL_CPAN_REPORTER_CONFIG="/var/tmp/cpansmoker-1023/2019072312/cpanreporter_000_config.ini"
    PERL_EXTUTILS_AUTOINSTALL="--defaultdeps"
    PERL_USE_UNSAFE_INC="1"
  @INC:
    /home/cpansand/.cpan/build/2019072312/LMDB_File-0.12-4/blib/arch
    /home/cpansand/.cpan/build/2019072312/LMDB_File-0.12-4/blib/lib
    /home/cpansand/.cpan/build/2019072312/Test-Exception-0.43-1/blib/arch
    /home/cpansand/.cpan/build/2019072312/Test-Exception-0.43-1/blib/lib
    /home/cpansand/.cpan/build/2019072312/Sub-Uplevel-0.2800-1/blib/arch
    /home/cpansand/.cpan/build/2019072312/Sub-Uplevel-0.2800-1/blib/lib
    /usr/local/lib64/perl5
    /usr/local/share/perl5
    /usr/lib64/perl5/vendor_perl
    /usr/share/perl5/vendor_perl
    /usr/lib64/perl5
    /usr/share/perl5
    .