Back
From: metabase:user:31d414ea-2aae-11df-837a-5e0a49663a4f
Subject: PASS Text-Tradition-Directory-1.2 v5.18.4 GNU/Linux
Date: 2015-09-02T11:13:32Z
This distribution has been tested as part of the CPAN Testers
project, supporting the Perl programming language. See
http://wiki.cpantesters.org/ for more information or email
questions to cpan-testers-discuss@perl.org
--
Dear Tara Andrews,
This is a computer-generated report for Text-Tradition-Directory-1.2
on perl 5.18.4, created by CPAN-Reporter-1.2014.
Thank you for uploading your work to CPAN. Congratulations!
All tests were successful.
Sections of this report:
* Tester comments
* Program output
* Prerequisites
* Environment and other context
------------------------------
TESTER COMMENTS
------------------------------
Additional comments from tester:
this report is from an automated smoke testing program
and was not reviewed by a human for accuracy
------------------------------
PROGRAM OUTPUT
------------------------------
Output from '/usr/bin/make test':
PERL_DL_NONLAZY=1 "/home/david/cpantesting/perl-5.18.4/bin/perl" "-MExtUtils::Command::MM" "-MTest::Harness" "-e" "undef *Test::Harness::Switches; test_harness(0, 'inc', 'blib/lib', 'blib/arch')" t/*.t
t/00dependencies.t ................ ok
t/02pod.t ......................... skipped: Test::Pod 1.14 required
t/03podcoverage.t ................. skipped: Test::Pod::Coverage 1.04 required
t/load-save-speed.t ............... skipped: Skipping performance tests under prove/make, run manually to test performance improvements
t/mysql_utf8.t .................... skipped: Please set TT_MYSQL_TEST to an appropriate db to run this test
Class::MOP::load_class is deprecated at /home/david/cpantesting/perl-5.18.4/lib/site_perl/5.18.4/x86_64-linux-thread-multi/Class/MOP.pm line 69.
Class::MOP::load_class('Authen::Passphrase::SaltedDigest') called at /home/david/cpantesting/perl-5.18.4/lib/site_perl/5.18.4/KiokuX/User/Util.pm line 35
KiokuX::User::Util::crypt_password('UserPass') called at /home/david/cpantesting/perl-5.18.4/.cpan/build/Text-Tradition-Directory-1.2-5fkrJb/blib/lib/Text/Tradition/Directory.pm line 448
Text::Tradition::Directory::add_user('Text::Tradition::Directory=HASH(0x71daab0)', 'HASH(0x80ac170)') called at t/text_tradition_directory.t line 40
t/text_tradition_directory.t ...... ok
Class::MOP::load_class is deprecated at /home/david/cpantesting/perl-5.18.4/lib/site_perl/5.18.4/x86_64-linux-thread-multi/Class/MOP.pm line 69, <DATA> line 41.
Class::MOP::load_class('Authen::Passphrase::SaltedDigest') called at /home/david/cpantesting/perl-5.18.4/lib/site_perl/5.18.4/KiokuX/User/Util.pm line 35
KiokuX::User::Util::crypt_password('bloggspass') called at /home/david/cpantesting/perl-5.18.4/.cpan/build/Text-Tradition-Directory-1.2-5fkrJb/blib/lib/Text/Tradition/Directory.pm line 448
Text::Tradition::Directory::add_user('Text::Tradition::Directory=HASH(0x531f8a0)', 'HASH(0x56a42f0)') called at t/text_tradition_user.t line 35
t/text_tradition_user.t ........... ok
Class::MOP::load_class is deprecated at /home/david/cpantesting/perl-5.18.4/lib/site_perl/5.18.4/x86_64-linux-thread-multi/Class/MOP.pm line 69, <DATA> line 41.
Class::MOP::load_class('Authen::Passphrase::SaltedDigest') called at /home/david/cpantesting/perl-5.18.4/lib/site_perl/5.18.4/KiokuX/User/Util.pm line 35
KiokuX::User::Util::crypt_password('bloggspass') called at /home/david/cpantesting/perl-5.18.4/.cpan/build/Text-Tradition-Directory-1.2-5fkrJb/blib/lib/Text/Tradition/Directory.pm line 448
Text::Tradition::Directory::add_user('Text::Tradition::Directory=HASH(0x5ab5cb8)', 'HASH(0x596dc68)') called at t/text_tradition_user_collapse.t line 29
t/text_tradition_user_collapse.t .. ok
t/userrestore.t ................... ok
All tests successful.
Files=9, Tests=96, 35 wallclock secs ( 0.04 usr 0.03 sys + 11.48 cusr 0.62 csys = 12.17 CPU)
Result: PASS
------------------------------
PREREQUISITES
------------------------------
Prerequisite modules loaded:
requires:
Module Need Have
------------------------------ ----- --------
Class::Load 0 0.23
DBI 0 1.634
JSON 0 2.90
KiokuDB::Backend::DBI 0 1.23
KiokuDB::GC::Naive 0 0.57
KiokuDB::TypeMap 0 0.57
KiokuDB::TypeMap::Entry::Naive 0 0.57
KiokuX::Model 0 0.02
KiokuX::User::Util 0 0
Moose 0 2.1603
Moose::Role 0 2.1603
namespace::clean 0 0.25
perl 5.012 5.018004
Safe::Isa 0 1.000005
Text::Tradition 1.1 2.0.1
TryCatch 0 1.003002
YAML::XS 0 0.59
build_requires:
Module Need Have
------------------------------ ----- --------
ExtUtils::MakeMaker 6.59 7.04
Test::Memory::Cycle 0 1.04
Test::More::UTF8 0 0.04
Test::Warn 0 0.30
configure_requires:
Module Need Have
------------------------------ ----- --------
ExtUtils::MakeMaker 6.59 7.04
------------------------------
ENVIRONMENT AND OTHER CONTEXT
------------------------------
Environment variables:
AUTOMATED_TESTING = 1
NONINTERACTIVE_TESTING = 1
PATH = /usr/local/bin:/usr/bin:/bin:/usr/games
PERL = 5.18.4
PERL5LIB =
PERL5OPT =
PERL5_CPANPLUS_IS_RUNNING = 17745
PERL5_CPAN_IS_RUNNING = 17745
PERLVER = 5.18.4
PERL_INLINE_DIRECTORY = /home/david/.Inline-5.18.4
PERL_MM_USE_DEFAULT = 1
SHELL = /bin/bash
TERM = screen
Perl special variables (and OS-specific diagnostics, for MSWin32):
$^X = /home/david/cpantesting/perl-5.18.4/bin/perl
$UID/$EUID = 1000 / 1000
$GID = 1000 1000
$EGID = 1000 1000
Perl module toolchain versions installed:
Module Have
------------------- --------
CPAN 2.10
CPAN::Meta 2.150005
Cwd 3.40
ExtUtils::CBuilder 0.280210
ExtUtils::Command 1.17
ExtUtils::Install 1.59
ExtUtils::MakeMaker 7.04
ExtUtils::Manifest 1.65
ExtUtils::ParseXS 3.30
File::Spec 3.40
JSON 2.90
JSON::PP 2.27203
Module::Build 0.4214
Module::Signature n/a
Parse::CPAN::Meta 1.4417
Test::Harness 3.35
Test::More 1.001014
YAML 1.15
YAML::Syck n/a
version 0.9902
--
Summary of my perl5 (revision 5 version 18 subversion 4) configuration:
Platform:
osname=linux, osvers=3.2.0-4-amd64, archname=x86_64-linux-thread-multi
uname='linux pigsty.barnyard.co.uk 3.2.0-4-amd64 #1 smp debian 3.2.35-2 x86_64 gnulinux '
config_args='-de -Dprefix=/home/david/cpantesting/perl-5.18.4 -Dusethreads -Duse64bitall'
hint=recommended, useposix=true, d_sigaction=define
useithreads=define, usemultiplicity=define
useperlio=define, d_sfio=undef, uselargefiles=define, usesocks=undef
use64bitint=define, use64bitall=define, uselongdouble=undef
usemymalloc=n, bincompat5005=undef
Compiler:
cc='cc', ccflags ='-D_REENTRANT -D_GNU_SOURCE -fno-strict-aliasing -pipe -fstack-protector -I/usr/local/include -D_LARGEFILE_SOURCE -D_FILE_OFFSET_BITS=64',
optimize='-O2',
cppflags='-D_REENTRANT -D_GNU_SOURCE -fno-strict-aliasing -pipe -fstack-protector -I/usr/local/include'
ccversion='', gccversion='4.1.2 20061115 (prerelease) (Debian 4.1.1-21)', gccosandvers=''
intsize=4, longsize=8, ptrsize=8, doublesize=8, byteorder=12345678
d_longlong=define, longlongsize=8, d_longdbl=define, longdblsize=16
ivtype='long', ivsize=8, nvtype='double', nvsize=8, Off_t='off_t', lseeksize=8
alignbytes=8, prototype=define
Linker and Libraries:
ld='cc', ldflags =' -fstack-protector -L/usr/local/lib'
libpth=/usr/local/lib /lib /usr/lib /lib64 /usr/lib64
libs=-lnsl -lgdbm -ldb -ldl -lm -lcrypt -lutil -lpthread -lc -lgdbm_compat
perllibs=-lnsl -ldl -lm -lcrypt -lutil -lpthread -lc
libc=/lib/libc-2.3.6.so, so=so, useshrplib=false, libperl=libperl.a
gnulibc_version='2.3.6'
Dynamic Linking:
dlsrc=dl_dlopen.xs, dlext=so, d_dlsymun=undef, ccdlflags='-Wl,-E'
cccdlflags='-fPIC', lddlflags='-shared -O2 -L/usr/local/lib -fstack-protector'
Characteristics of this binary (from libperl):
Compile-time options: HAS_TIMES MULTIPLICITY PERLIO_LAYERS
PERL_DONT_CREATE_GVSV
PERL_HASH_FUNC_ONE_AT_A_TIME_HARD
PERL_IMPLICIT_CONTEXT PERL_MALLOC_WRAP
PERL_PRESERVE_IVUV PERL_SAWAMPERSAND USE_64_BIT_ALL
USE_64_BIT_INT USE_ITHREADS USE_LARGE_FILES
USE_LOCALE USE_LOCALE_COLLATE USE_LOCALE_CTYPE
USE_LOCALE_NUMERIC USE_PERLIO USE_PERL_ATOF
USE_REENTRANT_API
Built under linux
Compiled at Oct 2 2014 15:24:56
%ENV:
PERL="5.18.4"
PERL5LIB=""
PERL5OPT=""
PERL5_CPANPLUS_IS_RUNNING="17745"
PERL5_CPAN_IS_RUNNING="17745"
PERLVER="5.18.4"
PERL_INLINE_DIRECTORY="/home/david/.Inline-5.18.4"
PERL_MM_USE_DEFAULT="1"
@INC:
/home/david/cpantesting/perl-5.18.4/lib/site_perl/5.18.4/x86_64-linux-thread-multi
/home/david/cpantesting/perl-5.18.4/lib/site_perl/5.18.4
/home/david/cpantesting/perl-5.18.4/lib/5.18.4/x86_64-linux-thread-multi
/home/david/cpantesting/perl-5.18.4/lib/5.18.4
.