Net-DNS-Resolver-Unbound v1.31 Perl 5 v5.32.1 x86_64-linux

Status
Pass
From
Slaven Rezić
Dist
Net-DNS-Resolver-Unbound v1.31
Platform
Perl 5 v5.32.1 x86_64-linux
Date
2025-01-27 00:07:07
ID
a5cb408e-dc42-11ef-978c-d83a6e8775ea
This distribution has been tested as part of the CPAN Testers
project, supporting the Perl programming language.  See
http://wiki.cpantesters.org/ for more information or email
questions to cpan-testers-discuss@perl.org


--
Dear Dick Franks,

This is a computer-generated report for Net-DNS-Resolver-Unbound-1.31
on perl 5.32.1, created by CPAN-Reporter-1.2020.

Thank you for uploading your work to CPAN.  Congratulations!
All tests were successful.

Sections of this report:

    * Tester comments
    * Program output
    * Prerequisites
    * Environment and other context

------------------------------
TESTER COMMENTS
------------------------------

Additional comments from tester:

none provided

------------------------------
PROGRAM OUTPUT
------------------------------

Output from '/usr/bin/make test':

"/opt/perl-5.32.1/bin/perl" -MExtUtils::Command::MM -e 'cp_nonempty' -- Unbound.bs blib/arch/auto/Net/DNS/Resolver/Unbound/Unbound.bs 644
PERL_DL_NONLAZY=1 HARNESS_OPTIONS=j1:c "/opt/perl-5.32.1/bin/perl" "-It" "-MExtUtils::Command::MM" "-MTest::Harness" "-e" "undef *Test::Harness::Switches; test_harness(0, 'blib/lib', 'blib/arch')" t/*.t
t/00-install.t ....... ok
# 
# These tests were run using:
# 	Net::DNS                        1.47
# 	Net::DNS::Resolver::Unbound     1.31
# 	Net::DNS::Resolver::libunbound  1.17.1
# 	Carp                            1.50
# 	Config                          5.032001
# 	DynaLoader                      1.47_01
# 	ExtUtils::MakeMaker             7.70
# 	File::Find                      1.37
# 	File::Spec                      3.78
# 	IO::File                        1.55
# 	Test::More                      1.302207
# 	base                            2.27
# 	constant                        1.33
# 	integer                         1.01
# 	strict                          1.11
# 	warnings                        1.47
t/00-load.t .......... ok
t/00-pod.t ........... ok
t/10-context.t ....... ok
t/20-synchronous.t ... ok
t/25-decode.t ........ ok
t/30-asynchronous.t .. ok
t/35-bgread.t ........ ok
All tests successful.
Files=8, Tests=59,  2 wallclock secs ( 0.06 usr  0.02 sys +  1.19 cusr  0.23 csys =  1.50 CPU)
Result: PASS

------------------------------
PREREQUISITES
------------------------------

Prerequisite modules loaded:

requires:

    Module              Need     Have    
    ------------------- -------- --------
    base                2.13     2.27    
    Carp                1.1      1.50    
    constant            1.17     1.33    
    DynaLoader          1.09     1.47_01 
    integer             1        1.01    
    Net::DNS            1.19     1.47    
    perl                5.008009 5.032001
    strict              1.03     1.11    
    warnings            1.0501   1.47    

build_requires:

    Module              Need     Have    
    ------------------- -------- --------
    ExtUtils::MakeMaker 0        7.70    
    File::Find          1.13     1.37    
    File::Spec          3.29     3.78    
    IO::File            1.14     1.55    
    Test::More          0.8      1.302207

configure_requires:

    Module              Need     Have    
    ------------------- -------- --------
    Config              0        5.032001
    ExtUtils::MakeMaker 6.48     7.70    


------------------------------
ENVIRONMENT AND OTHER CONTEXT
------------------------------

Environment variables:

    LANG = C
    PATH = /usr/local/bin:/usr/bin:/bin:/usr/local/sbin:/usr/sbin:/sbin:/home/cpansand/bin/linux-gnu:/home/cpansand/bin/sh:/home/cpansand/bin:/usr/games:/home/cpansand/devel:/home/eserte/src/srezic-misc/scripts
    PERL5LIB = 
    PERL5OPT = 
    PERL5_CPANPLUS_IS_RUNNING = 3056111
    PERL5_CPAN_IS_RUNNING = 3056111
    PERL5_CPAN_IS_RUNNING_IN_RECURSION = 3055900,3056111
    PERLDOC = -MPod::Perldoc::ToTextOverstrike
    PERL_BATCH = yes
    PERL_CANARY_STABILITY_NOPROMPT = 1
    PERL_CPAN_REPORTER_CONFIG = /var/tmp/cpansmoker-1023/2025012700/cpanreporter_000_config.ini
    PERL_EXTUTILS_AUTOINSTALL = --defaultdeps
    PERL_USE_UNSAFE_INC = 1
    SHELL = /usr/bin/zsh
    TERM = screen
    TMPDIR = /var/tmp/cpansmoker-1023/2025012700

Perl special variables (and OS-specific diagnostics, for MSWin32):

    $^X = /opt/perl-5.32.1/bin/perl
    $UID/$EUID = 1023 / 1023
    $GID = 1023 1023
    $EGID = 1023 1023

Perl module toolchain versions installed:

    Module              Have    
    ------------------- --------
    CPAN                2.27    
    CPAN::Meta          2.150010
    Cwd                 3.78    
    ExtUtils::CBuilder  0.280236
    ExtUtils::Command   7.70    
    ExtUtils::Install   2.22    
    ExtUtils::MakeMaker 7.70    
    ExtUtils::Manifest  1.72    
    ExtUtils::ParseXS   3.40    
    File::Spec          3.78    
    JSON                4.10    
    JSON::PP            4.16    
    Module::Build       0.4234  
    Module::Signature   n/a     
    Parse::CPAN::Meta   2.150010
    Test2               1.302207
    Test::Harness       3.50    
    Test::More          1.302207
    YAML                1.31    
    YAML::Syck          1.34    
    version             0.9924  


--

Summary of my perl5 (revision 5 version 32 subversion 1) configuration:
   
  Platform:
    osname=linux
    osvers=6.1.0-26-amd64
    archname=x86_64-linux
    uname='linux cloud5.bbbike.org 6.1.0-26-amd64 #1 smp preempt_dynamic debian 6.1.112-1 (2024-09-30) x86_64 gnulinux '
    config_args='-ds -e -Dprefix=/opt/perl-5.32.1 -Uinstallusrbinperl -Dcf_email=srezic@cpan.org'
    hint=recommended
    useposix=true
    d_sigaction=define
    useithreads=undef
    usemultiplicity=undef
    use64bitint=define
    use64bitall=define
    uselongdouble=undef
    usemymalloc=n
    default_inc_excludes_dot=define
    bincompat5005=undef
  Compiler:
    cc='cc'
    ccflags ='-fwrapv -fno-strict-aliasing -pipe -fstack-protector-strong -I/usr/local/include -D_LARGEFILE_SOURCE -D_FILE_OFFSET_BITS=64 -D_FORTIFY_SOURCE=2'
    optimize='-O2'
    cppflags='-fwrapv -fno-strict-aliasing -pipe -fstack-protector-strong -I/usr/local/include'
    ccversion=''
    gccversion='12.2.0'
    gccosandvers=''
    intsize=4
    longsize=8
    ptrsize=8
    doublesize=8
    byteorder=12345678
    doublekind=3
    d_longlong=define
    longlongsize=8
    d_longdbl=define
    longdblsize=16
    longdblkind=3
    ivtype='long'
    ivsize=8
    nvtype='double'
    nvsize=8
    Off_t='off_t'
    lseeksize=8
    alignbytes=8
    prototype=define
  Linker and Libraries:
    ld='cc'
    ldflags =' -fstack-protector-strong -L/usr/local/lib'
    libpth=/usr/local/lib /usr/include/x86_64-linux-gnu /usr/lib /lib/x86_64-linux-gnu /lib/../lib /usr/lib/x86_64-linux-gnu /usr/lib/../lib /lib /lib64 /usr/lib64
    libs=-lpthread -lnsl -lgdbm -ldb -ldl -lm -lcrypt -lutil -lc
    perllibs=-lpthread -lnsl -ldl -lm -lcrypt -lutil -lc
    libc=/lib/x86_64-linux-gnu/libc.so.6
    so=so
    useshrplib=false
    libperl=libperl.a
    gnulibc_version='2.36'
  Dynamic Linking:
    dlsrc=dl_dlopen.xs
    dlext=so
    d_dlsymun=undef
    ccdlflags='-Wl,-E'
    cccdlflags='-fPIC'
    lddlflags='-shared -O2 -L/usr/local/lib -fstack-protector-strong'


Characteristics of this binary (from libperl): 
  Compile-time options:
    HAS_TIMES
    PERLIO_LAYERS
    PERL_COPY_ON_WRITE
    PERL_DONT_CREATE_GVSV
    PERL_MALLOC_WRAP
    PERL_OP_PARENT
    PERL_PRESERVE_IVUV
    USE_64_BIT_ALL
    USE_64_BIT_INT
    USE_LARGE_FILES
    USE_LOCALE
    USE_LOCALE_COLLATE
    USE_LOCALE_CTYPE
    USE_LOCALE_NUMERIC
    USE_LOCALE_TIME
    USE_PERLIO
    USE_PERL_ATOF
  Built under linux
  Compiled at Oct 15 2024 05:31:13
  %ENV:
    PERL5LIB=""
    PERL5OPT=""
    PERL5_CPANPLUS_IS_RUNNING="3056111"
    PERL5_CPAN_IS_RUNNING="3056111"
    PERL5_CPAN_IS_RUNNING_IN_RECURSION="3055900,3056111"
    PERLDOC="-MPod::Perldoc::ToTextOverstrike"
    PERL_BATCH="yes"
    PERL_CANARY_STABILITY_NOPROMPT="1"
    PERL_CPAN_REPORTER_CONFIG="/var/tmp/cpansmoker-1023/2025012700/cpanreporter_000_config.ini"
    PERL_EXTUTILS_AUTOINSTALL="--defaultdeps"
    PERL_USE_UNSAFE_INC="1"
  @INC:
    /opt/perl-5.32.1/lib/site_perl/5.32.1/x86_64-linux
    /opt/perl-5.32.1/lib/site_perl/5.32.1
    /opt/perl-5.32.1/lib/5.32.1/x86_64-linux
    /opt/perl-5.32.1/lib/5.32.1
    .