Back
From: metabase:user:30f4dfbe-2aae-11df-837a-5e0a49663a4f
Subject: PASS Import-Base-0.012 v5.14.2 Mac OS X
Date: 2015-03-25T21:26:49Z
This distribution has been tested as part of the CPAN Testers
project, supporting the Perl programming language. See
http://wiki.cpantesters.org/ for more information or email
questions to cpan-testers-discuss@perl.org
--
Dear Doug Bell,
This is a computer-generated report for Import-Base-0.012
on perl 5.14.2, created by CPAN-Reporter-1.2011.
Thank you for uploading your work to CPAN. Congratulations!
All tests were successful.
Sections of this report:
* Tester comments
* Program output
* Prerequisites
* Environment and other context
------------------------------
TESTER COMMENTS
------------------------------
Additional comments from tester:
this report is from an automated smoke testing program
and was not reviewed by a human for accuracy
------------------------------
PROGRAM OUTPUT
------------------------------
Output from './Build test':
t/00-compile.t ......... ok
#
# Versions for all modules listed in MYMETA.json (including optional ones):
# Version Module
# -------- ------------------------
# 2.143240 CPAN::Meta
# 2.133 CPAN::Meta::Requirements
# 1.3301 Carp
# 7.04 ExtUtils::MakeMaker
# 3.47 File::Spec
# 1.31 IO::Handle
# 1.09 IPC::Open3
# 1.002004 Import::Into
# 0.4211 Module::Build
# 0.014 Module::Runtime
# 1.001014 Test::More
# 1.07 mro
# 1.04 strict
# 1.12 warnings
t/00-report-prereqs.t .. ok
t/base.t ............... ok
t/exclude.t ............ ok
t/order.t .............. ok
t/runtime.t ............ ok
t/subrefs.t ............ ok
t/use-case/moo.t ....... ok
All tests successful.
Files=8, Tests=14, 1 wallclock secs ( 0.03 usr 0.02 sys + 0.22 cusr 0.10 csys = 0.37 CPU)
Result: PASS
------------------------------
PREREQUISITES
------------------------------
Prerequisite modules loaded:
requires:
Module Need Have
------------------- -------- --------
Import::Into 1.002000 1.002004
Module::Runtime 0 0.014
mro 0 1.07
perl 5.010 5.014002
strict 0 1.04
warnings 0 1.12
build_requires:
Module Need Have
------------------- -------- --------
Carp 0 1.3301
File::Spec 0 3.47
IO::Handle 0 1.31
IPC::Open3 0 1.09
Module::Build 0.28 0.4211
Test::More 0 1.001014
configure_requires:
Module Need Have
------------------- -------- --------
ExtUtils::MakeMaker 0 7.04
Module::Build 0.28 0.4211
------------------------------
ENVIRONMENT AND OTHER CONTEXT
------------------------------
Environment variables:
AUTOMATED_TESTING = 1
LANG = en_US.UTF-8
LC_ALL = POSIX
LD_LIBRARY_PATH = :/net/traces01.be-md.ncbi.nlm.nih.gov/trace_software/vdb/mac/release/x86_64/lib
PATH = /Users/hornenj/perl5/perlbrew/bin:/Users/hornenj/perl5/perlbrew/perls/perl-5.14.2/bin:/Users/hornenj/perl5/perlbrew/bin:/Users/hornenj/perl5/perlbrew/perls/perl-5.21.9/bin:/Users/hornenj/bin:/sw/lib/perl5/ExtUtils:/sw/bin:/am/ncbiapdata/bin:/usr/bin:/bin:/usr/X11R6/bin:/netopt/ncbi_tools/bin:/usr/local/ncbi/blast/bin:/net/traces01.be-md.ncbi.nlm.nih.gov/trace_software/vdb/mac/release/x86_64/bin
PERL5LIB = /Users/hornenj/.cpan/build/Dir-Self-0.11-ITkNhJ/blib/arch:/Users/hornenj/.cpan/build/Dir-Self-0.11-ITkNhJ/blib/lib:/Users/hornenj/.cpan/build/Text-Markdown-1.000031-H2TstK/blib/arch:/Users/hornenj/.cpan/build/Text-Markdown-1.000031-H2TstK/blib/lib:/Users/hornenj/.cpan/build/Beam-Wire-1.012-fwNon6/blib/arch:/Users/hornenj/.cpan/build/Beam-Wire-1.012-fwNon6/blib/lib:/Users/hornenj/.cpan/build/Throwable-0.200012-dIwlkX/blib/arch:/Users/hornenj/.cpan/build/Throwable-0.200012-dIwlkX/blib/lib:/Users/hornenj/.cpan/build/Beam-Emitter-0.008-PKYOu2/blib/arch:/Users/hornenj/.cpan/build/Beam-Emitter-0.008-PKYOu2/blib/lib:/Users/hornenj/.cpan/build/Data-DPath-0.52-6n1w5Y/blib/arch:/Users/hornenj/.cpan/build/Data-DPath-0.52-6n1w5Y/blib/lib:/Users/hornenj/.cpan/build/Iterator-Util-0.02-Y8zxJW/blib/arch:/Users/hornenj/.cpan/build/Iterator-Util-0.02-Y8zxJW/blib/lib:/Users/hornenj/.cpan/build/Iterator-0.03-qYG65w/blib/arch:/Users/hornenj/.cpan/build/Iterator-0.03-qYG65w/blib/lib:/Users/hornenj/.cpan/build/Config-Any-0.24-N7SMLy/blib/arch:/Users/hornenj/.cpan/build/Config-Any-0.24-N7SMLy/blib/lib:/Users/hornenj/.cpan/build/Test-Lib-0.002-_ig4Md/blib/arch:/Users/hornenj/.cpan/build/Test-Lib-0.002-_ig4Md/blib/lib
PERL5OPT =
PERL5_CPANPLUS_IS_RUNNING = 7159
PERL5_CPAN_IS_RUNNING = 7159
PERL5_MINISMOKEBOX = 0.58
PERLBREW_BASHRC_VERSION = 0.73
PERLBREW_HOME = /Users/hornenj/.perlbrew
PERLBREW_LIB =
PERLBREW_MANPATH = /Users/hornenj/perl5/perlbrew/perls/perl-5.14.2/man
PERLBREW_PATH = /Users/hornenj/perl5/perlbrew/bin:/Users/hornenj/perl5/perlbrew/perls/perl-5.14.2/bin
PERLBREW_PERL = perl-5.14.2
PERLBREW_ROOT = /Users/hornenj/perl5/perlbrew
PERLBREW_VERSION = 0.73
PERL_EXTUTILS_AUTOINSTALL = --defaultdeps
PERL_LOCAL_LIB_ROOT =
PERL_MM_USE_DEFAULT = 1
SHELL = /bin/bash
TERM = xterm-256color
TMPDIR = /var/folders/pz/pd7y1qjs6s3cbk170cw50fjc000c61/T/
VERSIONER_PERL_PREFER_32_BIT = no
VERSIONER_PERL_VERSION = 5.18
ac_cv_path_INTLTOOL_PERL = /usr/bin/perl
Perl special variables (and OS-specific diagnostics, for MSWin32):
$^X = /Users/hornenj/perl5/perlbrew/perls/perl-5.14.2/bin/perl
$UID/$EUID = 12481 / 12481
$GID = 14 14 5344 527 241
$EGID = 14 14 5344 527 241
Perl module toolchain versions installed:
Module Have
------------------- --------
CPAN 2.10
CPAN::Meta 2.143240
Cwd 3.47
ExtUtils::CBuilder 0.280220
ExtUtils::Command 1.20
ExtUtils::Install 2.04
ExtUtils::MakeMaker 7.04
ExtUtils::Manifest 1.70
ExtUtils::ParseXS 3.24
File::Spec 3.47
JSON 2.90
JSON::PP 2.27300
Module::Build 0.4211
Module::Signature n/a
Parse::CPAN::Meta 1.4414
Test::Harness 3.35
Test::More 1.001014
YAML 1.14
YAML::Syck 1.29
version 0.9912
--
Summary of my perl5 (revision 5 version 14 subversion 2) configuration:
Platform:
osname=darwin, osvers=12.5.0, archname=darwin-thread-multi-2level
uname='darwin ncbimac2008.ncbi.nlm.nih.gov 12.5.0 darwin kernel version 12.5.0: sun sep 29 13:33:47 pdt 2013; root:xnu-2050.48.12~1release_x86_64 x86_64 '
config_args='-de -Dprefix=/Users/hornenj/perl5/perlbrew/perls/perl-5.14.2 -Duseithreads -Dusemultiplicity -Accflags=-O2 -W -Wformat=2 -Wswitch -Wshadow -Wwrite-strings -Wuninitialized -Wall -pipe -mtune=native -march=native -fomit-frame-pointer -msse2 -msse -mmmx -pedantic -D_FORTIFY_SOURCE=2 -Wpointer-arith -Wstrict-prototypes -fstack-protector -Wstack-protector -Wextra -Wbad-function-cast -Wcast-align -Wcast-qual -Wdisabled-optimization -Wendif-labels -Wfloat-equal -Wformat-nonliteral -Winline -Wmissing-declarations -Wmissing-prototypes -Wnested-externs -Wpointer-arith -Wundef -Wformat-security -fassociative-math -Acc=cc -Aeval:scriptdir=/Users/hornenj/perl5/perlbrew/perls/perl-5.14.2/bin'
hint=recommended, useposix=true, d_sigaction=define
useithreads=define, usemultiplicity=define
useperlio=define, d_sfio=undef, uselargefiles=define, usesocks=undef
use64bitint=define, use64bitall=define, uselongdouble=undef
usemymalloc=n, bincompat5005=undef
Compiler:
cc=' cc', ccflags ='-fno-common -DPERL_DARWIN -O2 -W -Wformat=2 -Wswitch -Wshadow -Wwrite-strings -Wuninitialized -Wall -pipe -mtune=native -march=native -fomit-frame-pointer -msse2 -msse -mmmx -pedantic -D_FORTIFY_SOURCE=2 -Wpointer-arith -Wstrict-prototypes -fstack-protector -Wstack-protector -Wextra -Wbad-function-cast -Wcast-align -Wcast-qual -Wdisabled-optimization -Wendif-labels -Wfloat-equal -Wformat-nonliteral -Winline -Wmissing-declarations -Wmissing-prototypes -Wnested-externs -Wpointer-arith -Wundef -Wformat-security -fassociative-math -fno-strict-aliasing -I/usr/local/include',
optimize='-O3',
cppflags='-fno-common -DPERL_DARWIN -O2 -W -Wformat=2 -Wswitch -Wshadow -Wwrite-strings -Wuninitialized -Wall -pipe -mtune=native -march=native -fomit-frame-pointer -msse2 -msse -mmmx -pedantic -D_FORTIFY_SOURCE=2 -Wpointer-arith -Wstrict-prototypes -fstack-protector -Wstack-protector -Wextra -Wbad-function-cast -Wcast-align -Wcast-qual -Wdisabled-optimization -Wendif-labels -Wfloat-equal -Wformat-nonliteral -Winline -Wmissing-declarations -Wmissing-prototypes -Wnested-externs -Wpointer-arith -Wundef -Wformat-security -fassociative-math -fno-strict-aliasing -I/usr/local/include'
ccversion='', gccversion='4.2.1 Compatible Apple LLVM 4.2 (clang-425.0.24)', gccosandvers=''
intsize=4, longsize=8, ptrsize=8, doublesize=8, byteorder=12345678
d_longlong=define, longlongsize=8, d_longdbl=define, longdblsize=16
ivtype='long', ivsize=8, nvtype='double', nvsize=8, Off_t='off_t', lseeksize=8
alignbytes=8, prototype=define
Linker and Libraries:
ld='env MACOSX_DEPLOYMENT_TARGET=10.3 cc', ldflags =' -fstack-protector -L/usr/local/lib'
libpth=/usr/local/lib /usr/lib
libs=-ldbm -ldl -lm -lutil -lc
perllibs=-ldl -lm -lutil -lc
libc=, so=dylib, useshrplib=false, libperl=libperl.a
gnulibc_version=''
Dynamic Linking:
dlsrc=dl_dlopen.xs, dlext=bundle, d_dlsymun=undef, ccdlflags=' '
cccdlflags=' ', lddlflags=' -bundle -undefined dynamic_lookup -L/usr/local/lib -fstack-protector'
Characteristics of this binary (from libperl):
Compile-time options: MULTIPLICITY PERL_DONT_CREATE_GVSV
PERL_IMPLICIT_CONTEXT PERL_MALLOC_WRAP
PERL_PRESERVE_IVUV USE_64_BIT_ALL USE_64_BIT_INT
USE_ITHREADS USE_LARGE_FILES USE_PERLIO USE_PERL_ATOF
USE_REENTRANT_API
Built under darwin
Compiled at Sep 15 2014 09:56:44
%ENV:
PERL5LIB="/Users/hornenj/.cpan/build/Dir-Self-0.11-ITkNhJ/blib/arch:/Users/hornenj/.cpan/build/Dir-Self-0.11-ITkNhJ/blib/lib:/Users/hornenj/.cpan/build/Text-Markdown-1.000031-H2TstK/blib/arch:/Users/hornenj/.cpan/build/Text-Markdown-1.000031-H2TstK/blib/lib:/Users/hornenj/.cpan/build/Beam-Wire-1.012-fwNon6/blib/arch:/Users/hornenj/.cpan/build/Beam-Wire-1.012-fwNon6/blib/lib:/Users/hornenj/.cpan/build/Throwable-0.200012-dIwlkX/blib/arch:/Users/hornenj/.cpan/build/Throwable-0.200012-dIwlkX/blib/lib:/Users/hornenj/.cpan/build/Beam-Emitter-0.008-PKYOu2/blib/arch:/Users/hornenj/.cpan/build/Beam-Emitter-0.008-PKYOu2/blib/lib:/Users/hornenj/.cpan/build/Data-DPath-0.52-6n1w5Y/blib/arch:/Users/hornenj/.cpan/build/Data-DPath-0.52-6n1w5Y/blib/lib:/Users/hornenj/.cpan/build/Iterator-Util-0.02-Y8zxJW/blib/arch:/Users/hornenj/.cpan/build/Iterator-Util-0.02-Y8zxJW/blib/lib:/Users/hornenj/.cpan/build/Iterator-0.03-qYG65w/blib/arch:/Users/hornenj/.cpan/build/Iterator-0.03-qYG65w/blib/lib:/Users/hornenj/.cpan/build/Config-Any-0.24-N7SMLy/blib/arch:/Users/hornenj/.cpan/build/Config-Any-0.24-N7SMLy/blib/lib:/Users/hornenj/.cpan/build/Test-Lib-0.002-_ig4Md/blib/arch:/Users/hornenj/.cpan/build/Test-Lib-0.002-_ig4Md/blib/lib"
PERL5OPT=""
PERL5_CPANPLUS_IS_RUNNING="7159"
PERL5_CPAN_IS_RUNNING="7159"
PERL5_MINISMOKEBOX="0.58"
PERLBREW_BASHRC_VERSION="0.73"
PERLBREW_HOME="/Users/hornenj/.perlbrew"
PERLBREW_LIB=""
PERLBREW_MANPATH="/Users/hornenj/perl5/perlbrew/perls/perl-5.14.2/man"
PERLBREW_PATH="/Users/hornenj/perl5/perlbrew/bin:/Users/hornenj/perl5/perlbrew/perls/perl-5.14.2/bin"
PERLBREW_PERL="perl-5.14.2"
PERLBREW_ROOT="/Users/hornenj/perl5/perlbrew"
PERLBREW_VERSION="0.73"
PERL_EXTUTILS_AUTOINSTALL="--defaultdeps"
PERL_LOCAL_LIB_ROOT=""
PERL_MM_USE_DEFAULT="1"
@INC:
/Users/hornenj/.cpan/build/Dir-Self-0.11-ITkNhJ/blib/arch
/Users/hornenj/.cpan/build/Dir-Self-0.11-ITkNhJ/blib/lib
/Users/hornenj/.cpan/build/Text-Markdown-1.000031-H2TstK/blib/arch
/Users/hornenj/.cpan/build/Text-Markdown-1.000031-H2TstK/blib/lib
/Users/hornenj/.cpan/build/Beam-Wire-1.012-fwNon6/blib/arch
/Users/hornenj/.cpan/build/Beam-Wire-1.012-fwNon6/blib/lib
/Users/hornenj/.cpan/build/Throwable-0.200012-dIwlkX/blib/arch
/Users/hornenj/.cpan/build/Throwable-0.200012-dIwlkX/blib/lib
/Users/hornenj/.cpan/build/Beam-Emitter-0.008-PKYOu2/blib/arch
/Users/hornenj/.cpan/build/Beam-Emitter-0.008-PKYOu2/blib/lib
/Users/hornenj/.cpan/build/Data-DPath-0.52-6n1w5Y/blib/arch
/Users/hornenj/.cpan/build/Data-DPath-0.52-6n1w5Y/blib/lib
/Users/hornenj/.cpan/build/Iterator-Util-0.02-Y8zxJW/blib/arch
/Users/hornenj/.cpan/build/Iterator-Util-0.02-Y8zxJW/blib/lib
/Users/hornenj/.cpan/build/Iterator-0.03-qYG65w/blib/arch
/Users/hornenj/.cpan/build/Iterator-0.03-qYG65w/blib/lib
/Users/hornenj/.cpan/build/Config-Any-0.24-N7SMLy/blib/arch
/Users/hornenj/.cpan/build/Config-Any-0.24-N7SMLy/blib/lib
/Users/hornenj/.cpan/build/Test-Lib-0.002-_ig4Md/blib/arch
/Users/hornenj/.cpan/build/Test-Lib-0.002-_ig4Md/blib/lib
/Users/hornenj/perl5/perlbrew/perls/perl-5.14.2/lib/site_perl/5.14.2/darwin-thread-multi-2level
/Users/hornenj/perl5/perlbrew/perls/perl-5.14.2/lib/site_perl/5.14.2
/Users/hornenj/perl5/perlbrew/perls/perl-5.14.2/lib/5.14.2/darwin-thread-multi-2level
/Users/hornenj/perl5/perlbrew/perls/perl-5.14.2/lib/5.14.2
.