Report for Test-WWW-Mechanize-Catalyst-0.54

Back
From: metabase:user:4bb19ea0-b064-11df-ac73-2d518c32fe74
Subject: PASS Test-WWW-Mechanize-Catalyst-0.54 v5.12.2 GNU/Linux
Date: 2011-08-11T19:25:19Z

This distribution has been tested as part of the CPAN Testers
project, supporting the Perl programming language.  See
http://wiki.cpantesters.org/ for more information or email
questions to cpan-testers-discuss@perl.org


--
Dear Tomas Doran,

This is a computer-generated report for Test-WWW-Mechanize-Catalyst-0.54
on perl 5.12.2, created by CPAN-Reporter-1.1902.

Thank you for uploading your work to CPAN.  Congratulations!
All tests were successful.

Sections of this report:

    * Tester comments
    * Program output
    * Prerequisites
    * Environment and other context

------------------------------
TESTER COMMENTS
------------------------------

Additional comments from tester:

none provided

------------------------------
PROGRAM OUTPUT
------------------------------

Output from 'make test':

PERL_DL_NONLAZY=1 /home/stefan/perl5/perlbrew/perls/perl-5.12.2-thread-multi/bin/perl5.12.2 "-MExtUtils::Command::MM" "-e" "test_harness(0, 'inc', 'blib/lib', 'blib/arch')" t/*.t
t/auth-test.t ........... ok
t/cookies.t ............. ok
# 
# ###################################################################
# Starting an external Catalyst HTTP server on port 7357
# To change the port, please set the TWMC_TEST_PORT env variable.
# (The server will be automatically shut-down right after the tests).
# ###################################################################
t/multi_content_type.t .. ok
t/pod.t ................. ok
t/redirect.t ............ ok
t/simple.t .............. ok
t/two_app.t ............. ok
t/useragent.t ........... ok
t/white_label.t ......... ok
All tests successful.
Files=9, Tests=92,  6 wallclock secs ( 0.05 usr  0.01 sys +  5.80 cusr  0.36 csys =  6.22 CPU)
Result: PASS

------------------------------
PREREQUISITES
------------------------------

Prerequisite modules loaded:

requires:

    Module                                   Need  Have   
    ---------------------------------------- ----- -------
    Catalyst                                 5.00  5.80032
    Catalyst::Plugin::Session::State::Cookie 0     0.17   
    Catalyst::Plugin::Session::Store::Dummy  0     0      
    ExtUtils::MakeMaker                      6.42  6.56   
    LWP                                      5.816 6.02   
    Moose                                    0.67  2.0202 
    namespace::clean                         0.09  0.20   
    Test::Exception                          0     0.31   
    Test::More                               0     0.98   
    Test::WWW::Mechanize                     1.14  1.34   
    WWW::Mechanize                           1.54  1.68   

configure_requires:

    Module                                   Need  Have   
    ---------------------------------------- ----- -------
    ExtUtils::MakeMaker                      6.42  6.56   


------------------------------
ENVIRONMENT AND OTHER CONTEXT
------------------------------

Environment variables:

    LANG = en_US.UTF-8
    PATH = /home/stefan/perl5/perlbrew/bin:/home/stefan/perl5/perlbrew/perls/perl-5.12.2-thread-multi/bin:/usr/local/sbin:/usr/local/bin:/usr/sbin:/usr/bin:/sbin:/bin:/usr/games
    PATH_WITHOUT_PERLBREW = /usr/local/sbin:/usr/local/bin:/usr/sbin:/usr/bin:/sbin:/bin:/usr/games
    PERL5LIB = 
    PERL5OPT = 
    PERL5_CPANPLUS_IS_RUNNING = 8013
    PERL5_CPAN_IS_RUNNING = 8013
    PERLBREW_PATH = /home/stefan/perl5/perlbrew/bin:/home/stefan/perl5/perlbrew/perls/perl-5.12.2-thread-multi/bin
    PERLBREW_PERL = perl-5.12.2-thread-multi
    PERLBREW_ROOT = /home/stefan/perl5/perlbrew
    PERLBREW_VERSION = 0.27
    SHELL = /bin/bash
    TERM = xterm

Perl special variables (and OS-specific diagnostics, for MSWin32):

    $^X = /home/stefan/perl5/perlbrew/perls/perl-5.12.2-thread-multi/bin/perl5.12.2
    $UID/$EUID = 1000 / 1000
    $GID = 1000 4 20 24 46 108 117 123 124 1000
    $EGID = 1000 4 20 24 46 108 117 123 124 1000

Perl module toolchain versions installed:

    Module              Have    
    ------------------- --------
    CPAN                1.9600  
    Cwd                 3.33    
    ExtUtils::CBuilder  0.280202
    ExtUtils::Command   1.17    
    ExtUtils::Install   1.55    
    ExtUtils::MakeMaker 6.56    
    ExtUtils::Manifest  1.58    
    ExtUtils::ParseXS   2.2206  
    File::Spec          3.33    
    Module::Build       0.3800  
    Module::Signature   n/a     
    Test::Harness       3.23    
    Test::More          0.98    
    YAML                0.73    
    YAML::Syck          1.17    
    version             0.88    


--

Summary of my perl5 (revision 5 version 12 subversion 2) configuration:
   
  Platform:
    osname=linux, osvers=2.6.28-19-generic, archname=x86_64-linux-thread-multi
    uname='linux pc-stefan 2.6.28-19-generic #61-ubuntu smp wed may 26 23:32:46 utc 2010 x86_64 gnulinux '
    config_args='-de -Dprefix=/home/stefan/perl5/perlbrew/perls/perl-5.12.2-thread-multi -Dusethreads'
    hint=recommended, useposix=true, d_sigaction=define
    useithreads=define, usemultiplicity=define
    useperlio=define, d_sfio=undef, uselargefiles=define, usesocks=undef
    use64bitint=define, use64bitall=define, uselongdouble=undef
    usemymalloc=n, bincompat5005=undef
  Compiler:
    cc='cc', ccflags ='-D_REENTRANT -D_GNU_SOURCE -fno-strict-aliasing -pipe -fstack-protector -I/usr/local/include -D_LARGEFILE_SOURCE -D_FILE_OFFSET_BITS=64',
    optimize='-O2',
    cppflags='-D_REENTRANT -D_GNU_SOURCE -fno-strict-aliasing -pipe -fstack-protector -I/usr/local/include'
    ccversion='', gccversion='4.3.3', gccosandvers=''
    intsize=4, longsize=8, ptrsize=8, doublesize=8, byteorder=12345678
    d_longlong=define, longlongsize=8, d_longdbl=define, longdblsize=16
    ivtype='long', ivsize=8, nvtype='double', nvsize=8, Off_t='off_t', lseeksize=8
    alignbytes=8, prototype=define
  Linker and Libraries:
    ld='cc', ldflags =' -fstack-protector -L/usr/local/lib'
    libpth=/usr/local/lib /lib /usr/lib /lib64 /usr/lib64
    libs=-lnsl -ldl -lm -lcrypt -lutil -lpthread -lc
    perllibs=-lnsl -ldl -lm -lcrypt -lutil -lpthread -lc
    libc=/lib/libc-2.9.so, so=so, useshrplib=false, libperl=libperl.a
    gnulibc_version='2.9'
  Dynamic Linking:
    dlsrc=dl_dlopen.xs, dlext=so, d_dlsymun=undef, ccdlflags='-Wl,-E'
    cccdlflags='-fPIC', lddlflags='-shared -O2 -L/usr/local/lib -fstack-protector'


Characteristics of this binary (from libperl): 
  Compile-time options: MULTIPLICITY PERL_DONT_CREATE_GVSV
                        PERL_IMPLICIT_CONTEXT PERL_MALLOC_WRAP USE_64_BIT_ALL
                        USE_64_BIT_INT USE_ITHREADS USE_LARGE_FILES
                        USE_PERLIO USE_PERL_ATOF USE_REENTRANT_API
  Built under linux
  Compiled at Sep 14 2010 13:04:20
  %ENV:
    PERL5LIB=""
    PERL5OPT=""
    PERL5_CPANPLUS_IS_RUNNING="8013"
    PERL5_CPAN_IS_RUNNING="8013"
    PERLBREW_PATH="/home/stefan/perl5/perlbrew/bin:/home/stefan/perl5/perlbrew/perls/perl-5.12.2-thread-multi/bin"
    PERLBREW_PERL="perl-5.12.2-thread-multi"
    PERLBREW_ROOT="/home/stefan/perl5/perlbrew"
    PERLBREW_VERSION="0.27"
  @INC:
    /home/stefan/perl5/perlbrew/perls/perl-5.12.2-thread-multi/lib/site_perl/5.12.2/x86_64-linux-thread-multi
    /home/stefan/perl5/perlbrew/perls/perl-5.12.2-thread-multi/lib/site_perl/5.12.2
    /home/stefan/perl5/perlbrew/perls/perl-5.12.2-thread-multi/lib/5.12.2/x86_64-linux-thread-multi
    /home/stefan/perl5/perlbrew/perls/perl-5.12.2-thread-multi/lib/5.12.2
    .