Net-API-Stripe vv2.0.6 Perl 5 v5.34.3 x86_64-linux
- Status
- Pass
- From
- Slaven Rezić
- Dist
-
Net-API-Stripe vv2.0.6
- Platform
- Perl 5 v5.34.3 x86_64-linux
- Date
- 2024-12-03 22:48:08
- ID
- aa7e8766-b1c8-11ef-8f8c-2d426e8775ea
This distribution has been tested as part of the CPAN Testers
project, supporting the Perl programming language. See
http://wiki.cpantesters.org/ for more information or email
questions to cpan-testers-discuss@perl.org
--
Dear Jacques Deguest,
This is a computer-generated report for Net-API-Stripe-v2.0.6
on perl 5.34.3, created by CPAN-Reporter-1.2019.
Thank you for uploading your work to CPAN. Congratulations!
All tests were successful.
Sections of this report:
* Tester comments
* Program output
* Prerequisites
* Environment and other context
------------------------------
TESTER COMMENTS
------------------------------
Additional comments from tester:
none provided
------------------------------
PROGRAM OUTPUT
------------------------------
Output from '/usr/bin/make test':
PERL_DL_NONLAZY=1 "/opt/perl-5.34.3/bin/perl" "-MExtUtils::Command::MM" "-MTest::Harness" "-e" "undef *Test::Harness::Switches; test_harness(0, 'blib/lib', 'blib/arch')" t/*.t
t/001_load.t ..................................... ok
t/100_account.t .................................. ok
t/101_account_bank_account.t ..................... ok
t/102_account_card.t ............................. ok
t/103_account_link.t ............................. ok
t/104_address.t .................................. ok
t/105_address_kana.t ............................. ok
t/106_address_kanji.t ............................ ok
t/107_application_fee.t .......................... ok
t/108_apps.secret.t .............................. ok
t/109_balance.t .................................. ok
t/110_balance_transaction.t ...................... ok
t/111_bank_account.t ............................. ok
t/112_billing_details.t .......................... ok
t/113_billing_portal.configuration.t ............. ok
t/114_billing_portal.session.t ................... ok
t/115_billing_thresholds.t ....................... ok
t/116_business_profile.t ......................... ok
t/117_capability.t ............................... ok
t/118_card.t ..................................... ok
t/119_cash_balance.t ............................. ok
t/120_charge.t ................................... ok
t/121_checkout.session.t ......................... ok
t/122_code_verification.t ........................ ok
t/123_company.t .................................. ok
t/124_country_spec.t ............................. ok
t/125_coupon.t ................................... ok
t/126_credit_note.t .............................. ok
t/127_credit_note_line_item.t .................... ok
t/128_customer.t ................................. ok
t/129_customer_balance_transaction.t ............. ok
t/130_customer_cash_balance_transaction.t ........ ok
t/131_data.t ..................................... ok
t/132_discount.t ................................. ok
t/133_dispute.t .................................. ok
t/134_dispute_evidence.t ......................... ok
t/135_document.t ................................. ok
t/136_error.t .................................... ok
t/137_event.t .................................... ok
t/138_evidence.t ................................. ok
t/139_evidence_details.t ......................... ok
t/140_fee_refund.t ............................... ok
t/141_file.t ..................................... ok
t/142_file_link.t ................................ ok
t/143_financial_connections.account.t ............ ok
t/144_financial_connections.account_owner.t ...... ok
t/145_financial_connections.account_ownership.t .. ok
t/146_financial_connections.session.t ............ ok
t/147_funding_instructions.t ..................... ok
t/148_identity.verification_report.t ............. ok
t/149_identity.verification_session.t ............ ok
t/150_invoice.t .................................. ok
t/151_invoice_settings.t ......................... ok
t/152_invoiceitem.t .............................. ok
t/153_ip_address_location.t ...................... ok
t/154_issuing.authorization.t .................... ok
t/155_issuing.card.t ............................. ok
t/156_issuing.cardholder.t ....................... ok
t/157_issuing.dispute.t .......................... ok
t/158_issuing.transaction.t ...................... ok
t/159_item.t ..................................... ok
t/160_line_item.t ................................ ok
t/161_login_link.t ............................... ok
t/162_mandate.t .................................. ok
t/163_merchant_data.t ............................ ok
t/164_next_action.t .............................. ok
t/165_outcome.t .................................. ok
t/166_owner.t .................................... ok
t/167_package_dimensions.t ....................... ok
t/168_payment_intent.t ........................... ok
t/169_payment_link.t ............................. ok
t/170_payment_method.t ........................... ok
t/171_payment_method_details.t ................... ok
t/172_payout.t ................................... ok
t/173_period.t ................................... ok
t/174_person.t ................................... ok
t/175_plan.t ..................................... ok
t/176_price.t .................................... ok
t/177_product.t .................................. ok
t/178_promotion_code.t ........................... ok
t/179_quote.t .................................... ok
t/180_radar.early_fraud_warning.t ................ ok
t/181_radar.value_list.t ......................... ok
t/182_radar.value_list_item.t .................... ok
t/183_receiver.t ................................. ok
t/184_redirect.t ................................. ok
t/185_refund.t ................................... ok
t/186_relationship.t ............................. ok
t/187_reporting.report_run.t ..................... ok
t/188_reporting.report_type.t .................... ok
t/189_request.t .................................. ok
t/190_requirements.t ............................. ok
t/191_review.t ................................... ok
t/192_scheduled_query_run.t ...................... ok
t/193_settings.t ................................. ok
t/194_setup_attempt.t ............................ ok
t/195_setup_intent.t ............................. ok
t/196_shipping.t ................................. ok
t/197_shipping_rate.t ............................ ok
t/198_source.t ................................... ok
t/199_source_order.t ............................. ok
t/200_status_transitions.t ....................... ok
t/201_subscription.t ............................. ok
t/202_subscription_item.t ........................ ok
t/203_subscription_schedule.t .................... ok
t/204_tax_code.t ................................. ok
t/205_tax_id.t ................................... ok
t/206_tax_rate.t ................................. ok
t/207_terminal.configuration.t ................... ok
t/208_terminal.connection_token.t ................ ok
t/209_terminal.location.t ........................ ok
t/210_terminal.reader.t .......................... ok
t/211_test_helpers.test_clock.t .................. ok
t/212_token.t .................................... ok
t/213_topup.t .................................... ok
t/214_tos_acceptance.t ........................... ok
t/215_transfer.t ................................. ok
t/216_transfer_data.t ............................ ok
t/217_transfer_reversal.t ........................ ok
t/218_transform_usage.t .......................... ok
t/219_treasury.credit_reversal.t ................. ok
t/220_treasury.debit_reversal.t .................. ok
t/221_treasury.financial_account.t ............... ok
t/222_treasury.financial_account_features.t ...... ok
t/223_treasury.inbound_transfer.t ................ ok
t/224_treasury.outbound_payment.t ................ ok
t/225_treasury.outbound_transfer.t ............... ok
t/226_treasury.received_credit.t ................. ok
t/227_treasury.received_debit.t .................. ok
t/228_treasury.transaction.t ..................... ok
t/229_treasury.transaction_entry.t ............... ok
t/230_usage_record.t ............................. ok
t/231_usage_record_summary.t ..................... ok
t/232_verification.t ............................. ok
t/233_verification_data.t ........................ ok
t/234_verification_fields.t ...................... ok
t/235_webhook_endpoint.t ......................... ok
t/990_pod.t ...................................... ok
t/991_coverage.t ................................. skipped: These tests are for author or release candidate testing
t/992_signature.t ................................ skipped: Set the environment variable AUTHOR_TESTING to enable this test.
t/999_kwalitee.t ................................. skipped: These tests are for author or release candidate testing
All tests successful.
Files=141, Tests=2504, 38 wallclock secs ( 0.38 usr 0.14 sys + 33.64 cusr 3.26 csys = 37.42 CPU)
Result: PASS
------------------------------
PREREQUISITES
------------------------------
Prerequisite modules loaded:
requires:
Module Need Have
-------------------------- ---------- ----------
common::sense 0 3.75
constant 0 1.33
Data::UUID 1.224 1.226
DateTime 1.51 1.65
DateTime::Format::Strptime 1.76 1.79
DateTime::TimeZone 2.36 2.61
Digest::MD5 2.55 2.59
Digest::SHA 6.02 6.02
Encode 3.01 3.21
HTTP::Promise v0.5.2 v0.5.2
JSON 4.02 4.10
MIME::Base64 3.15 3.16
MIME::QuotedPrint 3.13 3.16
Module::Generic v0.37.5 v0.37.5
Net::IP 1.26 1.26
overload 0 1.33
parent 0 0.238
perl 5.006000 5.034003
Regexp::Common 2017060201 2017060201
Scalar::Util 1.54 1.68
strict 0 1.12
URI::Escape 3.31 5.28
vars 0 1.05
Want 0.29 0.29
warnings 0 1.51
build_requires:
Module Need Have
-------------------------- ---------- ----------
ExtUtils::MakeMaker 0 7.70
Test::More 1.302162 1.302203
Test::Pod 1.52 1.52
configure_requires:
Module Need Have
-------------------------- ---------- ----------
ExtUtils::MakeMaker 0 7.70
------------------------------
ENVIRONMENT AND OTHER CONTEXT
------------------------------
Environment variables:
LANG = en_US.UTF-8
PATH = /usr/local/bin:/usr/bin:/bin:/usr/local/sbin:/usr/sbin:/sbin:/home/cpansand/bin/linux-gnu:/home/cpansand/bin/sh:/home/cpansand/bin:/usr/games:/home/cpansand/devel:/home/eserte/src/srezic-misc/scripts
PERL5LIB =
PERL5OPT =
PERL5_CPANPLUS_IS_RUNNING = 259806
PERL5_CPAN_IS_RUNNING = 259806
PERL5_CPAN_IS_RUNNING_IN_RECURSION = 256999,259806
PERLDOC = -MPod::Perldoc::ToTextOverstrike
PERL_BATCH = yes
PERL_CANARY_STABILITY_NOPROMPT = 1
PERL_CPAN_REPORTER_CONFIG = /var/tmp/cpansmoker-1023/2024120322/cpanreporter_000_config.ini
PERL_EXTUTILS_AUTOINSTALL = --defaultdeps
PERL_USE_UNSAFE_INC = 1
SHELL = /usr/bin/zsh
TERM = screen
TMPDIR = /var/tmp/cpansmoker-1023/2024120322
Perl special variables (and OS-specific diagnostics, for MSWin32):
$^X = /opt/perl-5.34.3/bin/perl
$UID/$EUID = 1023 / 1023
$GID = 1023 1023
$EGID = 1023 1023
Perl module toolchain versions installed:
Module Have
------------------- --------
CPAN 2.28
CPAN::Meta 2.150010
Cwd 3.80
ExtUtils::CBuilder 0.280236
ExtUtils::Command 7.70
ExtUtils::Install 2.20
ExtUtils::MakeMaker 7.70
ExtUtils::Manifest 1.75
ExtUtils::ParseXS 3.51
File::Spec 3.80
JSON 4.10
JSON::PP 4.16
Module::Build 0.4234
Module::Signature 0.88
Parse::CPAN::Meta 2.150010
Test2 1.302203
Test::Harness 3.50
Test::More 1.302203
YAML 1.31
YAML::Syck 1.34
version 0.9932
--
Summary of my perl5 (revision 5 version 34 subversion 3) configuration:
Platform:
osname=linux
osvers=5.10.0-26-amd64
archname=x86_64-linux
uname='linux cloud7.bbbike.org 5.10.0-26-amd64 #1 smp debian 5.10.197-1 (2023-09-29) x86_64 gnulinux '
config_args='-ds -e -Dprefix=/opt/perl-5.34.3 -Dcf_email=srezic@cpan.org'
hint=recommended
useposix=true
d_sigaction=define
useithreads=undef
usemultiplicity=undef
use64bitint=define
use64bitall=define
uselongdouble=undef
usemymalloc=n
default_inc_excludes_dot=define
Compiler:
cc='cc'
ccflags ='-fwrapv -fno-strict-aliasing -pipe -fstack-protector-strong -I/usr/local/include -D_LARGEFILE_SOURCE -D_FILE_OFFSET_BITS=64 -D_FORTIFY_SOURCE=2'
optimize='-O2'
cppflags='-fwrapv -fno-strict-aliasing -pipe -fstack-protector-strong -I/usr/local/include'
ccversion=''
gccversion='10.2.1 20210110'
gccosandvers=''
intsize=4
longsize=8
ptrsize=8
doublesize=8
byteorder=12345678
doublekind=3
d_longlong=define
longlongsize=8
d_longdbl=define
longdblsize=16
longdblkind=3
ivtype='long'
ivsize=8
nvtype='double'
nvsize=8
Off_t='off_t'
lseeksize=8
alignbytes=8
prototype=define
Linker and Libraries:
ld='cc'
ldflags =' -fstack-protector-strong -L/usr/local/lib'
libpth=/usr/local/lib /usr/lib/x86_64-linux-gnu /usr/lib /usr/lib64
libs=-lpthread -lnsl -lgdbm -ldb -ldl -lm -lcrypt -lutil -lc
perllibs=-lpthread -lnsl -ldl -lm -lcrypt -lutil -lc
libc=libc-2.31.so
so=so
useshrplib=false
libperl=libperl.a
gnulibc_version='2.31'
Dynamic Linking:
dlsrc=dl_dlopen.xs
dlext=so
d_dlsymun=undef
ccdlflags='-Wl,-E'
cccdlflags='-fPIC'
lddlflags='-shared -O2 -L/usr/local/lib -fstack-protector-strong'
Characteristics of this binary (from libperl):
Compile-time options:
HAS_TIMES
PERLIO_LAYERS
PERL_COPY_ON_WRITE
PERL_DONT_CREATE_GVSV
PERL_MALLOC_WRAP
PERL_OP_PARENT
PERL_PRESERVE_IVUV
USE_64_BIT_ALL
USE_64_BIT_INT
USE_LARGE_FILES
USE_LOCALE
USE_LOCALE_COLLATE
USE_LOCALE_CTYPE
USE_LOCALE_NUMERIC
USE_LOCALE_TIME
USE_PERLIO
USE_PERL_ATOF
Built under linux
Compiled at Jan 1 2024 09:35:28
%ENV:
PERL5LIB=""
PERL5OPT=""
PERL5_CPANPLUS_IS_RUNNING="259806"
PERL5_CPAN_IS_RUNNING="259806"
PERL5_CPAN_IS_RUNNING_IN_RECURSION="256999,259806"
PERLDOC="-MPod::Perldoc::ToTextOverstrike"
PERL_BATCH="yes"
PERL_CANARY_STABILITY_NOPROMPT="1"
PERL_CPAN_REPORTER_CONFIG="/var/tmp/cpansmoker-1023/2024120322/cpanreporter_000_config.ini"
PERL_EXTUTILS_AUTOINSTALL="--defaultdeps"
PERL_USE_UNSAFE_INC="1"
@INC:
/opt/perl-5.34.3/lib/site_perl/5.34.3/x86_64-linux
/opt/perl-5.34.3/lib/site_perl/5.34.3
/opt/perl-5.34.3/lib/5.34.3/x86_64-linux
/opt/perl-5.34.3/lib/5.34.3
.