Net-API-Stripe vv2.0.6 Perl 5 v5.41.13 amd64-midnightbsd-thread-multi

Status
Pass
From
Carlos Guevara
Dist
Net-API-Stripe vv2.0.6
Platform
Perl 5 v5.41.13 amd64-midnightbsd-thread-multi
Date
2025-05-06 03:17:39
ID
aa819f72-2a28-11f0-8246-a49f9e7e9dfb
This distribution has been tested as part of the CPAN Testers
project, supporting the Perl programming language.  See
http://wiki.cpantesters.org/ for more information or email
questions to cpan-testers-discuss@perl.org


--
Dear Jacques Deguest,

This is a computer-generated report for Net-API-Stripe-v2.0.6
on perl 5.41.13, created by CPAN-Reporter-1.2020.

Thank you for uploading your work to CPAN.  Congratulations!
All tests were successful.

Sections of this report:

    * Tester comments
    * Program output
    * Prerequisites
    * Environment and other context

------------------------------
TESTER COMMENTS
------------------------------

Additional comments from tester:

this report is from an automated smoke testing program
and was not reviewed by a human for accuracy

------------------------------
PROGRAM OUTPUT
------------------------------

Output from '/usr/bin/make test':

PERL_DL_NONLAZY=1 "/usr/home/cpan/bin/perl/bin/perl5.41.13" "-MExtUtils::Command::MM" "-MTest::Harness" "-e" "undef *Test::Harness::Switches; test_harness(0, 'blib/lib', 'blib/arch')" t/*.t
Possible precedence problem between ! and string eq at /home/cpan/bin/perl/lib/site_perl/5.41.13/Cookie/Jar.pm line 362.
t/001_load.t ..................................... ok
t/100_account.t .................................. ok
t/101_account_bank_account.t ..................... ok
t/102_account_card.t ............................. ok
t/103_account_link.t ............................. ok
t/104_address.t .................................. ok
t/105_address_kana.t ............................. ok
t/106_address_kanji.t ............................ ok
t/107_application_fee.t .......................... ok
t/108_apps.secret.t .............................. ok
t/109_balance.t .................................. ok
t/110_balance_transaction.t ...................... ok
t/111_bank_account.t ............................. ok
t/112_billing_details.t .......................... ok
t/113_billing_portal.configuration.t ............. ok
t/114_billing_portal.session.t ................... ok
t/115_billing_thresholds.t ....................... ok
t/116_business_profile.t ......................... ok
t/117_capability.t ............................... ok
t/118_card.t ..................................... ok
t/119_cash_balance.t ............................. ok
t/120_charge.t ................................... ok
t/121_checkout.session.t ......................... ok
t/122_code_verification.t ........................ ok
t/123_company.t .................................. ok
t/124_country_spec.t ............................. ok
t/125_coupon.t ................................... ok
t/126_credit_note.t .............................. ok
t/127_credit_note_line_item.t .................... ok
t/128_customer.t ................................. ok
t/129_customer_balance_transaction.t ............. ok
t/130_customer_cash_balance_transaction.t ........ ok
t/131_data.t ..................................... ok
t/132_discount.t ................................. ok
t/133_dispute.t .................................. ok
t/134_dispute_evidence.t ......................... ok
t/135_document.t ................................. ok
t/136_error.t .................................... ok
t/137_event.t .................................... ok
t/138_evidence.t ................................. ok
t/139_evidence_details.t ......................... ok
t/140_fee_refund.t ............................... ok
t/141_file.t ..................................... ok
t/142_file_link.t ................................ ok
t/143_financial_connections.account.t ............ ok
t/144_financial_connections.account_owner.t ...... ok
t/145_financial_connections.account_ownership.t .. ok
t/146_financial_connections.session.t ............ ok
t/147_funding_instructions.t ..................... ok
t/148_identity.verification_report.t ............. ok
t/149_identity.verification_session.t ............ ok
t/150_invoice.t .................................. ok
t/151_invoice_settings.t ......................... ok
t/152_invoiceitem.t .............................. ok
t/153_ip_address_location.t ...................... ok
t/154_issuing.authorization.t .................... ok
t/155_issuing.card.t ............................. ok
t/156_issuing.cardholder.t ....................... ok
t/157_issuing.dispute.t .......................... ok
t/158_issuing.transaction.t ...................... ok
t/159_item.t ..................................... ok
t/160_line_item.t ................................ ok
t/161_login_link.t ............................... ok
t/162_mandate.t .................................. ok
t/163_merchant_data.t ............................ ok
t/164_next_action.t .............................. ok
t/165_outcome.t .................................. ok
t/166_owner.t .................................... ok
t/167_package_dimensions.t ....................... ok
t/168_payment_intent.t ........................... ok
t/169_payment_link.t ............................. ok
t/170_payment_method.t ........................... ok
t/171_payment_method_details.t ................... ok
t/172_payout.t ................................... ok
t/173_period.t ................................... ok
t/174_person.t ................................... ok
t/175_plan.t ..................................... ok
t/176_price.t .................................... ok
t/177_product.t .................................. ok
t/178_promotion_code.t ........................... ok
t/179_quote.t .................................... ok
t/180_radar.early_fraud_warning.t ................ ok
t/181_radar.value_list.t ......................... ok
t/182_radar.value_list_item.t .................... ok
t/183_receiver.t ................................. ok
t/184_redirect.t ................................. ok
t/185_refund.t ................................... ok
t/186_relationship.t ............................. ok
t/187_reporting.report_run.t ..................... ok
t/188_reporting.report_type.t .................... ok
t/189_request.t .................................. ok
t/190_requirements.t ............................. ok
t/191_review.t ................................... ok
t/192_scheduled_query_run.t ...................... ok
t/193_settings.t ................................. ok
t/194_setup_attempt.t ............................ ok
t/195_setup_intent.t ............................. ok
t/196_shipping.t ................................. ok
t/197_shipping_rate.t ............................ ok
t/198_source.t ................................... ok
t/199_source_order.t ............................. ok
t/200_status_transitions.t ....................... ok
t/201_subscription.t ............................. ok
t/202_subscription_item.t ........................ ok
t/203_subscription_schedule.t .................... ok
t/204_tax_code.t ................................. ok
t/205_tax_id.t ................................... ok
t/206_tax_rate.t ................................. ok
t/207_terminal.configuration.t ................... ok
t/208_terminal.connection_token.t ................ ok
t/209_terminal.location.t ........................ ok
t/210_terminal.reader.t .......................... ok
t/211_test_helpers.test_clock.t .................. ok
t/212_token.t .................................... ok
t/213_topup.t .................................... ok
t/214_tos_acceptance.t ........................... ok
t/215_transfer.t ................................. ok
t/216_transfer_data.t ............................ ok
t/217_transfer_reversal.t ........................ ok
t/218_transform_usage.t .......................... ok
t/219_treasury.credit_reversal.t ................. ok
t/220_treasury.debit_reversal.t .................. ok
t/221_treasury.financial_account.t ............... ok
t/222_treasury.financial_account_features.t ...... ok
t/223_treasury.inbound_transfer.t ................ ok
t/224_treasury.outbound_payment.t ................ ok
t/225_treasury.outbound_transfer.t ............... ok
t/226_treasury.received_credit.t ................. ok
t/227_treasury.received_debit.t .................. ok
t/228_treasury.transaction.t ..................... ok
t/229_treasury.transaction_entry.t ............... ok
t/230_usage_record.t ............................. ok
t/231_usage_record_summary.t ..................... ok
t/232_verification.t ............................. ok
t/233_verification_data.t ........................ ok
t/234_verification_fields.t ...................... ok
t/235_webhook_endpoint.t ......................... ok
t/990_pod.t ...................................... ok
t/991_coverage.t ................................. skipped: These tests are for author or release candidate testing
t/992_signature.t ................................ skipped: Set the environment variable AUTHOR_TESTING to enable this test.
t/999_kwalitee.t ................................. skipped: These tests are for author or release candidate testing
All tests successful.
Files=141, Tests=2504, 45 wallclock secs ( 0.36 usr  0.11 sys + 39.55 cusr  4.79 csys = 44.80 CPU)
Result: PASS

------------------------------
PREREQUISITES
------------------------------

Prerequisite modules loaded:

requires:

    Module                     Need       Have      
    -------------------------- ---------- ----------
    common::sense              0          3.75      
    constant                   0          1.33      
    Data::UUID                 1.224      1.227     
    DateTime                   1.51       1.66      
    DateTime::Format::Strptime 1.76       1.79      
    DateTime::TimeZone         2.36       2.65      
    Digest::MD5                2.55       2.59      
    Digest::SHA                6.02       6.04      
    Encode                     3.01       3.21      
    HTTP::Promise              v0.5.2     v0.5.3    
    JSON                       4.02       4.10      
    MIME::Base64               3.15       3.16_01   
    MIME::QuotedPrint          3.13       3.16_01   
    Module::Generic            v0.37.5    v0.43.3   
    Net::IP                    1.26       1.26      
    overload                   0          1.40      
    parent                     0          0.244     
    perl                       5.006000   5.041013  
    Regexp::Common             2017060201 2024080801
    Scalar::Util               1.54       1.68_01   
    strict                     0          1.14      
    URI::Escape                3.31       5.31      
    vars                       0          1.05      
    Want                       0.29       0.29      
    warnings                   0          1.74      

build_requires:

    Module                     Need       Have      
    -------------------------- ---------- ----------
    ExtUtils::MakeMaker        0          7.74      
    Test::More                 1.302162   1.302211  
    Test::Pod                  1.52       1.52      

configure_requires:

    Module                     Need       Have      
    -------------------------- ---------- ----------
    ExtUtils::MakeMaker        0          7.74      


------------------------------
ENVIRONMENT AND OTHER CONTEXT
------------------------------

Environment variables:

    AUTOMATED_TESTING = 1
    DATE_MANIP_TEST_DM5 = 1
    LC_ALL = C
    NONINTERACTIVE_TESTING = 1
    NO_NETWORK_TESTING = 1
    PATH = /home/cpan/bin/perl/bin:/home/cpan/bin:/sbin:/bin:/usr/sbin:/usr/bin:/usr/games:/usr/local/sbin:/usr/local/bin:/home/cpan/bin
    PERL5LIB = 
    PERL5OPT = 
    PERL5_CPANPLUS_IS_RUNNING = 58226
    PERL5_CPAN_IS_RUNNING = 58226
    PERL_MM_USE_DEFAULT = 1
    PERL_USE_UNSAFE_INC = 1
    SHELL = /usr/local/bin/bash
    TERM = screen
    TMPDIR = /home/cpan/tmp

Perl special variables (and OS-specific diagnostics, for MSWin32):

    $^X = /usr/home/cpan/bin/perl/bin/perl5.41.13
    $UID/$EUID = 1002 / 1002
    $GID = 1002 1002
    $EGID = 1002 1002

Perl module toolchain versions installed:

    Module              Have    
    ------------------- --------
    CPAN                2.38    
    CPAN::Meta          2.150010
    Cwd                 3.94    
    ExtUtils::CBuilder  0.280241
    ExtUtils::Command   7.74    
    ExtUtils::Install   2.22    
    ExtUtils::MakeMaker 7.74    
    ExtUtils::Manifest  1.75    
    ExtUtils::ParseXS   3.57    
    File::Spec          3.94    
    JSON                4.10    
    JSON::PP            4.16    
    Module::Build       0.4234  
    Module::Signature   0.89    
    Parse::CPAN::Meta   2.150010
    Test2               1.302211
    Test::Harness       3.50    
    Test::More          1.302211
    YAML                1.31    
    YAML::Syck          1.34    
    version             0.9933  


--

Summary of my perl5 (revision 5 version 41 subversion 13) configuration:
  Commit id: 29cc8053c53cd1d31c48caef82b715a48368374d
  Platform:
    osname=midnightbsd
    osvers=3.2.1
    archname=amd64-midnightbsd-thread-multi
    uname='midnightbsd cjg-midnightbsd3 3.2.1 midnightbsd 3.2.1 #15n13132-0869ed7092(stable3.2)-dirty: wed nov 6 12:53:25 est 2024 root@m3264:usrobjusrsrcamd64.amd64sysgeneric amd64 '
    config_args='-des -Dprefix=/home/cpan/bin/perl -Dscriptdir=/home/cpan/bin/perl/bin -Dusedevel -Duse64bitall -Duseithreads'
    hint=recommended
    useposix=true
    d_sigaction=define
    useithreads=define
    usemultiplicity=define
    use64bitint=define
    use64bitall=define
    uselongdouble=undef
    usemymalloc=n
    default_inc_excludes_dot=define
  Compiler:
    cc='cc'
    ccflags ='-DHAS_FPSETMASK -DHAS_FLOATINGPOINT_H -fno-strict-aliasing -pipe -fstack-protector-strong -I/usr/local/include'
    optimize='-O'
    cppflags='-DHAS_FPSETMASK -DHAS_FLOATINGPOINT_H -fno-strict-aliasing -pipe -fstack-protector-strong -I/usr/local/include'
    ccversion=''
    gccversion='MidnightBSD Clang 13.0.0 (git@github.com:llvm/llvm-project.git llvmorg-13.0.0-0-gd7b669b3a303)'
    gccosandvers=''
    intsize=4
    longsize=8
    ptrsize=8
    doublesize=8
    byteorder=12345678
    doublekind=3
    d_longlong=define
    longlongsize=8
    d_longdbl=define
    longdblsize=16
    longdblkind=3
    ivtype='long'
    ivsize=8
    nvtype='double'
    nvsize=8
    Off_t='off_t'
    lseeksize=8
    alignbytes=8
    prototype=define
  Linker and Libraries:
    ld='cc'
    ldflags ='-pthread -Wl,-E  -fstack-protector-strong -L/usr/local/lib'
    libpth=/usr/lib /usr/local/lib /usr/lib/clang/13.0.0/lib
    libs=-lpthread -lgdbm -ldl -lm -lcrypt
    perllibs=-lpthread -ldl -lm -lcrypt
    libc=
    so=so
    useshrplib=false
    libperl=libperl.a
    gnulibc_version=''
  Dynamic Linking:
    dlsrc=dl_dlopen.xs
    dlext=so
    d_dlsymun=undef
    ccdlflags=' '
    cccdlflags='-DPIC -fPIC'
    lddlflags='-shared  -L/usr/local/lib -fstack-protector-strong'


Characteristics of this binary (from libperl): 
  Compile-time options:
    HAS_LONG_DOUBLE
    HAS_STRTOLD
    HAS_TIMES
    MULTIPLICITY
    PERLIO_LAYERS
    PERL_COPY_ON_WRITE
    PERL_DONT_CREATE_GVSV
    PERL_HASH_FUNC_SIPHASH13
    PERL_HASH_USE_SBOX32
    PERL_MALLOC_WRAP
    PERL_OP_PARENT
    PERL_PRESERVE_IVUV
    PERL_USE_DEVEL
    PERL_USE_SAFE_PUTENV
    USE_64_BIT_ALL
    USE_64_BIT_INT
    USE_ITHREADS
    USE_LARGE_FILES
    USE_LOCALE
    USE_LOCALE_COLLATE
    USE_LOCALE_CTYPE
    USE_LOCALE_NUMERIC
    USE_LOCALE_TIME
    USE_PERLIO
    USE_PERL_ATOF
    USE_REENTRANT_API
    USE_THREAD_SAFE_LOCALE
  Built under midnightbsd
  Compiled at May  5 2025 17:05:47
  %ENV:
    PERL5LIB=""
    PERL5OPT=""
    PERL5_CPANPLUS_IS_RUNNING="58226"
    PERL5_CPAN_IS_RUNNING="58226"
    PERL_MM_USE_DEFAULT="1"
    PERL_USE_UNSAFE_INC="1"
  @INC:
    /home/cpan/bin/perl/lib/site_perl/5.41.13/amd64-midnightbsd-thread-multi
    /home/cpan/bin/perl/lib/site_perl/5.41.13
    /home/cpan/bin/perl/lib/5.41.13/amd64-midnightbsd-thread-multi
    /home/cpan/bin/perl/lib/5.41.13
    .