Text-Tradition-Analysis v2.0.4 Perl 5 v5.20.0 x86_64-linux

Status
Pass
From
Nedzad Hrnjica (NHRNJICA)
Dist
Text-Tradition-Analysis v2.0.4
Platform
Perl 5 v5.20.0 x86_64-linux
Date
2022-08-27T23:04:59
ID
ac70c43e-265c-11ed-b3bb-dd8419f29030
This distribution has been tested as part of the CPAN Testers
project, supporting the Perl programming language.  See
http://wiki.cpantesters.org/ for more information or email
questions to cpan-testers-discuss@perl.org


--
Dear AURUM,

This is a computer-generated report for Text-Tradition-Analysis-2.0.4
on perl 5.20.0, created by App::cpanminus::reporter 0.17 (1.7046).

Thank you for uploading your work to CPAN.  Congratulations!
All tests were successful.

Sections of this report:

    * Tester comments
    * Program output
    * Prerequisites
    * Environment and other context

------------------------------
TESTER COMMENTS
------------------------------

Additional comments from tester:

none provided

------------------------------
PROGRAM OUTPUT
------------------------------

Output from '':

Running Makefile.PL
Warning: prerequisite Algorithm::Diff 0 not found.
Warning: prerequisite Bio::Phylo::IO 0 not found.
Warning: prerequisite Data::Validate::IP 0 not found.
Warning: prerequisite File::chdir 0 not found.
Warning: prerequisite Graph 0 not found.
Warning: prerequisite Graph::Reader::Dot 0 not found.
Warning: prerequisite IPC::Run 0 not found.
Warning: prerequisite JSON 0 not found.
Warning: prerequisite Moose 0 not found.
Warning: prerequisite Moose::Role 0 not found.
Warning: prerequisite Set::Scalar 0 not found.
Warning: prerequisite Test::More::UTF8 0 not found.
Warning: prerequisite Text::Tradition v2.0.0 not found.
Warning: prerequisite Text::Tradition::Directory 0 not found.
Warning: prerequisite Text::Tradition::Error 0 not found.
Warning: prerequisite TryCatch 0 not found.
Generating a Unix-style Makefile
Writing Makefile for Text::Tradition::Analysis
Writing MYMETA.yml and MYMETA.json
-> OK
Checking dependencies from MYMETA.json ...
Checking if you have Data::Validate::IP 0 ... No
Checking if you have LWP::UserAgent 0 ... Yes (6.67)
Checking if you have JSON 0 ... No
Checking if you have Graph::Reader::Dot 0 ... No
Checking if you have Text::Tradition v2.0.0 ... No
Checking if you have LWP::Protocol::https 0 ... Yes (6.10)
Checking if you have File::chdir 0 ... No
Checking if you have Date::Parse 0 ... Yes (2.33)
Checking if you have Set::Scalar 0 ... No
Checking if you have Moose 0 ... No
Checking if you have TryCatch 0 ... No
Checking if you have Algorithm::Diff 0 ... No
Checking if you have ExtUtils::MakeMaker 0 ... Yes (7.64)
Checking if you have Moose::Role 0 ... No
Checking if you have Test::More::UTF8 0 ... No
Checking if you have Graph 0 ... No
Checking if you have Text::Tradition::Directory 0 ... No
Checking if you have Text::Tradition::Error 0 ... No
Checking if you have Bio::Phylo::IO 0 ... No
Checking if you have IPC::Run 0 ... No
Checking if you have File::Which 0 ... Yes (1.27)
==> Found dependencies: Data::Validate::IP, JSON, Graph::Reader::Dot, Text::Tradition, File::chdir, Set::Scalar, Moose, TryCatch, Algorithm::Diff, Moose::Role, Test::More::UTF8, Graph, Text::Tradition::Directory, Text::Tradition::Error, Bio::Phylo::IO, IPC::Run
Searching Data::Validate::IP (0) on cpanmetadb ...
--> Working on Data::Validate::IP
Fetching http://www.cpan.org/authors/id/D/DR/DROLSKY/Data-Validate-IP-0.30.tar.gz
-> OK
Unpacking Data-Validate-IP-0.30.tar.gz
make[1]: Leaving directory '/home/liveapp/cpantesters.new/5.20.0/.cpanm_temp/work/1661640537.2082854/NetAddr-IP-4.079/Lite'
PERL_DL_NONLAZY=1 "/home/liveapp/.plenv/versions/5.20.0/bin/perl5.20.0" "-MExtUtils::Command::MM" "-MTest::Harness" "-e" "undef *Test::Harness::Switches; test_harness(0, 'blib/lib', 'blib/arch')" t/*.t
t/canon.t .......... ok
t/constants.t ...... ok
t/full.t ........... ok
t/full6-uri.t ...... ok
t/full6.t .......... ok
t/imhoff.t ......... ok
t/loops.t .......... ok
t/lower.t .......... ok
t/masklen.t ........ ok
t/new-store.t ...... ok
t/nofqdn.t ......... ok
t/old-store.t ...... ok
t/over-arr.t ....... ok
t/over-qq.t ........ ok
t/relops.t ......... ok
t/rfc3021.t ........ ok
t/short.t .......... ok
t/splitref.t ....... ok
t/v4-coalesce.t .... ok
t/v4-compact.t ..... ok
t/v4-compplus.t .... ok
t/v4-hostenum.t .... ok
t/v4-re.t .......... ok
t/v4-split-bulk.t .. ok
t/v4-split-list.t .. ok
t/v4-splitplan.t ... ok
t/v4-sprefix.t ..... ok
t/v4-xprefix.t ..... ok
t/v6-re.t .......... ok
t/v6-split-bulk.t .. ok
t/v6-splitplan.t ... ok
t/wildcard.t ....... ok
All tests successful.
Files=32, Tests=9538,  5 wallclock secs ( 0.64 usr  0.09 sys +  3.57 cusr  0.42 csys =  4.72 CPU)
Result: PASS

------------------------------
PREREQUISITES
------------------------------

Prerequisite modules loaded:

runtime:

    Module                     Need    Have      
    -------------------------- ------- ----------
    Algorithm::Diff            0       1.201     
    Bio::Phylo::IO             0       0         
    Data::Validate::IP         0       0.30      
    Date::Parse                0       2.33      
    File::chdir                0       0.1011    
    File::Which                0       1.27      
    Graph                      0       0.9725    
    Graph::Reader::Dot         0       2.10      
    IPC::Run                   0       20220807.0
    JSON                       0       4.09      
    LWP::UserAgent             0       6.67      
  ! Moose                      0       n/a       
  ! Moose::Role                0       n/a       
    perl                       v5.12.0 5.020000  
    Set::Scalar                0       1.29      
  ! Text::Tradition            v2.0.0  n/a       
  ! Text::Tradition::Error     0       n/a       
  ! TryCatch                   0       n/a       

build:

    Module                     Need    Have      
    -------------------------- ------- ----------
    ExtUtils::MakeMaker        6.59    7.64      
    LWP::Protocol::https       0       6.10      
    Test::More::UTF8           0       0.05      
  ! Text::Tradition::Directory 0       n/a       

configure:

    Module                     Need    Have      
    -------------------------- ------- ----------
    ExtUtils::MakeMaker        6.59    7.64      


------------------------------
ENVIRONMENT AND OTHER CONTEXT
------------------------------

Environment variables:

    LANG = C.UTF-8
    PATH = /home/liveapp/.plenv/versions/5.20.0/bin:/home/liveapp/.plenv/libexec:/home/liveapp/.plenv/plugins/perl-build/bin:/home/liveapp/.plenv/shims:/home/liveapp/.plenv/bin:/usr/local/sbin:/usr/local/bin:/usr/sbin:/usr/bin:/sbin:/bin:/usr/games:/usr/local/games:/snap/bin
    PERL_CPANM_HOME = /home/liveapp/cpantesters.new/5.20.0/.cpanm_temp
    SHELL = /bin/bash
    TERM = xterm-256color

Perl special variables (and OS-specific diagnostics, for MSWin32):

    EGID = 1001 27 1001
    EUID = 1001
    EXECUTABLE_NAME = /home/liveapp/.plenv/versions/5.20.0/bin/perl5.20.0
    GID = 1001 27 1001
    UID = 1001

Perl module toolchain versions installed:

    Module              Have    
    ------------------- --------
    CPAN                2.05    
    CPAN::Meta          2.150010
    Cwd                 3.75    
    ExtUtils::CBuilder  0.280236
    ExtUtils::Command   7.64    
    ExtUtils::Install   2.06    
    ExtUtils::MakeMaker 7.64    
    ExtUtils::Manifest  1.70    
    ExtUtils::ParseXS   3.44    
    File::Spec          3.75    
    JSON                4.09    
    JSON::PP            4.11    
    Module::Build       0.4231  
    Module::Signature   n/a     
    Parse::CPAN::Meta   2.150010
    Test::Harness       3.44    
    Test::More          1.302191
    YAML                1.30    
    YAML::Syck          n/a     
    version             0.9929  


--

Summary of my perl5 (revision 5 version 20 subversion 0) configuration:
   
  Platform:
    osname=linux, osvers=5.4.0-91-generic, archname=x86_64-linux
    uname='linux supremeadmin 5.4.0-91-generic #102-ubuntu smp fri nov 5 16:31:28 utc 2021 x86_64 x86_64 x86_64 gnulinux '
    config_args='-Dprefix=/home/liveapp/.plenv/versions/5.20.0 -de -Dversiononly -A'eval:scriptdir=/home/liveapp/.plenv/versions/5.20.0/bin''
    hint=recommended, useposix=true, d_sigaction=define
    useithreads=undef, usemultiplicity=undef
    use64bitint=define, use64bitall=define, uselongdouble=undef
    usemymalloc=n, bincompat5005=undef
  Compiler:
    cc='cc', ccflags ='-fwrapv -fno-strict-aliasing -pipe -fstack-protector -I/usr/local/include -D_LARGEFILE_SOURCE -D_FILE_OFFSET_BITS=64',
    optimize='-O2',
    cppflags='-fwrapv -fno-strict-aliasing -pipe -fstack-protector -I/usr/local/include'
    ccversion='', gccversion='9.4.0', gccosandvers=''
    intsize=4, longsize=8, ptrsize=8, doublesize=8, byteorder=12345678
    d_longlong=define, longlongsize=8, d_longdbl=define, longdblsize=16
    ivtype='long', ivsize=8, nvtype='double', nvsize=8, Off_t='off_t', lseeksize=8
    alignbytes=8, prototype=define
  Linker and Libraries:
    ld='cc', ldflags =' -fstack-protector -L/usr/local/lib'
    libpth=/usr/local/lib /usr/include/x86_64-linux-gnu /usr/lib /lib/x86_64-linux-gnu /lib/../lib /usr/lib/x86_64-linux-gnu /usr/lib/../lib /lib
    libs=-lnsl -ldl -lm -lcrypt -lutil -lc
    perllibs=-lnsl -ldl -lm -lcrypt -lutil -lc
    libc=libc-2.31.so, so=so, useshrplib=false, libperl=libperl.a
    gnulibc_version='2.31'
  Dynamic Linking:
    dlsrc=dl_dlopen.xs, dlext=so, d_dlsymun=undef, ccdlflags='-Wl,-E'
    cccdlflags='-fPIC', lddlflags='-shared -O2 -L/usr/local/lib -fstack-protector'


Characteristics of this binary (from libperl): 
  Compile-time options: HAS_TIMES PERLIO_LAYERS PERL_DONT_CREATE_GVSV
                        PERL_HASH_FUNC_ONE_AT_A_TIME_HARD PERL_MALLOC_WRAP
                        PERL_NEW_COPY_ON_WRITE PERL_PRESERVE_IVUV
                        USE_64_BIT_ALL USE_64_BIT_INT USE_LARGE_FILES
                        USE_LOCALE USE_LOCALE_COLLATE USE_LOCALE_CTYPE
                        USE_LOCALE_NUMERIC USE_PERLIO USE_PERL_ATOF
  Locally applied patches:
	Devel::PatchPerl 2.08
  Built under linux
  Compiled at Aug  8 2022 07:29:32
  %ENV:
    PERL_CPANM_HOME="/home/liveapp/cpantesters.new/5.20.0/.cpanm_temp"
  @INC:
    /home/liveapp/.plenv/versions/5.20.0/lib/perl5/site_perl/5.20.0/x86_64-linux
    /home/liveapp/.plenv/versions/5.20.0/lib/perl5/site_perl/5.20.0
    /home/liveapp/.plenv/versions/5.20.0/lib/perl5/5.20.0/x86_64-linux
    /home/liveapp/.plenv/versions/5.20.0/lib/perl5/5.20.0
    .