Report for Net-RabbitMQ-0.2.0

Back
From: metabase:user:322078bc-2aae-11df-837a-5e0a49663a4f
Subject: FAIL Net-RabbitMQ-0.2.0 v5.14.0 FreeBSD
Date: 2011-06-07T13:47:31Z

This distribution has been tested as part of the CPAN Testers
project, supporting the Perl programming language.  See
http://wiki.cpantesters.org/ for more information or email
questions to cpan-testers-discuss@perl.org


--

Dear Theo Schlossnagle,

This is a computer-generated error report created automatically by
CPANPLUS, version 0.9105. Testers personal comments may appear
at the end of this report.


Thank you for uploading your work to CPAN.  However, it appears that
there were some problems testing your distribution.

TEST RESULTS:

Below is the error stack from stage 'make test':

[MSG] [Tue Jun  7 14:47:18 2011] cp lib/Class/Easy/Base.pm blib/lib/Class/Easy/Base.pm
cp lib/Class/Easy/Timer.pm blib/lib/Class/Easy/Timer.pm
cp lib/Class/Easy/Log/Tie.pm blib/lib/Class/Easy/Log/Tie.pm
cp lib/Class/Easy/MRO.pm blib/lib/Class/Easy/MRO.pm
cp lib/Class/Easy/PP.pm blib/lib/Class/Easy/PP.pm
cp lib/Class/Easy.pm blib/lib/Class/Easy.pm
cp lib/Class/Easy/Log.pm blib/lib/Class/Easy/Log.pm
/usr/home/cpan/pit/bare/perl-5.14.0/bin/perl /usr/home/cpan/pit/bare/perl-5.14.0/lib/5.14.0/ExtUtils/xsubpp  -typemap /usr/home/cpan/pit/bare/perl-5.14.0/lib/5.14.0/ExtUtils/typemap  Easy.xs > Easy.xsc && mv Easy.xsc Easy.c
cc -c    -DHAS_FPSETMASK -DHAS_FLOATINGPOINT_H -fno-strict-aliasing -pipe -fstack-protector -I/usr/local/include -O    -DVERSION=\"0.16\"  -DXS_VERSION=\"0.16\" -DPIC -fPIC "-I/usr/home/cpan/pit/bare/perl-5.14.0/lib/5.14.0/amd64-freebsd/CORE"   Easy.c
Running Mkbootstrap for Class::Easy ()
chmod 644 Easy.bs
rm -f blib/arch/auto/Class/Easy/Easy.so
cc  -shared  -L/usr/local/lib -fstack-protector Easy.o  -o blib/arch/auto/Class/Easy/Easy.so 	    	 
chmod 755 blib/arch/auto/Class/Easy/Easy.so
cp Easy.bs blib/arch/auto/Class/Easy/Easy.bs
chmod 644 blib/arch/auto/Class/Easy/Easy.bs
Manifying blib/man3/Class::Easy::Base.3
Manifying blib/man3/Class::Easy::Timer.3
Manifying blib/man3/Class::Easy.3
/usr/home/cpan/pit/bare/perl-5.14.0/bin/perl "-Iblib/arch" "-Iblib/lib" Import.pm.PL blib/lib/Class/Easy/Import.pm

[MSG] [Tue Jun  7 14:47:23 2011] MAKE TEST passed: PERL_DL_NONLAZY=1 /usr/home/cpan/pit/bare/perl-5.14.0/bin/perl "-MExtUtils::Command::MM" "-e" "test_harness(0, 'blib/lib', 'blib/arch')" t/*.t
t/000-accessor.t ......... ok
Subroutine My::Circle::global_hash_rw redefined at /usr/home/cpan/pit/bare/conf/perl-5.14.0/.cpanplus/5.14.0/build/Class-Easy-0.16/blib/lib/Class/Easy.pm line 138.
Subroutine My::Circle::global_hash_rw_default redefined at /usr/home/cpan/pit/bare/conf/perl-5.14.0/.cpanplus/5.14.0/build/Class-Easy-0.16/blib/lib/Class/Easy.pm line 138.
Subroutine My::Sphere::global_one redefined at /usr/home/cpan/pit/bare/conf/perl-5.14.0/.cpanplus/5.14.0/build/Class-Easy-0.16/blib/lib/Class/Easy.pm line 138.
Subroutine My::Sphere::global_one_defined redefined at /usr/home/cpan/pit/bare/conf/perl-5.14.0/.cpanplus/5.14.0/build/Class-Easy-0.16/blib/lib/Class/Easy.pm line 138.
t/001-timer.t ............ ok
t/002-log.t .............. ok
t/004-strict-warnings.t .. ok
t/005-pod-coverage.t ..... skipped: Test::Pod::Coverage required for testing pod coverage
Use of uninitialized value $file in pattern match (m//) at /usr/home/cpan/pit/bare/perl-5.14.0/lib/5.14.0/amd64-freebsd/File/Spec/Unix.pm line 211.
Use of uninitialized value $_[1] in join or string at /usr/home/cpan/pit/bare/perl-5.14.0/lib/5.14.0/amd64-freebsd/File/Spec/Unix.pm line 86.
t/006-base.t ............. ok
All tests successful.
Files=6, Tests=84,  5 wallclock secs ( 0.03 usr  0.12 sys +  0.08 cusr  0.51 csys =  0.73 CPU)
Result: PASS

[MSG] [Tue Jun  7 14:47:23 2011] Sending test report for 'Class-Easy-0.16'
[MSG] [Tue Jun  7 14:47:23 2011] Successfully sent 'pass' report for 'Class-Easy-0.16'
[ERROR] [Tue Jun  7 14:47:23 2011] This distribution depends on Net::RabbitMQ, but the latest version of Net::RabbitMQ on CPAN (0.002000) doesn't satisfy the specific version dependency (0.1.8). You may have to resolve this dependency manually.
[MSG] [Tue Jun  7 14:47:23 2011] Trying to get 'ftp://cpan.bingosnet.co.uk/CPAN/authors/id/J/JE/JESUS/Net-RabbitMQ-0.2.0.tar.gz'
[MSG] [Tue Jun  7 14:47:24 2011] Trying to get 'ftp://cpan.bingosnet.co.uk/CPAN/authors/id/J/JE/JESUS/CHECKSUMS'
[MSG] [Tue Jun  7 14:47:25 2011] Checksum matches for 'Net-RabbitMQ-0.2.0.tar.gz'
[MSG] [Tue Jun  7 14:47:25 2011] Extracted 'Net::RabbitMQ' to '/usr/home/cpan/pit/bare/conf/perl-5.14.0/.cpanplus/5.14.0/build/Net-RabbitMQ-0.2.0'
[MSG] [Tue Jun  7 14:47:25 2011] CPANPLUS is prefering Build.PL
[MSG] [Tue Jun  7 14:47:25 2011] Checking if your kit is complete...
Looks good
Writing Makefile for Net::RabbitMQ
Writing MYMETA.yml

[MSG] [Tue Jun  7 14:47:25 2011] DEFAULT 'filter_prereqs' HANDLER RETURNING 'sub return value'
[MSG] [Tue Jun  7 14:47:25 2011] Checking for previous PASS result for "Net-RabbitMQ-0.2.0"
[ERROR] [Tue Jun  7 14:47:29 2011] MAKE failed: No such file or directory cp RabbitMQ.pm blib/lib/Net/RabbitMQ.pm
/usr/home/cpan/pit/bare/perl-5.14.0/bin/perl /usr/home/cpan/pit/bare/perl-5.14.0/lib/5.14.0/ExtUtils/xsubpp  -typemap /usr/home/cpan/pit/bare/perl-5.14.0/lib/5.14.0/ExtUtils/typemap -typemap typemap  RabbitMQ.xs > RabbitMQ.xsc && mv RabbitMQ.xsc RabbitMQ.c
cc -c    -DHAS_FPSETMASK -DHAS_FLOATINGPOINT_H -fno-strict-aliasing -pipe -fstack-protector -I/usr/local/include -O    -DVERSION=\"0.2.0\"  -DXS_VERSION=\"0.2.0\" -DPIC -fPIC "-I/usr/home/cpan/pit/bare/perl-5.14.0/lib/5.14.0/amd64-freebsd/CORE"   RabbitMQ.c
cc -c    -DHAS_FPSETMASK -DHAS_FLOATINGPOINT_H -fno-strict-aliasing -pipe -fstack-protector -I/usr/local/include -O    -DVERSION=\"0.2.0\"  -DXS_VERSION=\"0.2.0\" -DPIC -fPIC "-I/usr/home/cpan/pit/bare/perl-5.14.0/lib/5.14.0/amd64-freebsd/CORE"   amqp_api.c
In file included from amqp_api.c:16:
amqp.h:177: warning: 'struct timeval' declared inside parameter list
amqp.h:177: warning: its scope is only this definition or declaration, which is probably not what you want
cc -c    -DHAS_FPSETMASK -DHAS_FLOATINGPOINT_H -fno-strict-aliasing -pipe -fstack-protector -I/usr/local/include -O    -DVERSION=\"0.2.0\"  -DXS_VERSION=\"0.2.0\" -DPIC -fPIC "-I/usr/home/cpan/pit/bare/perl-5.14.0/lib/5.14.0/amd64-freebsd/CORE"   amqp_connection.c
cc -c    -DHAS_FPSETMASK -DHAS_FLOATINGPOINT_H -fno-strict-aliasing -pipe -fstack-protector -I/usr/local/include -O    -DVERSION=\"0.2.0\"  -DXS_VERSION=\"0.2.0\" -DPIC -fPIC "-I/usr/home/cpan/pit/bare/perl-5.14.0/lib/5.14.0/amd64-freebsd/CORE"   amqp_debug.c
cc -c    -DHAS_FPSETMASK -DHAS_FLOATINGPOINT_H -fno-strict-aliasing -pipe -fstack-protector -I/usr/local/include -O    -DVERSION=\"0.2.0\"  -DXS_VERSION=\"0.2.0\" -DPIC -fPIC "-I/usr/home/cpan/pit/bare/perl-5.14.0/lib/5.14.0/amd64-freebsd/CORE"   amqp_framing.c
In file included from amqp_framing.c:7:
amqp.h:39: error: expected specifier-qualifier-list before 'int32_t'
amqp.h:75: error: expected specifier-qualifier-list before 'uint8_t'
amqp.h:177: warning: 'struct timeval' declared inside parameter list
amqp.h:177: warning: its scope is only this definition or declaration, which is probably not what you want
amqp.h:301: error: expected declaration specifiers or '...' before 'uint64_t'
In file included from amqp_framing.c:8:
amqp_framing.h:62: error: expected specifier-qualifier-list before 'uint8_t'
amqp_framing.h:352: error: expected specifier-qualifier-list before 'uint64_t'
amqp_framing.h:367: error: expected specifier-qualifier-list before 'uint64_t'
amqp_framing.h:381: error: expected specifier-qualifier-list before 'uint64_t'
amqp_framing.h:387: error: expected specifier-qualifier-list before 'uint64_t'
amqp_framing.h:438: error: expected specifier-qualifier-list before 'uint64_t'
amqp_framing.h:443: error: expected specifier-qualifier-list before 'uint64_t'
amqp_framing.h:472: error: expected specifier-qualifier-list before 'uint64_t'
amqp_framing.h:481: error: expected specifier-qualifier-list before 'uint64_t'
amqp_framing.h:487: error: expected specifier-qualifier-list before 'uint64_t'
amqp_framing.h:550: error: expected specifier-qualifier-list before 'uint64_t'
amqp_framing.h:612: error: expected specifier-qualifier-list before 'uint8_t'
amqp_framing.h:621: error: expected specifier-qualifier-list before 'uint64_t'
amqp_framing.h:628: error: expected specifier-qualifier-list before 'uint8_t'
amqp_framing.h:639: error: expected specifier-qualifier-list before 'uint8_t'
amqp_framing.h:645: error: expected specifier-qualifier-list before 'uint64_t'
amqp_framing.h:705: error: expected specifier-qualifier-list before 'uint8_t'
amqp_framing.h:733: error: expected specifier-qualifier-list before 'uint8_t'
amqp_framing.h:752: error: expected specifier-qualifier-list before 'uint8_t'
amqp_framing.h:777: error: expected specifier-qualifier-list before 'uint8_t'
amqp_framing.c: In function 'amqp_decode_method':
amqp_framing.c:133: error: 'uint8_t' undeclared (first use in this function)
amqp_framing.c:133: error: (Each undeclared identifier is reported only once
amqp_framing.c:133: error: for each function it appears in.)
amqp_framing.c:133: error: expected ';' before 'bit_buffer'
amqp_framing.c:138: error: 'amqp_connection_start_t' has no member named 'version_major'
amqp_framing.c:138: error: expected expression before ')' token
amqp_framing.c:140: error: 'amqp_connection_start_t' has no member named 'version_minor'
amqp_framing.c:140: error: expected expression before ')' token
amqp_framing.c:142: error: 'amqp_connection_start_t' has no member named 'server_properties'
amqp_framing.c:144: error: 'amqp_connection_start_t' has no member named 'mechanisms'
amqp_framing.c:144: error: expected expression before ')' token
amqp_framing.c:146: error: 'amqp_connection_start_t' has no member named 'mechanisms'
amqp_framing.c:146: error: 'amqp_connection_start_t' has no member named 'mechanisms'
amqp_framing.c:146: error: expected expression before ')' token
amqp_framing.c:147: error: 'amqp_connection_start_t' has no member named 'mechanisms'
amqp_framing.c:148: error: 'amqp_connection_start_t' has no member named 'locales'
amqp_framing.c:148: error: expected expression before ')' token
amqp_framing.c:150: error: 'amqp_connection_start_t' has no member named 'locales'
amqp_framing.c:150: error: 'amqp_connection_start_t' has no member named 'locales'
amqp_framing.c:150: error: expected expression before ')' token
amqp_framing.c:151: error: 'amqp_connection_start_t' has no member named 'locales'
amqp_framing.c:159: error: expected expression before ')' token
amqp_framing.c:161: error: expected expression before ')' token
amqp_framing.c:163: error: expected expression before ')' token
amqp_framing.c:165: error: expected expression before ')' token
amqp_framing.c:167: error: expected expression before ')' token
amqp_framing.c:169: error: expected expression before ')' token
amqp_framing.c:176: error: expected expression before ')' token
amqp_framing.c:178: error: expected expression before ')' token
amqp_framing.c:185: error: expected expression before ')' token
amqp_framing.c:187: error: expected expression before ')' token
amqp_framing.c:194: error: expected expression before ')' token
amqp_framing.c:196: error: expected expression before ')' token
amqp_framing.c:198: error: expected expression before ')' token
amqp_framing.c:205: error: expected expression before ')' token
amqp_framing.c:207: error: expected expression before ')' token
amqp_framing.c:209: error: expected expression before ')' token
amqp_framing.c:216: error: expected expression before ')' token
amqp_framing.c:218: error: expected expression before ')' token
amqp_framing.c:220: error: expected expression before ')' token
amqp_framing.c:222: error: expected expression before ')' token
amqp_framing.c:224: error: 'bit_buffer' undeclared (first use in this function)
amqp_framing.c:224: error: expected expression before ')' token
amqp_framing.c:232: error: expected expression before ')' token
amqp_framing.c:234: error: expected expression before ')' token
amqp_framing.c:241: error: expected expression before ')' token
amqp_framing.c:243: error: expected expression before ')' token
amqp_framing.c:245: error: expected expression before ')' token
amqp_framing.c:247: error: expected expression before ')' token
amqp_framing.c:254: error: expected expression before ')' token
amqp_framing.c:256: error: expected expression before ')' token
amqp_framing.c:258: error: expected expression before ')' token
amqp_framing.c:260: error: expected expression before ')' token
amqp_framing.c:262: error: expected expression before ')' token
amqp_framing.c:274: error: expected expression before ')' token
amqp_framing.c:276: error: expected expression before ')' token
amqp_framing.c:288: error: expected expression before ')' token
amqp_framing.c:296: error: expected expression before ')' token
amqp_framing.c:304: error: expected expression before ')' token
amqp_framing.c:306: error: expected expression before ')' token
amqp_framing.c:308: error: expected expression before ')' token
amqp_framing.c:317: error: expected expression before ')' token
amqp_framing.c:319: error: expected expression before ')' token
amqp_framing.c:321: error: expected expression before ')' token
amqp_framing.c:323: error: expected expression before ')' token
amqp_framing.c:325: error: expected expression before ')' token
amqp_framing.c:337: error: expected expression before ')' token
amqp_framing.c:339: error: expected expression before ')' token
amqp_framing.c:341: error: expected expression before ')' token
amqp_framing.c:353: error: expected expression before ')' token
amqp_framing.c:360: error: expected expression before ')' token
amqp_framing.c:362: error: expected expression before ')' token
amqp_framing.c:364: error: expected expression before ')' token
amqp_framing.c:366: error: expected expression before ')' token
amqp_framing.c:368: error: expected expression before ')' token
amqp_framing.c:370: error: expected expression before ')' token
amqp_framing.c:389: error: expected expression before ')' token
amqp_framing.c:391: error: expected expression before ')' token
amqp_framing.c:393: error: expected expression before ')' token
amqp_framing.c:395: error: expected expression before ')' token
amqp_framing.c:409: error: expected expression before ')' token
amqp_framing.c:411: error: expected expression before ')' token
amqp_framing.c:413: error: expected expression before ')' token
amqp_framing.c:415: error: expected expression before ')' token
amqp_framing.c:429: error: expected expression before ')' token
amqp_framing.c:431: error: expected expression before ')' token
amqp_framing.c:433: error: expected expression before ')' token
amqp_framing.c:435: error: expected expression before ')' token
amqp_framing.c:442: error: expected expression before ')' token
amqp_framing.c:444: error: expected expression before ')' token
amqp_framing.c:446: error: expected expression before ')' token
amqp_framing.c:448: error: expected expression before ')' token
amqp_framing.c:450: error: expected expression before ')' token
amqp_framing.c:452: error: expected expression before ')' token
amqp_framing.c:454: error: expected expression before ')' token
amqp_framing.c:456: error: expected expression before ')' token
amqp_framing.c:471: error: expected expression before ')' token
amqp_framing.c:473: error: expected expression before ')' token
amqp_framing.c:475: error: expected expression before ')' token
amqp_framing.c:477: error: expected expression before ')' token
amqp_framing.c:485: error: expected expression before ')' token
amqp_framing.c:492: error: expected expression before ')' token
amqp_framing.c:494: error: expected expression before ')' token
amqp_framing.c:496: error: expected expression before ')' token
amqp_framing.c:498: error: expected expression before ')' token
amqp_framing.c:508: error: expected expression before ')' token
amqp_framing.c:515: error: expected expression before ')' token
amqp_framing.c:517: error: expected expression before ')' token
amqp_framing.c:519: error: expected expression before ')' token
amqp_framing.c:521: error: expected expression before ')' token
amqp_framing.c:523: error: expected expression before ')' token
amqp_framing.c:525: error: expected expression before ')' token
amqp_framing.c:527: error: expected expression before ')' token
amqp_framing.c:541: error: expected expression before ')' token
amqp_framing.c:543: error: expected expression before ')' token
amqp_framing.c:545: error: expected expression before ')' token
amqp_framing.c:558: error: expected expression before ')' token
amqp_framing.c:560: error: expected expression before ')' token
amqp_framing.c:562: error: expected expression before ')' token
amqp_framing.c:564: error: expected expression before ')' token
amqp_framing.c:566: error: expected expression before ')' token
amqp_framing.c:568: error: expected expression before ')' token
amqp_framing.c:579: error: expected expression before ')' token
amqp_framing.c:581: error: expected expression before ')' token
amqp_framing.c:588: error: expected expression before ')' token
amqp_framing.c:590: error: expected expression before ')' token
amqp_framing.c:592: error: expected expression before ')' token
amqp_framing.c:600: error: expected expression before ')' token
amqp_framing.c:602: error: expected expression before ')' token
amqp_framing.c:609: error: expected expression before ')' token
amqp_framing.c:611: error: expected expression before ')' token
amqp_framing.c:613: error: expected expression before ')' token
amqp_framing.c:615: error: expected expression before ')' token
amqp_framing.c:617: error: expected expression before ')' token
amqp_framing.c:619: error: expected expression before ')' token
amqp_framing.c:628: error: expected expression before ')' token
amqp_framing.c:630: error: expected expression before ')' token
amqp_framing.c:632: error: expected expression before ')' token
amqp_framing.c:634: error: expected expression before ')' token
amqp_framing.c:636: error: expected expression before ')' token
amqp_framing.c:638: error: expected expression before ')' token
amqp_framing.c:640: error: expected expression before ')' token
amqp_framing.c:647: error: expected expression before ')' token
amqp_framing.c:649: error: expected expression before ')' token
amqp_framing.c:651: error: 'amqp_basic_deliver_t' has no member named 'delivery_tag'
amqp_framing.c:651: error: 'uint64_t' undeclared (first use in this function)
amqp_framing.c:651: error: expected ';' before 'hi'
amqp_framing.c:651: error: expected ';' before 'lo'
amqp_framing.c:651: error: 'hi' undeclared (first use in this function)
amqp_framing.c:651: error: 'lo' undeclared (first use in this function)
amqp_framing.c:653: error: expected expression before ')' token
amqp_framing.c:655: error: 'amqp_basic_deliver_t' has no member named 'redelivered'
amqp_framing.c:656: error: 'amqp_basic_deliver_t' has no member named 'exchange'
amqp_framing.c:656: error: expected expression before ')' token
amqp_framing.c:658: error: 'amqp_basic_deliver_t' has no member named 'exchange'
amqp_framing.c:658: error: 'amqp_basic_deliver_t' has no member named 'exchange'
amqp_framing.c:658: error: expected expression before ')' token
amqp_framing.c:659: error: 'amqp_basic_deliver_t' has no member named 'exchange'
amqp_framing.c:660: error: 'amqp_basic_deliver_t' has no member named 'routing_key'
amqp_framing.c:660: error: expected expression before ')' token
amqp_framing.c:662: error: 'amqp_basic_deliver_t' has no member named 'routing_key'
amqp_framing.c:662: error: 'amqp_basic_deliver_t' has no member named 'routing_key'
amqp_framing.c:662: error: expected expression before ')' token
amqp_framing.c:663: error: 'amqp_basic_deliver_t' has no member named 'routing_key'
amqp_framing.c:669: error: expected expression before ')' token
amqp_framing.c:671: error: expected expression before ')' token
amqp_framing.c:673: error: expected expression before ')' token
amqp_framing.c:675: error: expected expression before ')' token
amqp_framing.c:683: error: 'amqp_basic_get_ok_t' has no member named 'delivery_tag'
amqp_framing.c:683: error: expected ';' before 'hi'
amqp_framing.c:683: error: expected ';' before 'lo'
amqp_framing.c:685: error: expected expression before ')' token
amqp_framing.c:687: error: 'amqp_basic_get_ok_t' has no member named 'redelivered'
amqp_framing.c:688: error: 'amqp_basic_get_ok_t' has no member named 'exchange'
amqp_framing.c:688: error: expected expression before ')' token
amqp_framing.c:690: error: 'amqp_basic_get_ok_t' has no member named 'exchange'
amqp_framing.c:690: error: 'amqp_basic_get_ok_t' has no member named 'exchange'
amqp_framing.c:690: error: expected expression before ')' token
amqp_framing.c:691: error: 'amqp_basic_get_ok_t' has no member named 'exchange'
amqp_framing.c:692: error: 'amqp_basic_get_ok_t' has no member named 'routing_key'
amqp_framing.c:692: error: expected expression before ')' token
amqp_framing.c:694: error: 'amqp_basic_get_ok_t' has no member named 'routing_key'
amqp_framing.c:694: error: 'amqp_basic_get_ok_t' has no member named 'routing_key'
amqp_framing.c:694: error: expected expression before ')' token
amqp_framing.c:695: error: 'amqp_basic_get_ok_t' has no member named 'routing_key'
amqp_framing.c:696: error: 'amqp_basic_get_ok_t' has no member named 'message_count'
amqp_framing.c:696: error: expected expression before ')' token
amqp_framing.c:703: error: expected expression before ')' token
amqp_framing.c:705: error: expected expression before ')' token
amqp_framing.c:712: error: 'amqp_basic_ack_t' has no member named 'delivery_tag'
amqp_framing.c:712: error: expected ';' before 'hi'
amqp_framing.c:712: error: expected ';' before 'lo'
amqp_framing.c:714: error: expected expression before ')' token
amqp_framing.c:716: error: 'amqp_basic_ack_t' has no member named 'multiple'
amqp_framing.c:722: error: 'amqp_basic_reject_t' has no member named 'delivery_tag'
amqp_framing.c:722: error: expected ';' before 'hi'
amqp_framing.c:722: error: expected ';' before 'lo'
amqp_framing.c:724: error: expected expression before ')' token
amqp_framing.c:726: error: 'amqp_basic_reject_t' has no member named 'requeue'
amqp_framing.c:732: error: expected expression before ')' token
amqp_framing.c:740: error: expected expression before ')' token
amqp_framing.c:742: error: expected expression before ')' token
amqp_framing.c:744: error: expected expression before ')' token
amqp_framing.c:757: error: expected expression before ')' token
amqp_framing.c:759: error: expected expression before ')' token
amqp_framing.c:761: error: expected expression before ')' token
amqp_framing.c:763: error: expected expression before ')' token
amqp_framing.c:765: error: expected expression before ')' token
amqp_framing.c:767: error: expected expression before ')' token
amqp_framing.c:778: error: expected expression before ')' token
amqp_framing.c:780: error: expected expression before ')' token
amqp_framing.c:787: error: expected expression before ')' token
amqp_framing.c:789: error: expected expression before ')' token
amqp_framing.c:791: error: expected expression before ')' token
amqp_framing.c:799: error: expected expression before ')' token
amqp_framing.c:801: error: expected expression before ')' token
amqp_framing.c:808: error: expected expression before ')' token
amqp_framing.c:810: error: expected expression before ')' token
amqp_framing.c:812: error: 'amqp_file_open_t' has no member named 'content_size'
amqp_framing.c:812: error: expected ';' before 'hi'
amqp_framing.c:812: error: expected ';' before 'lo'
amqp_framing.c:819: error: 'amqp_file_open_ok_t' has no member named 'staged_size'
amqp_framing.c:819: error: expected ';' before 'hi'
amqp_framing.c:819: error: expected ';' before 'lo'
amqp_framing.c:831: error: expected expression before ')' token
amqp_framing.c:833: error: expected expression before ')' token
amqp_framing.c:835: error: expected expression before ')' token
amqp_framing.c:837: error: expected expression before ')' token
amqp_framing.c:839: error: expected expression before ')' token
amqp_framing.c:841: error: expected expression before ')' token
amqp_framing.c:845: error: expected expression before ')' token
amqp_framing.c:847: error: expected expression before ')' token
amqp_framing.c:854: error: expected expression before ')' token
amqp_framing.c:856: error: expected expression before ')' token
amqp_framing.c:858: error: expected expression before ')' token
amqp_framing.c:860: error: expected expression before ')' token
amqp_framing.c:862: error: expected expression before ')' token
amqp_framing.c:864: error: expected expression before ')' token
amqp_framing.c:866: error: expected expression before ')' token
amqp_framing.c:873: error: expected expression before ')' token
amqp_framing.c:875: error: expected expression before ')' token
amqp_framing.c:877: error: 'amqp_file_deliver_t' has no member named 'delivery_tag'
amqp_framing.c:877: error: expected ';' before 'hi'
amqp_framing.c:877: error: expected ';' before 'lo'
amqp_framing.c:879: error: expected expression before ')' token
amqp_framing.c:881: error: 'amqp_file_deliver_t' has no member named 'redelivered'
amqp_framing.c:882: error: 'amqp_file_deliver_t' has no member named 'exchange'
amqp_framing.c:882: error: expected expression before ')' token
amqp_framing.c:884: error: 'amqp_file_deliver_t' has no member named 'exchange'
amqp_framing.c:884: error: 'amqp_file_deliver_t' has no member named 'exchange'
amqp_framing.c:884: error: expected expression before ')' token
amqp_framing.c:885: error: 'amqp_file_deliver_t' has no member named 'exchange'
amqp_framing.c:886: error: 'amqp_file_deliver_t' has no member named 'routing_key'
amqp_framing.c:886: error: expected expression before ')' token
amqp_framing.c:888: error: 'amqp_file_deliver_t' has no member named 'routing_key'
amqp_framing.c:888: error: 'amqp_file_deliver_t' has no member named 'routing_key'
amqp_framing.c:888: error: expected expression before ')' token
amqp_framing.c:889: error: 'amqp_file_deliver_t' has no member named 'routing_key'
amqp_framing.c:890: error: 'amqp_file_deliver_t' has no member named 'identifier'
amqp_framing.c:890: error: expected expression before ')' token
amqp_framing.c:892: error: 'amqp_file_deliver_t' has no member named 'identifier'
amqp_framing.c:892: error: 'amqp_file_deliver_t' has no member named 'identifier'
amqp_framing.c:892: error: expected expression before ')' token
amqp_framing.c:893: error: 'amqp_file_deliver_t' has no member named 'identifier'
amqp_framing.c:899: error: 'amqp_file_ack_t' has no member named 'delivery_tag'
amqp_framing.c:899: error: expected ';' before 'hi'
amqp_framing.c:899: error: expected ';' before 'lo'
amqp_framing.c:901: error: expected expression before ')' token
amqp_framing.c:903: error: 'amqp_file_ack_t' has no member named 'multiple'
amqp_framing.c:909: error: 'amqp_file_reject_t' has no member named 'delivery_tag'
amqp_framing.c:909: error: expected ';' before 'hi'
amqp_framing.c:909: error: expected ';' before 'lo'
amqp_framing.c:911: error: expected expression before ')' token
amqp_framing.c:913: error: 'amqp_file_reject_t' has no member named 'requeue'
amqp_framing.c:919: error: expected expression before ')' token
amqp_framing.c:921: error: expected expression before ')' token
amqp_framing.c:923: error: expected expression before ')' token
amqp_framing.c:925: error: expected expression before ')' token
amqp_framing.c:938: error: expected expression before ')' token
amqp_framing.c:940: error: expected expression before ')' token
amqp_framing.c:942: error: expected expression before ')' token
amqp_framing.c:944: error: expected expression before ')' token
amqp_framing.c:946: error: expected expression before ')' token
amqp_framing.c:948: error: expected expression before ')' token
amqp_framing.c:958: error: expected expression before ')' token
amqp_framing.c:960: error: expected expression before ')' token
amqp_framing.c:967: error: expected expression before ')' token
amqp_framing.c:969: error: expected expression before ')' token
amqp_framing.c:971: error: expected expression before ')' token
amqp_framing.c:979: error: expected expression before ')' token
amqp_framing.c:981: error: expected expression before ')' token
amqp_framing.c:988: error: expected expression before ')' token
amqp_framing.c:990: error: expected expression before ')' token
amqp_framing.c:992: error: expected expression before ')' token
amqp_framing.c:994: error: expected expression before ')' token
amqp_framing.c:996: error: expected expression before ')' token
amqp_framing.c:998: error: expected expression before ')' token
amqp_framing.c:1007: error: expected expression before ')' token
amqp_framing.c:1009: error: expected expression before ')' token
amqp_framing.c:1011: error: expected expression before ')' token
amqp_framing.c:1013: error: expected expression before ')' token
amqp_framing.c:1015: error: expected expression before ')' token
amqp_framing.c:1017: error: expected expression before ')' token
amqp_framing.c:1019: error: expected expression before ')' token
amqp_framing.c:1026: error: expected expression before ')' token
amqp_framing.c:1028: error: expected expression before ')' token
amqp_framing.c:1030: error: 'amqp_stream_deliver_t' has no member named 'delivery_tag'
amqp_framing.c:1030: error: expected ';' before 'hi'
amqp_framing.c:1030: error: expected ';' before 'lo'
amqp_framing.c:1032: error: 'amqp_stream_deliver_t' has no member named 'exchange'
amqp_framing.c:1032: error: expected expression before ')' token
amqp_framing.c:1034: error: 'amqp_stream_deliver_t' has no member named 'exchange'
amqp_framing.c:1034: error: 'amqp_stream_deliver_t' has no member named 'exchange'
amqp_framing.c:1034: error: expected expression before ')' token
amqp_framing.c:1035: error: 'amqp_stream_deliver_t' has no member named 'exchange'
amqp_framing.c:1036: error: 'amqp_stream_deliver_t' has no member named 'queue'
amqp_framing.c:1036: error: expected expression before ')' token
amqp_framing.c:1038: error: 'amqp_stream_deliver_t' has no member named 'queue'
amqp_framing.c:1038: error: 'amqp_stream_deliver_t' has no member named 'queue'
amqp_framing.c:1038: error: expected expression before ')' token
amqp_framing.c:1039: error: 'amqp_stream_deliver_t' has no member named 'queue'
amqp_framing.c:1085: error: expected expression before ')' token
amqp_framing.c:1087: error: expected expression before ')' token
amqp_framing.c:1106: error: 'amqp_test_integer_t' has no member named 'integer_1'
amqp_framing.c:1106: error: expected expression before ')' token
amqp_framing.c:1108: error: 'amqp_test_integer_t' has no member named 'integer_2'
amqp_framing.c:1108: error: expected expression before ')' token
amqp_framing.c:1110: error: 'amqp_test_integer_t' has no member named 'integer_3'
amqp_framing.c:1110: error: expected expression before ')' token
amqp_framing.c:1112: error: 'amqp_test_integer_t' has no member named 'integer_4'
amqp_framing.c:1112: error: expected ';' before 'hi'
amqp_framing.c:1112: error: expected ';' before 'lo'
amqp_framing.c:1114: error: 'amqp_test_integer_t' has no member named 'operation'
amqp_framing.c:1114: error: expected expression before ')' token
amqp_framing.c:1121: error: 'amqp_test_integer_ok_t' has no member named 'result'
amqp_framing.c:1121: error: expected ';' before 'hi'
amqp_framing.c:1121: error: expected ';' before 'lo'
amqp_framing.c:1128: error: expected expression before ')' token
amqp_framing.c:1130: error: expected expression before ')' token
amqp_framing.c:1132: error: expected expression before ')' token
amqp_framing.c:1134: error: expected expression before ')' token
amqp_framing.c:1136: error: 'amqp_test_string_t' has no member named 'operation'
amqp_framing.c:1136: error: expected expression before ')' token
amqp_framing.c:1143: error: expected expression before ')' token
amqp_framing.c:1145: error: expected expression before ')' token
amqp_framing.c:1154: error: 'amqp_test_table_t' has no member named 'integer_op'
amqp_framing.c:1154: error: expected expression before ')' token
amqp_framing.c:1156: error: 'amqp_test_table_t' has no member named 'string_op'
amqp_framing.c:1156: error: expected expression before ')' token
amqp_framing.c:1163: error: 'amqp_test_table_ok_t' has no member named 'integer_result'
amqp_framing.c:1163: error: expected ';' before 'hi'
amqp_framing.c:1163: error: expected ';' before 'lo'
amqp_framing.c:1165: error: 'amqp_test_table_ok_t' has no member named 'string_result'
amqp_framing.c:1165: error: expected expression before ')' token
amqp_framing.c:1167: error: 'amqp_test_table_ok_t' has no member named 'string_result'
amqp_framing.c:1167: error: 'amqp_test_table_ok_t' has no member named 'string_result'
amqp_framing.c:1167: error: expected expression before ')' token
amqp_framing.c:1168: error: 'amqp_test_table_ok_t' has no member named 'string_result'
amqp_framing.c:1179: error: expected expression before ')' token
amqp_framing.c: In function 'amqp_decode_properties':
amqp_framing.c:1201: error: 'uint8_t' undeclared (first use in this function)
amqp_framing.c:1201: error: expected expression before ')' token
amqp_framing.c:1242: error: expected expression before ')' token
amqp_framing.c:1244: error: expected expression before ')' token
amqp_framing.c:1248: error: expected expression before ')' token
amqp_framing.c:1250: error: expected expression before ')' token
amqp_framing.c:1258: error: 'amqp_basic_properties_t' has no member named 'delivery_mode'
amqp_framing.c:1258: error: expected expression before ')' token
amqp_framing.c:1262: error: 'amqp_basic_properties_t' has no member named 'priority'
amqp_framing.c:1262: error: expected expression before ')' token
amqp_framing.c:1266: error: 'amqp_basic_properties_t' has no member named 'correlation_id'
amqp_framing.c:1266: error: expected expression before ')' token
amqp_framing.c:1268: error: 'amqp_basic_properties_t' has no member named 'correlation_id'
amqp_framing.c:1268: error: 'amqp_basic_properties_t' has no member named 'correlation_id'
amqp_framing.c:1268: error: expected expression before ')' token
amqp_framing.c:1269: error: 'amqp_basic_properties_t' has no member named 'correlation_id'
amqp_framing.c:1272: error: 'amqp_basic_properties_t' has no member named 'reply_to'
amqp_framing.c:1272: error: expected expression before ')' token
amqp_framing.c:1274: error: 'amqp_basic_properties_t' has no member named 'reply_to'
amqp_framing.c:1274: error: 'amqp_basic_properties_t' has no member named 'reply_to'
amqp_framing.c:1274: error: expected expression before ')' token
amqp_framing.c:1275: error: 'amqp_basic_properties_t' has no member named 'reply_to'
amqp_framing.c:1278: error: 'amqp_basic_properties_t' has no member named 'expiration'
amqp_framing.c:1278: error: expected expression before ')' token
amqp_framing.c:1280: error: 'amqp_basic_properties_t' has no member named 'expiration'
amqp_framing.c:1280: error: 'amqp_basic_properties_t' has no member named 'expiration'
amqp_framing.c:1280: error: expected expression before ')' token
amqp_framing.c:1281: error: 'amqp_basic_properties_t' has no member named 'expiration'
amqp_framing.c:1284: error: 'amqp_basic_properties_t' has no member named 'message_id'
amqp_framing.c:1284: error: expected expression before ')' token
amqp_framing.c:1286: error: 'amqp_basic_properties_t' has no member named 'message_id'
amqp_framing.c:1286: error: 'amqp_basic_properties_t' has no member named 'message_id'
amqp_framing.c:1286: error: expected expression before ')' token
amqp_framing.c:1287: error: 'amqp_basic_properties_t' has no member named 'message_id'
amqp_framing.c:1290: error: 'amqp_basic_properties_t' has no member named 'timestamp'
amqp_framing.c:1290: error: 'uint64_t' undeclared (first use in this function)
amqp_framing.c:1290: error: expected ';' before 'hi'
amqp_framing.c:1290: error: expected ';' before 'lo'
amqp_framing.c:1290: error: 'hi' undeclared (first use in this function)
amqp_framing.c:1290: error: 'lo' undeclared (first use in this function)
amqp_framing.c:1294: error: 'amqp_basic_properties_t' has no member named 'type'
amqp_framing.c:1294: error: expected expression before ')' token
amqp_framing.c:1296: error: 'amqp_basic_properties_t' has no member named 'type'
amqp_framing.c:1296: error: 'amqp_basic_properties_t' has no member named 'type'
amqp_framing.c:1296: error: expected expression before ')' token
amqp_framing.c:1297: error: 'amqp_basic_properties_t' has no member named 'type'
amqp_framing.c:1300: error: 'amqp_basic_properties_t' has no member named 'user_id'
amqp_framing.c:1300: error: expected expression before ')' token
amqp_framing.c:1302: error: 'amqp_basic_properties_t' has no member named 'user_id'
amqp_framing.c:1302: error: 'amqp_basic_properties_t' has no member named 'user_id'
amqp_framing.c:1302: error: expected expression before ')' token
amqp_framing.c:1303: error: 'amqp_basic_properties_t' has no member named 'user_id'
amqp_framing.c:1306: error: 'amqp_basic_properties_t' has no member named 'app_id'
amqp_framing.c:1306: error: expected expression before ')' token
amqp_framing.c:1308: error: 'amqp_basic_properties_t' has no member named 'app_id'
amqp_framing.c:1308: error: 'amqp_basic_properties_t' has no member named 'app_id'
amqp_framing.c:1308: error: expected expression before ')' token
amqp_framing.c:1309: error: 'amqp_basic_properties_t' has no member named 'app_id'
amqp_framing.c:1312: error: 'amqp_basic_properties_t' has no member named 'cluster_id'
amqp_framing.c:1312: error: expected expression before ')' token
amqp_framing.c:1314: error: 'amqp_basic_properties_t' has no member named 'cluster_id'
amqp_framing.c:1314: error: 'amqp_basic_properties_t' has no member named 'cluster_id'
amqp_framing.c:1314: error: expected expression before ')' token
amqp_framing.c:1315: error: 'amqp_basic_properties_t' has no member named 'cluster_id'
amqp_framing.c:1324: error: expected expression before ')' token
amqp_framing.c:1326: error: expected expression before ')' token
amqp_framing.c:1330: error: expected expression before ')' token
amqp_framing.c:1332: error: expected expression before ')' token
amqp_framing.c:1340: error: 'amqp_file_properties_t' has no member named 'priority'
amqp_framing.c:1340: error: expected expression before ')' token
amqp_framing.c:1344: error: 'amqp_file_properties_t' has no member named 'reply_to'
amqp_framing.c:1344: error: expected expression before ')' token
amqp_framing.c:1346: error: 'amqp_file_properties_t' has no member named 'reply_to'
amqp_framing.c:1346: error: 'amqp_file_properties_t' has no member named 'reply_to'
amqp_framing.c:1346: error: expected expression before ')' token
amqp_framing.c:1347: error: 'amqp_file_properties_t' has no member named 'reply_to'
amqp_framing.c:1350: error: 'amqp_file_properties_t' has no member named 'message_id'
amqp_framing.c:1350: error: expected expression before ')' token
amqp_framing.c:1352: error: 'amqp_file_properties_t' has no member named 'message_id'
amqp_framing.c:1352: error: 'amqp_file_properties_t' has no member named 'message_id'
amqp_framing.c:1352: error: expected expression before ')' token
amqp_framing.c:1353: error: 'amqp_file_properties_t' has no member named 'message_id'
amqp_framing.c:1356: error: 'amqp_file_properties_t' has no member named 'filename'
amqp_framing.c:1356: error: expected expression before ')' token
amqp_framing.c:1358: error: 'amqp_file_properties_t' has no member named 'filename'
amqp_framing.c:1358: error: 'amqp_file_properties_t' has no member named 'filename'
amqp_framing.c:1358: error: expected expression before ')' token
amqp_framing.c:1359: error: 'amqp_file_properties_t' has no member named 'filename'
amqp_framing.c:1362: error: 'amqp_file_properties_t' has no member named 'timestamp'
amqp_framing.c:1362: error: expected ';' before 'hi'
amqp_framing.c:1362: error: expected ';' before 'lo'
amqp_framing.c:1366: error: 'amqp_file_properties_t' has no member named 'cluster_id'
amqp_framing.c:1366: error: expected expression before ')' token
amqp_framing.c:1368: error: 'amqp_file_properties_t' has no member named 'cluster_id'
amqp_framing.c:1368: error: 'amqp_file_properties_t' has no member named 'cluster_id'
amqp_framing.c:1368: error: expected expression before ')' token
amqp_framing.c:1369: error: 'amqp_file_properties_t' has no member named 'cluster_id'
amqp_framing.c:1378: error: expected expression before ')' token
amqp_framing.c:1380: error: expected expression before ')' token
amqp_framing.c:1384: error: expected expression before ')' token
amqp_framing.c:1386: error: expected expression before ')' token
amqp_framing.c:1394: error: 'amqp_stream_properties_t' has no member named 'priority'
amqp_framing.c:1394: error: expected expression before ')' token
amqp_framing.c:1398: error: 'amqp_stream_properties_t' has no member named 'timestamp'
amqp_framing.c:1398: error: expected ';' before 'hi'
amqp_framing.c:1398: error: expected ';' before 'lo'
amqp_framing.c:1424: error: expected expression before ')' token
amqp_framing.c:1426: error: expected expression before ')' token
amqp_framing.c:1430: error: expected expression before ')' token
amqp_framing.c:1432: error: expected expression before ')' token
amqp_framing.c:1436: error: 'amqp_tunnel_properties_t' has no member named 'durable'
amqp_framing.c:1436: error: expected expression before ')' token
amqp_framing.c:1440: error: 'amqp_tunnel_properties_t' has no member named 'broadcast'
amqp_framing.c:1440: error: expected expression before ')' token
amqp_framing.c: In function 'amqp_encode_method':
amqp_framing.c:1462: error: 'uint8_t' undeclared (first use in this function)
amqp_framing.c:1462: error: expected ';' before 'bit_buffer'
amqp_framing.c:1467: error: expected expression before ')' token
amqp_framing.c:1467: error: 'amqp_connection_start_t' has no member named 'version_major'
amqp_framing.c:1469: error: expected expression before ')' token
amqp_framing.c:1469: error: 'amqp_connection_start_t' has no member named 'version_minor'
amqp_framing.c:1471: error: 'amqp_connection_start_t' has no member named 'server_properties'
amqp_framing.c:1473: error: 'amqp_connection_start_t' has no member named 'mechanisms'
amqp_framing.c:1473: error: expected expression before ')' token
amqp_framing.c:1475: error: 'amqp_connection_start_t' has no member named 'mechanisms'
amqp_framing.c:1475: error: expected expression before ')' token
amqp_framing.c:1475: error: 'amqp_connection_start_t' has no member named 'mechanisms'
amqp_framing.c:1475: error: 'amqp_connection_start_t' has no member named 'mechanisms'
amqp_framing.c:1476: error: 'amqp_connection_start_t' has no member named 'mechanisms'
amqp_framing.c:1477: error: 'amqp_connection_start_t' has no member named 'locales'
amqp_framing.c:1477: error: expected expression before ')' token
amqp_framing.c:1479: error: 'amqp_connection_start_t' has no member named 'locales'
amqp_framing.c:1479: error: expected expression before ')' token
amqp_framing.c:1479: error: 'amqp_connection_start_t' has no member named 'locales'
amqp_framing.c:1479: error: 'amqp_connection_start_t' has no member named 'locales'
amqp_framing.c:1480: error: 'amqp_connection_start_t' has no member named 'locales'
amqp_framing.c:1487: error: expected expression before ')' token
amqp_framing.c:1489: error: expected expression before ')' token
amqp_framing.c:1491: error: expected expression before ')' token
amqp_framing.c:1493: error: expected expression before ')' token
amqp_framing.c:1495: error: expected expression before ')' token
amqp_framing.c:1497: error: expected expression before ')' token
amqp_framing.c:1503: error: expected expression before ')' token
amqp_framing.c:1505: error: expected expression before ')' token
amqp_framing.c:1511: error: expected expression before ')' token
amqp_framing.c:1513: error: expected expression before ')' token
amqp_framing.c:1519: error: expected expression before ')' token
amqp_framing.c:1521: error: expected expression before ')' token
amqp_framing.c:1523: error: expected expression before ')' token
amqp_framing.c:1529: error: expected expression before ')' token
amqp_framing.c:1531: error: expected expression before ')' token
amqp_framing.c:1533: error: expected expression before ')' token
amqp_framing.c:1539: error: expected expression before ')' token
amqp_framing.c:1541: error: expected expression before ')' token
amqp_framing.c:1543: error: expected expression before ')' token
amqp_framing.c:1545: error: expected expression before ')' token
amqp_framing.c:1547: error: 'bit_buffer' undeclared (first use in this function)
amqp_framing.c:1549: error: expected expression before ')' token
amqp_framing.c:1555: error: expected expression before ')' token
amqp_framing.c:1557: error: expected expression before ')' token
amqp_framing.c:1563: error: expected expression before ')' token
amqp_framing.c:1565: error: expected expression before ')' token
amqp_framing.c:1567: error: expected expression before ')' token
amqp_framing.c:1569: error: expected expression before ')' token
amqp_framing.c:1575: error: expected expression before ')' token
amqp_framing.c:1577: error: expected expression before ')' token
amqp_framing.c:1579: error: expected expression before ')' token
amqp_framing.c:1581: error: expected expression before ')' token
amqp_framing.c:1583: error: expected expression before ')' token
amqp_framing.c:1592: error: expected expression before ')' token
amqp_framing.c:1594: error: expected expression before ')' token
amqp_framing.c:1605: error: expected expression before ')' token
amqp_framing.c:1613: error: expected expression before ')' token
amqp_framing.c:1619: error: expected expression before ')' token
amqp_framing.c:1621: error: expected expression before ')' token
amqp_framing.c:1623: error: expected expression before ')' token
amqp_framing.c:1631: error: expected expression before ')' token
amqp_framing.c:1633: error: expected expression before ')' token
amqp_framing.c:1635: error: expected expression before ')' token
amqp_framing.c:1637: error: expected expression before ')' token
amqp_framing.c:1639: error: expected expression before ')' token
amqp_framing.c:1648: error: expected expression before ')' token
amqp_framing.c:1650: error: expected expression before ')' token
amqp_framing.c:1658: error: expected expression before ')' token
amqp_framing.c:1664: error: expected expression before ')' token
amqp_framing.c:1670: error: expected expression before ')' token
amqp_framing.c:1672: error: expected expression before ')' token
amqp_framing.c:1674: error: expected expression before ')' token
amqp_framing.c:1676: error: expected expression before ')' token
amqp_framing.c:1678: error: expected expression before ')' token
amqp_framing.c:1686: error: expected expression before ')' token
amqp_framing.c:1697: error: expected expression before ')' token
amqp_framing.c:1699: error: expected expression before ')' token
amqp_framing.c:1701: error: expected expression before ')' token
amqp_framing.c:1706: error: expected expression before ')' token
amqp_framing.c:1715: error: expected expression before ')' token
amqp_framing.c:1717: error: expected expression before ')' token
amqp_framing.c:1719: error: expected expression before ')' token
amqp_framing.c:1727: error: expected expression before ')' token
amqp_framing.c:1735: error: expected expression before ')' token
amqp_framing.c:1737: error: expected expression before ')' token
amqp_framing.c:1739: error: expected expression before ')' token
amqp_framing.c:1741: error: expected expression before ')' token
amqp_framing.c:1747: error: expected expression before ')' token
amqp_framing.c:1749: error: expected expression before ')' token
amqp_framing.c:1751: error: expected expression before ')' token
amqp_framing.c:1753: error: expected expression before ')' token
amqp_framing.c:1755: error: expected expression before ')' token
amqp_framing.c:1757: error: expected expression before ')' token
amqp_framing.c:1759: error: expected expression before ')' token
amqp_framing.c:1763: error: expected expression before ')' token
amqp_framing.c:1774: error: expected expression before ')' token
amqp_framing.c:1776: error: expected expression before ')' token
amqp_framing.c:1778: error: expected expression before ')' token
amqp_framing.c:1782: error: expected expression before ')' token
amqp_framing.c:1788: error: expected expression before ')' token
amqp_framing.c:1794: error: expected expression before ')' token
amqp_framing.c:1796: error: expected expression before ')' token
amqp_framing.c:1798: error: expected expression before ')' token
amqp_framing.c:1804: error: expected expression before ')' token
amqp_framing.c:1810: error: expected expression before ')' token
amqp_framing.c:1816: error: expected expression before ')' token
amqp_framing.c:1818: error: expected expression before ')' token
amqp_framing.c:1820: error: expected expression before ')' token
amqp_framing.c:1822: error: expected expression before ')' token
amqp_framing.c:1824: error: expected expression before ')' token
amqp_framing.c:1826: error: expected expression before ')' token
amqp_framing.c:1828: error: expected expression before ')' token
amqp_framing.c:1839: error: expected expression before ')' token
amqp_framing.c:1841: error: expected expression before ')' token
amqp_framing.c:1845: error: expected expression before ')' token
amqp_framing.c:1854: error: expected expression before ')' token
amqp_framing.c:1856: error: expected expression before ')' token
amqp_framing.c:1858: error: expected expression before ')' token
amqp_framing.c:1860: error: expected expression before ')' token
amqp_framing.c:1862: error: expected expression before ')' token
amqp_framing.c:1869: error: expected expression before ')' token
amqp_framing.c:1875: error: expected expression before ')' token
amqp_framing.c:1877: error: expected expression before ')' token
amqp_framing.c:1883: error: expected expression before ')' token
amqp_framing.c:1885: error: expected expression before ')' token
amqp_framing.c:1889: error: expected expression before ')' token
amqp_framing.c:1895: error: expected expression before ')' token
amqp_framing.c:1897: error: expected expression before ')' token
amqp_framing.c:1903: error: expected expression before ')' token
amqp_framing.c:1905: error: expected expression before ')' token
amqp_framing.c:1907: error: expected expression before ')' token
amqp_framing.c:1909: error: expected expression before ')' token
amqp_framing.c:1911: error: expected expression before ')' token
amqp_framing.c:1916: error: expected expression before ')' token
amqp_framing.c:1922: error: expected expression before ')' token
amqp_framing.c:1924: error: expected expression before ')' token
amqp_framing.c:1926: error: expected expression before ')' token
amqp_framing.c:1928: error: expected expression before ')' token
amqp_framing.c:1930: error: expected expression before ')' token
amqp_framing.c:1932: error: expected expression before ')' token
amqp_framing.c:1934: error: expected expression before ')' token
amqp_framing.c:1940: error: expected expression before ')' token
amqp_framing.c:1942: error: expected expression before ')' token
amqp_framing.c:1944: error: 'uint64_t' undeclared (first use in this function)
amqp_framing.c:1944: error: expected ')' before 'm'
amqp_framing.c:1944: error: expected expression before ')' token
amqp_framing.c:1944: error: expected ')' before 'm'
amqp_framing.c:1944: error: expected expression before ')' token
amqp_framing.c:1947: error: 'amqp_basic_deliver_t' has no member named 'redelivered'
amqp_framing.c:1948: error: expected expression before ')' token
amqp_framing.c:1950: error: expected expression before ')' token
amqp_framing.c:1950: error: 'amqp_basic_deliver_t' has no member named 'exchange'
amqp_framing.c:1952: error: 'amqp_basic_deliver_t' has no member named 'exchange'
amqp_framing.c:1952: error: expected expression before ')' token
amqp_framing.c:1952: error: 'amqp_basic_deliver_t' has no member named 'exchange'
amqp_framing.c:1952: error: 'amqp_basic_deliver_t' has no member named 'exchange'
amqp_framing.c:1953: error: 'amqp_basic_deliver_t' has no member named 'exchange'
amqp_framing.c:1954: error: expected expression before ')' token
amqp_framing.c:1954: error: 'amqp_basic_deliver_t' has no member named 'routing_key'
amqp_framing.c:1956: error: 'amqp_basic_deliver_t' has no member named 'routing_key'
amqp_framing.c:1956: error: expected expression before ')' token
amqp_framing.c:1956: error: 'amqp_basic_deliver_t' has no member named 'routing_key'
amqp_framing.c:1956: error: 'amqp_basic_deliver_t' has no member named 'routing_key'
amqp_framing.c:1957: error: 'amqp_basic_deliver_t' has no member named 'routing_key'
amqp_framing.c:1962: error: expected expression before ')' token
amqp_framing.c:1964: error: expected expression before ')' token
amqp_framing.c:1966: error: expected expression before ')' token
amqp_framing.c:1970: error: expected expression before ')' token
amqp_framing.c:1976: error: expected ')' before 'm'
amqp_framing.c:1976: error: expected expression before ')' token
amqp_framing.c:1976: error: expected ')' before 'm'
amqp_framing.c:1976: error: expected expression before ')' token
amqp_framing.c:1979: error: 'amqp_basic_get_ok_t' has no member named 'redelivered'
amqp_framing.c:1980: error: expected expression before ')' token
amqp_framing.c:1982: error: expected expression before ')' token
amqp_framing.c:1982: error: 'amqp_basic_get_ok_t' has no member named 'exchange'
amqp_framing.c:1984: error: 'amqp_basic_get_ok_t' has no member named 'exchange'
amqp_framing.c:1984: error: expected expression before ')' token
amqp_framing.c:1984: error: 'amqp_basic_get_ok_t' has no member named 'exchange'
amqp_framing.c:1984: error: 'amqp_basic_get_ok_t' has no member named 'exchange'
amqp_framing.c:1985: error: 'amqp_basic_get_ok_t' has no member named 'exchange'
amqp_framing.c:1986: error: expected expression before ')' token
amqp_framing.c:1986: error: 'amqp_basic_get_ok_t' has no member named 'routing_key'
amqp_framing.c:1988: error: 'amqp_basic_get_ok_t' has no member named 'routing_key'
amqp_framing.c:1988: error: expected expression before ')' token
amqp_framing.c:1988: error: 'amqp_basic_get_ok_t' has no member named 'routing_key'
amqp_framing.c:1988: error: 'amqp_basic_get_ok_t' has no member named 'routing_key'
amqp_framing.c:1989: error: 'amqp_basic_get_ok_t' has no member named 'routing_key'
amqp_framing.c:1990: error: 'amqp_basic_get_ok_t' has no member named 'message_count'
amqp_framing.c:1990: error: expected expression before ')' token
amqp_framing.c:1996: error: expected expression before ')' token
amqp_framing.c:1998: error: expected expression before ')' token
amqp_framing.c:2004: error: expected ')' before 'm'
amqp_framing.c:2004: error: expected expression before ')' token
amqp_framing.c:2004: error: expected ')' before 'm'
amqp_framing.c:2004: error: expected expression before ')' token
amqp_framing.c:2007: error: 'amqp_basic_ack_t' has no member named 'multiple'
amqp_framing.c:2008: error: expected expression before ')' token
amqp_framing.c:2014: error: expected ')' before 'm'
amqp_framing.c:2014: error: expected expression before ')' token
amqp_framing.c:2014: error: expected ')' before 'm'
amqp_framing.c:2014: error: expected expression before ')' token
amqp_framing.c:2017: error: 'amqp_basic_reject_t' has no member named 'requeue'
amqp_framing.c:2018: error: expected expression before ')' token
amqp_framing.c:2026: error: expected expression before ')' token
amqp_framing.c:2032: error: expected expression before ')' token
amqp_framing.c:2034: error: expected expression before ')' token
amqp_framing.c:2038: error: expected expression before ')' token
amqp_framing.c:2047: error: expected expression before ')' token
amqp_framing.c:2049: error: expected expression before ')' token
amqp_framing.c:2051: error: expected expression before ')' token
amqp_framing.c:2053: error: expected expression before ')' token
amqp_framing.c:2055: error: expected expression before ')' token
amqp_framing.c:2062: error: expected expression before ')' token
amqp_framing.c:2068: error: expected expression before ')' token
amqp_framing.c:2070: error: expected expression before ')' token
amqp_framing.c:2076: error: expected expression before ')' token
amqp_framing.c:2078: error: expected expression before ')' token
amqp_framing.c:2082: error: expected expression before ')' token
amqp_framing.c:2088: error: expected expression before ')' token
amqp_framing.c:2090: error: expected expression before ')' token
amqp_framing.c:2096: error: expected expression before ')' token
amqp_framing.c:2098: error: expected expression before ')' token
amqp_framing.c:2100: error: expected ')' before 'm'
amqp_framing.c:2100: error: expected expression before ')' token
amqp_framing.c:2100: error: expected ')' before 'm'
amqp_framing.c:2100: error: expected expression before ')' token
amqp_framing.c:2106: error: expected ')' before 'm'
amqp_framing.c:2106: error: expected expression before ')' token
amqp_framing.c:2106: error: expected ')' before 'm'
amqp_framing.c:2106: error: expected expression before ')' token
amqp_framing.c:2115: error: expected expression before ')' token
amqp_framing.c:2117: error: expected expression before ')' token
amqp_framing.c:2119: error: expected expression before ')' token
amqp_framing.c:2121: error: expected expression before ')' token
amqp_framing.c:2123: error: expected expression before ')' token
amqp_framing.c:2128: error: expected expression before ')' token
amqp_framing.c:2130: error: expected expression before ')' token
amqp_framing.c:2132: error: expected expression before ')' token
amqp_framing.c:2138: error: expected expression before ')' token
amqp_framing.c:2140: error: expected expression before ')' token
amqp_framing.c:2142: error: expected expression before ')' token
amqp_framing.c:2144: error: expected expression before ')' token
amqp_framing.c:2146: error: expected expression before ')' token
amqp_framing.c:2148: error: expected expression before ')' token
amqp_framing.c:2150: error: expected expression before ')' token
amqp_framing.c:2156: error: expected expression before ')' token
amqp_framing.c:2158: error: expected expression before ')' token
amqp_framing.c:2160: error: expected ')' before 'm'
amqp_framing.c:2160: error: expected expression before ')' token
amqp_framing.c:2160: error: expected ')' before 'm'
amqp_framing.c:2160: error: expected expression before ')' token
amqp_framing.c:2163: error: 'amqp_file_deliver_t' has no member named 'redelivered'
amqp_framing.c:2164: error: expected expression before ')' token
amqp_framing.c:2166: error: expected expression before ')' token
amqp_framing.c:2166: error: 'amqp_file_deliver_t' has no member named 'exchange'
amqp_framing.c:2168: error: 'amqp_file_deliver_t' has no member named 'exchange'
amqp_framing.c:2168: error: expected expression before ')' token
amqp_framing.c:2168: error: 'amqp_file_deliver_t' has no member named 'exchange'
amqp_framing.c:2168: error: 'amqp_file_deliver_t' has no member named 'exchange'
amqp_framing.c:2169: error: 'amqp_file_deliver_t' has no member named 'exchange'
amqp_framing.c:2170: error: expected expression before ')' token
amqp_framing.c:2170: error: 'amqp_file_deliver_t' has no member named 'routing_key'
amqp_framing.c:2172: error: 'amqp_file_deliver_t' has no member named 'routing_key'
amqp_framing.c:2172: error: expected expression before ')' token
amqp_framing.c:2172: error: 'amqp_file_deliver_t' has no member named 'routing_key'
amqp_framing.c:2172: error: 'amqp_file_deliver_t' has no member named 'routing_key'
amqp_framing.c:2173: error: 'amqp_file_deliver_t' has no member named 'routing_key'
amqp_framing.c:2174: error: expected expression before ')' token
amqp_framing.c:2174: error: 'amqp_file_deliver_t' has no member named 'identifier'
amqp_framing.c:2176: error: 'amqp_file_deliver_t' has no member named 'identifier'
amqp_framing.c:2176: error: expected expression before ')' token
amqp_framing.c:2176: error: 'amqp_file_deliver_t' has no member named 'identifier'
amqp_framing.c:2176: error: 'amqp_file_deliver_t' has no member named 'identifier'
amqp_framing.c:2177: error: 'amqp_file_deliver_t' has no member named 'identifier'
amqp_framing.c:2182: error: expected ')' before 'm'
amqp_framing.c:2182: error: expected expression before ')' token
amqp_framing.c:2182: error: expected ')' before 'm'
amqp_framing.c:2182: error: expected expression before ')' token
amqp_framing.c:2185: error: 'amqp_file_ack_t' has no member named 'multiple'
amqp_framing.c:2186: error: expected expression before ')' token
amqp_framing.c:2192: error: expected ')' before 'm'
amqp_framing.c:2192: error: expected expression before ')' token
amqp_framing.c:2192: error: expected ')' before 'm'
amqp_framing.c:2192: error: expected expression before ')' token
amqp_framing.c:2195: error: 'amqp_file_reject_t' has no member named 'requeue'
amqp_framing.c:2196: error: expected expression before ')' token
amqp_framing.c:2202: error: expected expression before ')' token
amqp_framing.c:2204: error: expected expression before ')' token
amqp_framing.c:2206: error: expected expression before ')' token
amqp_framing.c:2210: error: expected expression before ')' token
amqp_framing.c:2219: error: expected expression before ')' token
amqp_framing.c:2221: error: expected expression before ')' token
amqp_framing.c:2223: error: expected expression before ')' token
amqp_framing.c:2225: error: expected expression before ')' token
amqp_framing.c:2227: error: expected expression before ')' token
amqp_framing.c:2233: error: expected expression before ')' token
amqp_framing.c:2239: error: expected expression before ')' token
amqp_framing.c:2241: error: expected expression before ')' token
amqp_framing.c:2247: error: expected expression before ')' token
amqp_framing.c:2249: error: expected expression before ')' token
amqp_framing.c:2253: error: expected expression before ')' token
amqp_framing.c:2259: error: expected expression before ')' token
amqp_framing.c:2261: error: expected expression before ')' token
amqp_framing.c:2267: error: expected expression before ')' token
amqp_framing.c:2269: error: expected expression before ')' token
amqp_framing.c:2271: error: expected expression before ')' token
amqp_framing.c:2273: error: expected expression before ')' token
amqp_framing.c:2275: error: expected expression before ')' token
amqp_framing.c:2280: error: expected expression before ')' token
amqp_framing.c:2286: error: expected expression before ')' token
amqp_framing.c:2288: error: expected expression before ')' token
amqp_framing.c:2290: error: expected expression before ')' token
amqp_framing.c:2292: error: expected expression before ')' token
amqp_framing.c:2294: error: expected expression before ')' token
amqp_framing.c:2296: error: expected expression before ')' token
amqp_framing.c:2298: error: expected expression before ')' token
amqp_framing.c:2304: error: expected expression before ')' token
amqp_framing.c:2306: error: expected expression before ')' token
amqp_framing.c:2308: error: expected ')' before 'm'
amqp_framing.c:2308: error: expected expression before ')' token
amqp_framing.c:2308: error: expected ')' before 'm'
amqp_framing.c:2308: error: expected expression before ')' token
amqp_framing.c:2310: error: expected expression before ')' token
amqp_framing.c:2310: error: 'amqp_stream_deliver_t' has no member named 'exchange'
amqp_framing.c:2312: error: 'amqp_stream_deliver_t' has no member named 'exchange'
amqp_framing.c:2312: error: expected expression before ')' token
amqp_framing.c:2312: error: 'amqp_stream_deliver_t' has no member named 'exchange'
amqp_framing.c:2312: error: 'amqp_stream_deliver_t' has no member named 'exchange'
amqp_framing.c:2313: error: 'amqp_stream_deliver_t' has no member named 'exchange'
amqp_framing.c:2314: error: expected expression before ')' token
amqp_framing.c:2314: error: 'amqp_stream_deliver_t' has no member named 'queue'
amqp_framing.c:2316: error: 'amqp_stream_deliver_t' has no member named 'queue'
amqp_framing.c:2316: error: expected expression before ')' token
amqp_framing.c:2316: error: 'amqp_stream_deliver_t' has no member named 'queue'
amqp_framing.c:2316: error: 'amqp_stream_deliver_t' has no member named 'queue'
amqp_framing.c:2317: error: 'amqp_stream_deliver_t' has no member named 'queue'
amqp_framing.c:2346: error: expected expression before ')' token
amqp_framing.c:2348: error: expected expression before ')' token
amqp_framing.c:2363: error: expected expression before ')' token
amqp_framing.c:2363: error: 'amqp_test_integer_t' has no member named 'integer_1'
amqp_framing.c:2365: error: 'amqp_test_integer_t' has no member named 'integer_2'
amqp_framing.c:2365: error: expected expression before ')' token
amqp_framing.c:2367: error: 'amqp_test_integer_t' has no member named 'integer_3'
amqp_framing.c:2367: error: expected expression before ')' token
amqp_framing.c:2369: error: expected ')' before 'm'
amqp_framing.c:2369: error: expected expression before ')' token
amqp_framing.c:2369: error: expected ')' before 'm'
amqp_framing.c:2369: error: expected expression before ')' token
amqp_framing.c:2371: error: expected expression before ')' token
amqp_framing.c:2371: error: 'amqp_test_integer_t' has no member named 'operation'
amqp_framing.c:2377: error: expected ')' before 'm'
amqp_framing.c:2377: error: expected expression before ')' token
amqp_framing.c:2377: error: expected ')' before 'm'
amqp_framing.c:2377: error: expected expression before ')' token
amqp_framing.c:2383: error: expected expression before ')' token
amqp_framing.c:2385: error: expected expression before ')' token
amqp_framing.c:2387: error: expected expression before ')' token
amqp_framing.c:2389: error: expected expression before ')' token
amqp_framing.c:2391: error: expected expression before ')' token
amqp_framing.c:2391: error: 'amqp_test_string_t' has no member named 'operation'
amqp_framing.c:2397: error: expected expression before ')' token
amqp_framing.c:2399: error: expected expression before ')' token
amqp_framing.c:2407: error: expected expression before ')' token
amqp_framing.c:2407: error: 'amqp_test_table_t' has no member named 'integer_op'
amqp_framing.c:2409: error: expected expression before ')' token
amqp_framing.c:2409: error: 'amqp_test_table_t' has no member named 'string_op'
amqp_framing.c:2415: error: expected ')' before 'm'
amqp_framing.c:2415: error: expected expression before ')' token
amqp_framing.c:2415: error: expected ')' before 'm'
amqp_framing.c:2415: error: expected expression before ')' token
amqp_framing.c:2417: error: 'amqp_test_table_ok_t' has no member named 'string_result'
amqp_framing.c:2417: error: expected expression before ')' token
amqp_framing.c:2419: error: 'amqp_test_table_ok_t' has no member named 'string_result'
amqp_framing.c:2419: error: expected expression before ')' token
amqp_framing.c:2419: error: 'amqp_test_table_ok_t' has no member named 'string_result'
amqp_framing.c:2419: error: 'amqp_test_table_ok_t' has no member named 'string_result'
amqp_framing.c:2420: error: 'amqp_test_table_ok_t' has no member named 'string_result'
amqp_framing.c:2428: error: expected expression before ')' token
amqp_framing.c: In function 'amqp_encode_properties':
amqp_framing.c:2455: error: 'uint8_t' undeclared (first use in this function)
amqp_framing.c:2455: error: expected expression before ')' token
amqp_framing.c:2480: error: expected expression before ')' token
amqp_framing.c:2482: error: expected expression before ')' token
amqp_framing.c:2486: error: expected expression before ')' token
amqp_framing.c:2488: error: expected expression before ')' token
amqp_framing.c:2496: error: expected expression before ')' token
amqp_framing.c:2496: error: 'amqp_basic_properties_t' has no member named 'delivery_mode'
amqp_framing.c:2500: error: expected expression before ')' token
amqp_framing.c:2500: error: 'amqp_basic_properties_t' has no member named 'priority'
amqp_framing.c:2504: error: expected expression before ')' token
amqp_framing.c:2504: error: 'amqp_basic_properties_t' has no member named 'correlation_id'
amqp_framing.c:2506: error: 'amqp_basic_properties_t' has no member named 'correlation_id'
amqp_framing.c:2506: error: expected expression before ')' token
amqp_framing.c:2506: error: 'amqp_basic_properties_t' has no member named 'correlation_id'
amqp_framing.c:2506: error: 'amqp_basic_properties_t' has no member named 'correlation_id'
amqp_framing.c:2507: error: 'amqp_basic_properties_t' has no member named 'correlation_id'
amqp_framing.c:2510: error: expected expression before ')' token
amqp_framing.c:2510: error: 'amqp_basic_properties_t' has no member named 'reply_to'
amqp_framing.c:2512: error: 'amqp_basic_properties_t' has no member named 'reply_to'
amqp_framing.c:2512: error: expected expression before ')' token
amqp_framing.c:2512: error: 'amqp_basic_properties_t' has no member named 'reply_to'
amqp_framing.c:2512: error: 'amqp_basic_properties_t' has no member named 'reply_to'
amqp_framing.c:2513: error: 'amqp_basic_properties_t' has no member named 'reply_to'
amqp_framing.c:2516: error: expected expression before ')' token
amqp_framing.c:2516: error: 'amqp_basic_properties_t' has no member named 'expiration'
amqp_framing.c:2518: error: 'amqp_basic_properties_t' has no member named 'expiration'
amqp_framing.c:2518: error: expected expression before ')' token
amqp_framing.c:2518: error: 'amqp_basic_properties_t' has no member named 'expiration'
amqp_framing.c:2518: error: 'amqp_basic_properties_t' has no member named 'expiration'
amqp_framing.c:2519: error: 'amqp_basic_properties_t' has no member named 'expiration'
amqp_framing.c:2522: error: expected expression before ')' token
amqp_framing.c:2522: error: 'amqp_basic_properties_t' has no member named 'message_id'
amqp_framing.c:2524: error: 'amqp_basic_properties_t' has no member named 'message_id'
amqp_framing.c:2524: error: expected expression before ')' token
amqp_framing.c:2524: error: 'amqp_basic_properties_t' has no member named 'message_id'
amqp_framing.c:2524: error: 'amqp_basic_properties_t' has no member named 'message_id'
amqp_framing.c:2525: error: 'amqp_basic_properties_t' has no member named 'message_id'
amqp_framing.c:2528: error: 'uint64_t' undeclared (first use in this function)
amqp_framing.c:2528: error: expected ')' before 'p'
amqp_framing.c:2528: error: expected expression before ')' token
amqp_framing.c:2528: error: expected ')' before 'p'
amqp_framing.c:2528: error: expected expression before ')' token
amqp_framing.c:2532: error: expected expression before ')' token
amqp_framing.c:2532: error: 'amqp_basic_properties_t' has no member named 'type'
amqp_framing.c:2534: error: 'amqp_basic_properties_t' has no member named 'type'
amqp_framing.c:2534: error: expected expression before ')' token
amqp_framing.c:2534: error: 'amqp_basic_properties_t' has no member named 'type'
amqp_framing.c:2534: error: 'amqp_basic_properties_t' has no member named 'type'
amqp_framing.c:2535: error: 'amqp_basic_properties_t' has no member named 'type'
amqp_framing.c:2538: error: expected expression before ')' token
amqp_framing.c:2538: error: 'amqp_basic_properties_t' has no member named 'user_id'
amqp_framing.c:2540: error: 'amqp_basic_properties_t' has no member named 'user_id'
amqp_framing.c:2540: error: expected expression before ')' token
amqp_framing.c:2540: error: 'amqp_basic_properties_t' has no member named 'user_id'
amqp_framing.c:2540: error: 'amqp_basic_properties_t' has no member named 'user_id'
amqp_framing.c:2541: error: 'amqp_basic_properties_t' has no member named 'user_id'
amqp_framing.c:2544: error: expected expression before ')' token
amqp_framing.c:2544: error: 'amqp_basic_properties_t' has no member named 'app_id'
amqp_framing.c:2546: error: 'amqp_basic_properties_t' has no member named 'app_id'
amqp_framing.c:2546: error: expected expression before ')' token
amqp_framing.c:2546: error: 'amqp_basic_properties_t' has no member named 'app_id'
amqp_framing.c:2546: error: 'amqp_basic_properties_t' has no member named 'app_id'
amqp_framing.c:2547: error: 'amqp_basic_properties_t' has no member named 'app_id'
amqp_framing.c:2550: error: expected expression before ')' token
amqp_framing.c:2550: error: 'amqp_basic_properties_t' has no member named 'cluster_id'
amqp_framing.c:2552: error: 'amqp_basic_properties_t' has no member named 'cluster_id'
amqp_framing.c:2552: error: expected expression before ')' token
amqp_framing.c:2552: error: 'amqp_basic_properties_t' has no member named 'cluster_id'
amqp_framing.c:2552: error: 'amqp_basic_properties_t' has no member named 'cluster_id'
amqp_framing.c:2553: error: 'amqp_basic_properties_t' has no member named 'cluster_id'
amqp_framing.c:2560: error: expected expression before ')' token
amqp_framing.c:2562: error: expected expression before ')' token
amqp_framing.c:2566: error: expected expression before ')' token
amqp_framing.c:2568: error: expected expression before ')' token
amqp_framing.c:2576: error: expected expression before ')' token
amqp_framing.c:2576: error: 'amqp_file_properties_t' has no member named 'priority'
amqp_framing.c:2580: error: expected expression before ')' token
amqp_framing.c:2580: error: 'amqp_file_properties_t' has no member named 'reply_to'
amqp_framing.c:2582: error: 'amqp_file_properties_t' has no member named 'reply_to'
amqp_framing.c:2582: error: expected expression before ')' token
amqp_framing.c:2582: error: 'amqp_file_properties_t' has no member named 'reply_to'
amqp_framing.c:2582: error: 'amqp_file_properties_t' has no member named 'reply_to'
amqp_framing.c:2583: error: 'amqp_file_properties_t' has no member named 'reply_to'
amqp_framing.c:2586: error: expected expression before ')' token
amqp_framing.c:2586: error: 'amqp_file_properties_t' has no member named 'message_id'
amqp_framing.c:2588: error: 'amqp_file_properties_t' has no member named 'message_id'
amqp_framing.c:2588: error: expected expression before ')' token
amqp_framing.c:2588: error: 'amqp_file_properties_t' has no member named 'message_id'
amqp_framing.c:2588: error: 'amqp_file_properties_t' has no member named 'message_id'
amqp_framing.c:2589: error: 'amqp_file_properties_t' has no member named 'message_id'
amqp_framing.c:2592: error: expected expression before ')' token
amqp_framing.c:2592: error: 'amqp_file_properties_t' has no member named 'filename'
amqp_framing.c:2594: error: 'amqp_file_properties_t' has no member named 'filename'
amqp_framing.c:2594: error: expected expression before ')' token
amqp_framing.c:2594: error: 'amqp_file_properties_t' has no member named 'filename'
amqp_framing.c:2594: error: 'amqp_file_properties_t' has no member named 'filename'
amqp_framing.c:2595: error: 'amqp_file_properties_t' has no member named 'filename'
amqp_framing.c:2598: error: expected ')' before 'p'
amqp_framing.c:2598: error: expected expression before ')' token
amqp_framing.c:2598: error: expected ')' before 'p'
amqp_framing.c:2598: error: expected expression before ')' token
amqp_framing.c:2602: error: expected expression before ')' token
amqp_framing.c:2602: error: 'amqp_file_properties_t' has no member named 'cluster_id'
amqp_framing.c:2604: error: 'amqp_file_properties_t' has no member named 'cluster_id'
amqp_framing.c:2604: error: expected expression before ')' token
amqp_framing.c:2604: error: 'amqp_file_properties_t' has no member named 'cluster_id'
amqp_framing.c:2604: error: 'amqp_file_properties_t' has no member named 'cluster_id'
amqp_framing.c:2605: error: 'amqp_file_properties_t' has no member named 'cluster_id'
amqp_framing.c:2612: error: expected expression before ')' token
amqp_framing.c:2614: error: expected expression before ')' token
amqp_framing.c:2618: error: expected expression before ')' token
amqp_framing.c:2620: error: expected expression before ')' token
amqp_framing.c:2628: error: expected expression before ')' token
amqp_framing.c:2628: error: 'amqp_stream_properties_t' has no member name*** Error code 1

Stop in /usr/home/cpan/pit/bare/conf/perl-5.14.0/.cpanplus/5.14.0/build/Net-RabbitMQ-0.2.0.
d 'priority'
amqp_framing.c:2632: error: expected ')' before 'p'
amqp_framing.c:2632: error: expected expression before ')' token
amqp_framing.c:2632: error: expected ')' before 'p'
amqp_framing.c:2632: error: expected expression before ')' token
amqp_framing.c:2650: error: expected expression before ')' token
amqp_framing.c:2652: error: expected expression before ')' token
amqp_framing.c:2656: error: expected expression before ')' token
amqp_framing.c:2658: error: expected expression before ')' token
amqp_framing.c:2662: error: expected expression before ')' token
amqp_framing.c:2662: error: 'amqp_tunnel_properties_t' has no member named 'durable'
amqp_framing.c:2666: error: expected expression before ')' token
amqp_framing.c:2666: error: 'amqp_tunnel_properties_t' has no member named 'broadcast'


PREREQUISITES:

Here is a list of prerequisites you specified and versions we
managed to load:

	  Module Name                        Have     Want
	  ExtUtils::MakeMaker             6.57_05        0

Perl module toolchain versions installed:
	Module Name                        Have
	CPANPLUS                         0.9105
	CPANPLUS::Dist::Build              0.56
	Cwd                                3.36
	ExtUtils::CBuilder             0.280203
	ExtUtils::Command                  1.17
	ExtUtils::Install                  1.56
	ExtUtils::MakeMaker             6.57_05
	ExtUtils::Manifest                 1.58
	ExtUtils::ParseXS                2.2210
	File::Spec                         3.33
	Module::Build                    0.3800
	Test::Harness                      3.23
	Test::More                         0.98
	version                            0.89

******************************** NOTE ********************************
The comments above are created mechanically, possibly without manual
checking by the sender.  As there are many people performing automatic
tests on each upload to CPAN, it is likely that you will receive
identical messages about the same problem.

If you believe that the message is mistaken, please reply to the first
one with correction and/or additional informations, and do not take
it personally.  We appreciate your patience. :)
**********************************************************************

Additional comments:


This report was machine-generated by CPANPLUS::Dist::YACSmoke 0.62.
Powered by minismokebox version 0.48

------------------------------
ENVIRONMENT AND OTHER CONTEXT
------------------------------

Environment variables:

    AUTOMATED_TESTING = 1
    PATH = /sbin:/bin:/usr/sbin:/usr/bin:/usr/games:/usr/local/sbin:/usr/local/bin:/home/cpan/bin
    PERL5LIB = :/usr/home/cpan/pit/bare/conf/perl-5.14.0/.cpanplus/5.14.0/build/Class-Easy-0.16/blib/lib:/usr/home/cpan/pit/bare/conf/perl-5.14.0/.cpanplus/5.14.0/build/Class-Easy-0.16/blib/arch
    PERL5_CPANPLUS_IS_RUNNING = 46130
    PERL5_CPANPLUS_IS_VERSION = 0.9105
    PERL5_MINISMOKEBOX = 0.48
    PERL5_YACSMOKE_BASE = /usr/home/cpan/pit/bare/conf/perl-5.14.0
    PERL_EXTUTILS_AUTOINSTALL = --defaultdeps
    PERL_MM_USE_DEFAULT = 1
    SHELL = /usr/local/bin/bash
    TERM = screen

Perl special variables (and OS-specific diagnostics, for MSWin32):

    Perl: $^X = /usr/home/cpan/pit/bare/perl-5.14.0/bin/perl
    UID:  $<  = 1002
    EUID: $>  = 1002
    GID:  $(  = 1002 1002 1002
    EGID: $)  = 1002 1002 1002


-------------------------------


--

Summary of my perl5 (revision 5 version 14 subversion 0) configuration:
   
  Platform:
    osname=freebsd, osvers=7.4-release, archname=amd64-freebsd
    uname='freebsd fidget.bingosnet.co.uk 7.4-release freebsd 7.4-release #0: fri feb 18 01:55:22 utc 2011 root@driscoll.cse.buffalo.edu:usrobjusrsrcsysgeneric amd64 '
    config_args='-des -Dprefix=/usr/home/cpan/pit/bare/perl-5.14.0'
    hint=recommended, useposix=true, d_sigaction=define
    useithreads=undef, usemultiplicity=undef
    useperlio=define, d_sfio=undef, uselargefiles=define, usesocks=undef
    use64bitint=define, use64bitall=define, uselongdouble=undef
    usemymalloc=n, bincompat5005=undef
  Compiler:
    cc='cc', ccflags ='-DHAS_FPSETMASK -DHAS_FLOATINGPOINT_H -fno-strict-aliasing -pipe -fstack-protector -I/usr/local/include',
    optimize='-O',
    cppflags='-DHAS_FPSETMASK -DHAS_FLOATINGPOINT_H -fno-strict-aliasing -pipe -fstack-protector -I/usr/local/include'
    ccversion='', gccversion='4.2.1 20070719  [FreeBSD]', gccosandvers=''
    intsize=4, longsize=8, ptrsize=8, doublesize=8, byteorder=12345678
    d_longlong=define, longlongsize=8, d_longdbl=define, longdblsize=16
    ivtype='long', ivsize=8, nvtype='double', nvsize=8, Off_t='off_t', lseeksize=8
    alignbytes=8, prototype=define
  Linker and Libraries:
    ld='cc', ldflags ='-Wl,-E  -fstack-protector -L/usr/local/lib'
    libpth=/usr/lib /usr/local/lib
    libs=-lgdbm -lm -lcrypt -lutil -lc
    perllibs=-lm -lcrypt -lutil -lc
    libc=, so=so, useshrplib=false, libperl=libperl.a
    gnulibc_version=''
  Dynamic Linking:
    dlsrc=dl_dlopen.xs, dlext=so, d_dlsymun=undef, ccdlflags=' '
    cccdlflags='-DPIC -fPIC', lddlflags='-shared  -L/usr/local/lib -fstack-protector'


Characteristics of this binary (from libperl): 
  Compile-time options: PERL_DONT_CREATE_GVSV PERL_MALLOC_WRAP
                        PERL_PRESERVE_IVUV USE_64_BIT_ALL USE_64_BIT_INT
                        USE_LARGE_FILES USE_PERLIO USE_PERL_ATOF
  Built under freebsd
  Compiled at Jun  1 2011 12:10:33
  %ENV:
    PERL5LIB=":/usr/home/cpan/pit/bare/conf/perl-5.14.0/.cpanplus/5.14.0/build/Class-Easy-0.16/blib/lib:/usr/home/cpan/pit/bare/conf/perl-5.14.0/.cpanplus/5.14.0/build/Class-Easy-0.16/blib/arch"
    PERL5_CPANPLUS_IS_RUNNING="46130"
    PERL5_CPANPLUS_IS_VERSION="0.9105"
    PERL5_MINISMOKEBOX="0.48"
    PERL5_YACSMOKE_BASE="/usr/home/cpan/pit/bare/conf/perl-5.14.0"
    PERL_EXTUTILS_AUTOINSTALL="--defaultdeps"
    PERL_MM_USE_DEFAULT="1"
  @INC:
    /usr/home/cpan/pit/bare/conf/perl-5.14.0/.cpanplus/5.14.0/build/Class-Easy-0.16/blib/lib
    /usr/home/cpan/pit/bare/conf/perl-5.14.0/.cpanplus/5.14.0/build/Class-Easy-0.16/blib/arch
    /usr/home/cpan/pit/bare/perl-5.14.0/lib/site_perl/5.14.0/amd64-freebsd
    /usr/home/cpan/pit/bare/perl-5.14.0/lib/site_perl/5.14.0
    /usr/home/cpan/pit/bare/perl-5.14.0/lib/5.14.0/amd64-freebsd
    /usr/home/cpan/pit/bare/perl-5.14.0/lib/5.14.0
    .