Report for Sys-SigAction-0.21

Back
From: metabase:user:5bbb2efa-715f-11e3-8cc1-b2993ff2e0c7
Subject: PASS Sys-SigAction-0.21 v5.20.2 FreeBSD
Date: 2015-03-27T21:17:37Z

This distribution has been tested as part of the CPAN Testers
project, supporting the Perl programming language.  See
http://wiki.cpantesters.org/ for more information or email
questions to cpan-testers-discuss@perl.org


--
Dear LBAXTER,

This is a computer-generated report for Sys-SigAction-0.21
on perl 5.20.2, created by App::cpanminus::reporter 0.11 (1.7027).

Thank you for uploading your work to CPAN.  Congratulations!
All tests were successful.

Sections of this report:

    * Tester comments
    * Program output
    * Prerequisites
    * Environment and other context

------------------------------
TESTER COMMENTS
------------------------------

Additional comments from tester:

none provided

------------------------------
PROGRAM OUTPUT
------------------------------

Output from '':

Building and testing Sys-SigAction-0.21
cp lib/Sys/SigAction/Alarm.pm blib/lib/Sys/SigAction/Alarm.pm
cp lib/Sys/SigAction.pm blib/lib/Sys/SigAction.pm
Manifying 1 pod document
PERL_DL_NONLAZY=1 "/usr/home/ollisg/opt/perl/5.20.2/bin/perl" "-MExtUtils::Command::MM" "-MTest::Harness" "-e" "undef *Test::Harness::Switches; test_harness(0, 'blib/lib', 'blib/arch')" t/*.t
t/mask.t ..... ok
t/name.t ..... ok
t/nested.t ... ok
t/number.t ... ok

         
         NOTE: Setting safe=>1... with masked signals does not seem to work.
         The problem is that the masked signals are not masked when safe=>1.
         When safe=>0 they are.  

         If you have an application for safe=>1 and can come up with 
         a test that works in the context of this module's installation
         please send me a patch to safe.t that tests it.
         
         See the block below this one... which if executed would test safe mode
         with masked signals... it is a clone of part of mask.t that proves this
         is broken.

         Lincoln
         
t/safe.t ..... ok
# delta time was 0.107154, timer was for 0.1 secconds
t/timeout.t .. ok
All tests successful.
Files=6, Tests=44,  8 wallclock secs ( 0.03 usr  0.00 sys +  0.12 cusr  0.04 csys =  0.20 CPU)
Result: PASS

------------------------------
PREREQUISITES
------------------------------

Prerequisite modules loaded:

    No requirements found

------------------------------
ENVIRONMENT AND OTHER CONTEXT
------------------------------

Environment variables:

    PATH = /home/ollisg/opt/perl/5.20.2/my/dev/bin:/home/ollisg/opt/perl/5.20.2/bin:/sbin:/bin:/usr/sbin:/usr/bin:/usr/games:/usr/local/sbin:/usr/local/bin:/home/ollisg/bin
    PERL5LIB = /home/ollisg/opt/perl/5.20.2/my/dev/lib/perl5
    PERL_CPANM_OPT = --mirror http://mirror.sydney.wdlabs.com/cpan/ --mirror-only
    PERL_LOCAL_LIB_ROOT = /home/ollisg/opt/perl/5.20.2/my/dev
    PERL_MB_OPT = --install_base "/home/ollisg/opt/perl/5.20.2/my/dev"
    PERL_MM_OPT = INSTALL_BASE=/home/ollisg/opt/perl/5.20.2/my/dev
    SHELL = /bin/tcsh
    TERM = xterm-256color

Perl special variables (and OS-specific diagnostics, for MSWin32):

    EGID = 1001 1001 0
    EUID = 1001
    EXECUTABLE_NAME = /usr/home/ollisg/opt/perl/5.20.2/bin/perl
    GID = 1001 1001 0
    UID = 1001

Perl module toolchain versions installed:

    Module              Have    
    ------------------- --------
    CPAN                2.10    
    CPAN::Meta          2.150001
    Cwd                 3.48_01 
    ExtUtils::CBuilder  0.280220
    ExtUtils::Command   1.20    
    ExtUtils::Install   2.04    
    ExtUtils::MakeMaker 7.04    
    ExtUtils::Manifest  1.70    
    ExtUtils::ParseXS   3.24    
    File::Spec          3.48_01 
    JSON                2.90    
    JSON::PP            2.27300 
    Module::Build       0.4211  
    Module::Signature   n/a     
    Parse::CPAN::Meta   1.4414  
    Test::Harness       3.35    
    Test::More          1.001014
    YAML                1.14    
    YAML::Syck          n/a     
    version             0.9912  


--

Summary of my perl5 (revision 5 version 20 subversion 2) configuration:
   
  Platform:
    osname=freebsd, osvers=10.0-release, archname=amd64-freebsd
    uname='freebsd freebsd64 10.0-release freebsd 10.0-release #0 r260789: thu jan 16 22:34:59 utc 2014 root@snap.freebsd.org:usrobjusrsrcsysgeneric amd64 '
    config_args='-de -Dprefix=/home/ollisg/opt/perl/5.20.2/ -Aeval:scriptdir=/home/ollisg/opt/perl/5.20.2/bin'
    hint=recommended, useposix=true, d_sigaction=define
    useithreads=undef, usemultiplicity=undef
    use64bitint=define, use64bitall=define, uselongdouble=undef
    usemymalloc=n, bincompat5005=undef
  Compiler:
    cc='cc', ccflags ='-DHAS_FPSETMASK -DHAS_FLOATINGPOINT_H -fno-strict-aliasing -pipe -fstack-protector -I/usr/local/include',
    optimize='-O',
    cppflags='-DHAS_FPSETMASK -DHAS_FLOATINGPOINT_H -fno-strict-aliasing -pipe -fstack-protector -I/usr/local/include'
    ccversion='', gccversion='4.2.1 Compatible FreeBSD Clang 3.3 (tags/RELEASE_33/final 183502)', gccosandvers=''
    intsize=4, longsize=8, ptrsize=8, doublesize=8, byteorder=12345678
    d_longlong=define, longlongsize=8, d_longdbl=define, longdblsize=16
    ivtype='long', ivsize=8, nvtype='double', nvsize=8, Off_t='off_t', lseeksize=8
    alignbytes=8, prototype=define
  Linker and Libraries:
    ld='cc', ldflags ='-Wl,-E  -fstack-protector -L/usr/local/lib'
    libpth=/usr/lib /usr/local/lib /usr/include/clang/3.3 /usr/lib
    libs=-lm -lcrypt -lutil -lc
    perllibs=-lm -lcrypt -lutil -lc
    libc=, so=so, useshrplib=false, libperl=libperl.a
    gnulibc_version=''
  Dynamic Linking:
    dlsrc=dl_dlopen.xs, dlext=so, d_dlsymun=undef, ccdlflags=' '
    cccdlflags='-DPIC -fPIC', lddlflags='-shared  -L/usr/local/lib -fstack-protector'


Characteristics of this binary (from libperl): 
  Compile-time options: HAS_TIMES PERLIO_LAYERS PERL_DONT_CREATE_GVSV
                        PERL_HASH_FUNC_ONE_AT_A_TIME_HARD PERL_MALLOC_WRAP
                        PERL_NEW_COPY_ON_WRITE PERL_PRESERVE_IVUV
                        USE_64_BIT_ALL USE_64_BIT_INT USE_LARGE_FILES
                        USE_LOCALE USE_LOCALE_COLLATE USE_LOCALE_CTYPE
                        USE_LOCALE_NUMERIC USE_PERLIO USE_PERL_ATOF
  Built under freebsd
  Compiled at Mar 27 2015 16:48:09
  %ENV:
    PERL5LIB="/home/ollisg/opt/perl/5.20.2/my/dev/lib/perl5"
    PERL_CPANM_OPT="--mirror http://mirror.sydney.wdlabs.com/cpan/ --mirror-only"
    PERL_LOCAL_LIB_ROOT="/home/ollisg/opt/perl/5.20.2/my/dev"
    PERL_MB_OPT="--install_base "/home/ollisg/opt/perl/5.20.2/my/dev""
    PERL_MM_OPT="INSTALL_BASE=/home/ollisg/opt/perl/5.20.2/my/dev"
  @INC:
    /home/ollisg/opt/perl/5.20.2/my/dev/lib/perl5/amd64-freebsd
    /home/ollisg/opt/perl/5.20.2/my/dev/lib/perl5
    /home/ollisg/opt/perl/5.20.2/lib/site_perl/5.20.2/amd64-freebsd
    /home/ollisg/opt/perl/5.20.2/lib/site_perl/5.20.2
    /home/ollisg/opt/perl/5.20.2/lib/5.20.2/amd64-freebsd
    /home/ollisg/opt/perl/5.20.2/lib/5.20.2
    .