CGI v4.57 Perl 5 v5.34.1 MSWin32-x86-multi-thread-64int
- Status
- Pass
- From
- twata
- Dist
-
CGI v4.57
- Platform
- Perl 5 v5.34.1 MSWin32-x86-multi-thread-64int
- Date
- 2023-06-08 14:53:11
- ID
- b22dd31a-6ca9-1014-8029-4abde3396204
This distribution has been tested as part of the CPAN Testers
project, supporting the Perl programming language. See
http://wiki.cpantesters.org/ for more information or email
questions to cpan-testers-discuss@perl.org
--
Dear Lee Johnson,
This is a computer-generated report for CGI-4.57
on perl 5.34.1, created by CPAN-Reporter-1.2019.
Thank you for uploading your work to CPAN. Congratulations!
All tests were successful.
Sections of this report:
* Tester comments
* Program output
* Prerequisites
* Environment and other context
------------------------------
TESTER COMMENTS
------------------------------
Additional comments from tester:
none provided
------------------------------
PROGRAM OUTPUT
------------------------------
Output from '"C:\Program Files\Microsoft Visual Studio 12.0\VC\BIN\nmake.EXE" test':
Microsoft (R) Program Maintenance Utility Version 12.00.21005.1
Copyright (C) Microsoft Corporation. All rights reserved.
"C:\perl32\bin\perl.exe" "-MExtUtils::Command::MM" "-MTest::Harness" "-e" "undef *Test::Harness::Switches; test_harness(0, 'blib\lib', 'blib\arch')" t\*.t t\headers\*.t
t\append_query.t ............ ok
t\arbitrary_handles.t ....... ok
t\autoescape.t .............. ok
t\can.t ..................... ok
[Thu Jun 8 23:52:45 2023] carp.t: foo at C:\Perl32\cpan\build\CGI-4.57-0\blib\lib/CGI/Carp.pm line 360.
t\carp.t .................... ok
# cgi-lib.pl routines
private_tempfiles has been deprecated at C:\Perl32\cpan\build\CGI-4.57-0\blib\lib/CGI.pm line 3238.
t\cgi.t ..................... ok
t\changes.t ................. skipped: Test::CPAN::Changes required for this test
t\charset.t ................. ok
t\checkbox_group.t .......... ok
t\command_line.t ............ skipped: No relevant to Windows
t\compiles_pod.t ............ ok
t\cookie.t .................. ok
t\delete.t .................. ok
t\Dump.t .................... ok
t\end_form.t ................ ok
t\form.t .................... ok
t\function.t ................ ok
t\gh-155.t .................. ok
t\headers.t ................. ok
t\headers\attachment.t ...... ok
t\headers\charset.t ......... ok
t\headers\cookie.t .......... ok
t\headers\default.t ......... ok
t\headers\nph.t ............. ok
t\headers\p3p.t ............. ok
t\headers\target.t .......... ok
t\headers\type.t ............ ok
t\hidden.t .................. ok
t\html.t .................... ok
t\html_functions.t .......... ok
t\http.t .................... ok
t\init.t .................... ok
t\multipart_globals.t ....... ok
t\multipart_init.t .......... ok
t\multipart_start.t ......... ok
t\no_tabindex.t ............. ok
t\param_fetch.t ............. ok
t\param_list_context.t ...... ok
t\popup_menu.t .............. ok
t\postdata.t ................ ok
CGI::Pretty is DEPRECATED and will be removed in a future release. Please see https://github.com/leejo/CGI.pm/issues/162 for more information at C:\Perl32\cpan\build\CGI-4.57-0\blib\lib/CGI/Pretty.pm line 20.
t\pretty.t .................. ok
t\push.t .................... ok
t\query_string.t ............ ok
t\redirect_query_string.t ... ok
t\request.t ................. ok
t\rt-31107.t ................ ok
t\rt-52469.t ................ ok
t\rt-57524.t ................ ok
t\rt-75628.t ................ ok
t\rt-84767.t ................ ok
t\save_read_roundtrip.t ..... ok
t\sorted.t .................. ok
t\start_end_asterisk.t ...... ok
t\start_end_end.t ........... ok
t\start_end_start.t ......... ok
t\unescapeHTML.t ............ ok
t\upload.t .................. ok
t\upload_quoted_unquoted.t .. ok
t\uploadInfo.t .............. ok
t\url.t ..................... ok
t\user_agent.t .............. ok
t\utf8.t .................... ok
t\util-58.t ................. ok
t\util.t .................... ok
All tests successful.
Files=64, Tests=1581, 24 wallclock secs ( 0.48 usr + 0.20 sys = 0.69 CPU)
Result: PASS
------------------------------
PREREQUISITES
------------------------------
Prerequisite modules loaded:
requires:
Module Need Have
------------------- -------- --------
Carp 0 1.52
Config 0 5.034001
Encode 0 3.19
Exporter 0 5.76
File::Spec 0.82 3.80
File::Temp 0.17 0.2311
HTML::Entities 3.69 3.81
if 0 0.0609
overload 0 1.33
parent 0.225 0.238
perl 5.008001 5.034001
strict 0 1.12
utf8 0 1.24
warnings 0 1.51
build_requires:
Module Need Have
------------------- -------- --------
Cwd 0 3.80
ExtUtils::MakeMaker 0 7.62
File::Find 0 1.39
IO::File 0 1.46
IO::Handle 0 1.46
POSIX 0 1.97
Test::More 0.98 1.302183
Test::NoWarnings 0 1.06
Test::Warn 0.3 0.37
configure_requires:
Module Need Have
------------------- -------- --------
ExtUtils::MakeMaker 0 7.62
------------------------------
ENVIRONMENT AND OTHER CONTEXT
------------------------------
Environment variables:
COMSPEC = C:\windows\system32\cmd.exe
INCLUDE = C:\Program Files\Microsoft Visual Studio 12.0\VC\INCLUDE;C:\Program Files\Microsoft Visual Studio 12.0\VC\ATLMFC\INCLUDE;C:\Program Files\Windows Kits\8.1\include\shared;C:\Program Files\Windows Kits\8.1\include\um;C:\Program Files\Windows Kits\8.1\include\winrt;;C:\perl32\local\include
LC_ALL = C
LIB = C:\Program Files\Microsoft Visual Studio 12.0\VC\LIB;C:\Program Files\Microsoft Visual Studio 12.0\VC\ATLMFC\LIB;C:\Program Files\Windows Kits\8.1\lib\winv6.3\um\x86;
NONINTERACTIVE_TESTING = 1
NUMBER_OF_PROCESSORS = 4
PATH = C:\home\earth1\perl5\bin;C:\perl32\bin;C:\build-openssl\bin;C:\Program Files\Microsoft Visual Studio 12.0\Common7\IDE\CommonExtensions\Microsoft\TestWindow;C:\Program Files\Microsoft SDKs\F#\3.1\Framework\v4.0\;C:\Program Files\MSBuild\12.0\bin;C:\Program Files\Microsoft Visual Studio 12.0\Common7\IDE\;C:\Program Files\Microsoft Visual Studio 12.0\VC\BIN;C:\Program Files\Microsoft Visual Studio 12.0\Common7\Tools;C:\windows\Microsoft.NET\Framework\v4.0.30319;C:\Program Files\Microsoft Visual Studio 12.0\VC\VCPackages;C:\Program Files\HTML Help Workshop;C:\Program Files\Microsoft Visual Studio 12.0\Team Tools\Performance Tools;C:\Program Files\Windows Kits\8.1\bin\x86;C:\Program Files\Microsoft SDKs\Windows\v8.1A\bin\NETFX 4.5.1 Tools\;C:\Windows\System32;C:\Windows;C:\Windows\System32\Wbem;C:\windows\System32\WindowsPowerShell\v1.0\
PERL5LIB = C:\home\earth1\perl5\lib\perl5
PERL5OPT =
PERL5_CPANPLUS_IS_RUNNING = 7308
PERL5_CPAN_IS_RUNNING = 7308
PERL_LOCAL_LIB_ROOT = C:\home\earth1\perl5
PERL_MB_OPT = --install_base "C:\\home\\earth1\\perl5"
PERL_MM_OPT = INSTALL_BASE=C:\\home\\earth1\\perl5
PERL_MM_USE_DEFAULT = 1
PERL_USE_UNSAFE_INC = 1
PROCESSOR_IDENTIFIER = x86 Family 6 Model 37 Stepping 5, GenuineIntel
TEMP = C:\Users\user\AppData\Local\Temp
TERM = dumb
Perl special variables (and OS-specific diagnostics, for MSWin32):
$^X = C:\perl32\bin\perl.exe
$UID/$EUID = 0 / 0
$GID = 0
$EGID = 0
Win32::GetOSName = Win7
Win32::GetOSVersion = Service Pack 1, 6, 1, 7601, 2, 1, 0, 256, 1
Win32::FsType = NTFS
Win32::IsAdminUser = 0
Perl module toolchain versions installed:
Module Have
------------------- --------
CPAN 2.28
CPAN::Meta 2.150010
Cwd 3.80
ExtUtils::CBuilder 0.280236
ExtUtils::Command 7.62
ExtUtils::Install 2.20
ExtUtils::MakeMaker 7.62
ExtUtils::Manifest 1.73
ExtUtils::ParseXS 3.43
File::Spec 3.80
JSON 4.10
JSON::PP 4.06
Module::Build 0.4234
Module::Signature n/a
Parse::CPAN::Meta 2.150010
Test2 1.302183
Test::Harness 3.45_02
Test::More 1.302183
YAML n/a
YAML::Syck n/a
version 0.9928
--
Summary of my perl5 (revision 5 version 34 subversion 1) configuration:
Platform:
osname=MSWin32
osvers=6.1.7601
archname=MSWin32-x86-multi-thread-64int
uname=''
config_args='undef'
hint=recommended
useposix=true
d_sigaction=undef
useithreads=define
usemultiplicity=define
use64bitint=define
use64bitall=undef
uselongdouble=undef
usemymalloc=n
default_inc_excludes_dot=define
Compiler:
cc='cl'
ccflags ='-nologo -GF -W3 -MD -DWIN32 -D_CONSOLE -DNO_STRICT -D_CRT_SECURE_NO_DEPRECATE -D_CRT_NONSTDC_NO_DEPRECATE -DPERL_TEXTMODE_SCRIPTS -DPERL_IMPLICIT_CONTEXT -DPERL_IMPLICIT_SYS'
optimize='-O1 -Zi -GL'
cppflags='-DWIN32'
ccversion='18.00.40629'
gccversion=''
gccosandvers=''
intsize=4
longsize=4
ptrsize=4
doublesize=8
byteorder=12345678
doublekind=3
d_longlong=undef
longlongsize=8
d_longdbl=define
longdblsize=8
longdblkind=0
ivtype='__int64'
ivsize=8
nvtype='double'
nvsize=8
Off_t='__int64'
lseeksize=8
alignbytes=8
prototype=define
Linker and Libraries:
ld='link'
ldflags ='-nologo -nodefaultlib -debug -opt:ref,icf -ltcg -libpath:"c:\Perl32\lib\CORE" -machine:x86 -subsystem:console,"5.01"'
libpth="C:\Program Files\Microsoft Visual Studio 12.0\VC\\lib"
libs=oldnames.lib kernel32.lib user32.lib gdi32.lib winspool.lib comdlg32.lib advapi32.lib shell32.lib ole32.lib oleaut32.lib netapi32.lib uuid.lib ws2_32.lib mpr.lib winmm.lib version.lib odbc32.lib odbccp32.lib comctl32.lib msvcrt.lib
perllibs=oldnames.lib kernel32.lib user32.lib gdi32.lib winspool.lib comdlg32.lib advapi32.lib shell32.lib ole32.lib oleaut32.lib netapi32.lib uuid.lib ws2_32.lib mpr.lib winmm.lib version.lib odbc32.lib odbccp32.lib comctl32.lib msvcrt.lib
libc=msvcrt.lib
so=dll
useshrplib=true
libperl=perl534.lib
gnulibc_version=''
Dynamic Linking:
dlsrc=dl_win32.xs
dlext=dll
d_dlsymun=undef
ccdlflags=' '
cccdlflags=' '
lddlflags='-dll -nologo -nodefaultlib -debug -opt:ref,icf -ltcg -libpath:"c:\Perl32\lib\CORE" -machine:x86 -subsystem:console,"5.01"'
Characteristics of this binary (from libperl):
Compile-time options:
HAS_TIMES
HAVE_INTERP_INTERN
MULTIPLICITY
PERLIO_LAYERS
PERL_COPY_ON_WRITE
PERL_DONT_CREATE_GVSV
PERL_IMPLICIT_CONTEXT
PERL_IMPLICIT_SYS
PERL_MALLOC_WRAP
PERL_OP_PARENT
PERL_PRESERVE_IVUV
USE_64_BIT_INT
USE_ITHREADS
USE_LARGE_FILES
USE_LOCALE
USE_LOCALE_COLLATE
USE_LOCALE_CTYPE
USE_LOCALE_NUMERIC
USE_LOCALE_TIME
USE_PERLIO
USE_PERL_ATOF
USE_THREAD_SAFE_LOCALE
Locally applied patches:
VS2013: [GH #19138] Fix 5.34 test failures with Inf NaN numbers on Windows
Built under MSWin32
Compiled at May 20 2023 22:46:14
%ENV:
PERL5LIB="C:\home\earth1\perl5\lib\perl5"
PERL5_CPANPLUS_IS_RUNNING="7308"
PERL5_CPAN_IS_RUNNING="7308"
PERL_LOCAL_LIB_ROOT="C:\home\earth1\perl5"
PERL_MB_OPT="--install_base "C:\\home\\earth1\\perl5""
PERL_MM_OPT="INSTALL_BASE=C:\\home\\earth1\\perl5"
PERL_MM_USE_DEFAULT="1"
PERL_USE_UNSAFE_INC="1"
@INC:
C:\home\earth1\perl5\lib\perl5/MSWin32-x86-multi-thread-64int
C:\home\earth1\perl5\lib\perl5
C:/Perl32/site/lib
C:/Perl32/lib
.