Task-Sites-ShlomiFish v0.0215 Perl 5 v5.38.2 amd64-freebsd

Status
Pass
From
Slaven Rezić
Dist
Task-Sites-ShlomiFish v0.0215
Platform
Perl 5 v5.38.2 amd64-freebsd
Date
2023-12-14T04:46:11
ID
b4797e42-9a3b-11ee-a134-5c256e8775ea
This distribution has been tested as part of the CPAN Testers
project, supporting the Perl programming language.  See
http://wiki.cpantesters.org/ for more information or email
questions to cpan-testers-discuss@perl.org


--
Dear Shlomi Fish,

This is a computer-generated report for Task-Sites-ShlomiFish-0.0215
on perl 5.38.2, created by CPAN-Reporter-1.2019.

Thank you for uploading your work to CPAN.  Congratulations!
All tests were successful.

Sections of this report:

    * Tester comments
    * Program output
    * Prerequisites
    * Environment and other context

------------------------------
TESTER COMMENTS
------------------------------

Additional comments from tester:

none provided

------------------------------
PROGRAM OUTPUT
------------------------------

Output from './Build test':

t/00-load.t ............... ok
t/cpan-changes.t .......... ok
t/pod-coverage.t .......... ok
t/pod.t ................... ok
t/style-trailing-space.t .. ok
All tests successful.
Files=5, Tests=8,  2 wallclock secs ( 0.02 usr  0.00 sys +  0.41 cusr  0.07 csys =  0.51 CPU)
Result: PASS

------------------------------
PREREQUISITES
------------------------------

Prerequisite modules loaded:

requires:

    Module                                                 Need   Have    
    ------------------------------------------------------ ------ --------
    App::XML::DocBook::Builder                             0      0.1100  
    base                                                   0      2.27    
    Carp                                                   0      1.54    
    Carp::Always                                           0      0.16    
    CGI                                                    0      4.60    
    CGI::Minimal                                           0      1.30    
    Class::Accessor                                        0      0.51    
    Config::IniFiles                                       0      3.000003
    Cwd                                                    0      3.89    
    DateTime                                               0      1.65    
    DateTime::Format::Strptime                             0      1.79    
    DBD::SQLite                                            0      1.74    
    DBI                                                    0      1.643   
    Encode                                                 0      3.19    
    Exporter                                               0      5.77    
    Fcntl                                                  0      1.15    
    File::Basename                                         0      2.86    
    File::Copy                                             0      2.41    
    File::Find                                             0      1.43    
    File::Find::Object                                     0      0.3.8   
    File::Find::Object::Rule                               0      0.0313  
    File::Path                                             0      2.18    
    File::Spec                                             0      3.88    
    File::Spec::Functions                                  0      3.88    
    File::Which                                            0      1.27    
    Games::Solitaire::Verify::Base                         0      0.2403  
    HTML::Acronyms                                         0      0.0.4   
    HTML::Links::Localize                                  0      0.2.11  
    HTML::Selector::XPath                                  0      0.28    
  ! HTML::T5                                               0      n/a     
    HTML::TextToHTML                                       0      2.5201  
    HTML::TokeParser::Simple                               0      3.16    
  ! HTML::TreeBuilder::LibXML                              0      n/a     
    HTML::Widgets::NavMenu::ToJSON                         0      0.0.8   
    HTML::Widgets::NavMenu::ToJSON::Data_Persistence::YAML 0      0.0.8   
    Imager                                                 0      1.020   
    IO::All                                                0      0.87    
    JSON                                                   0      4.10    
    MIME::Types                                            0      2.24    
    Moose                                                  0      2.2206  
    Parallel::ForkManager                                  0      2.02    
    Parallel::Map::Segmented                               0      0.4.0   
    perl                                                   5.014  5.038002
    Proc::ProcessTable                                     0      0.636   
    QuadPres                                               0      0.30.0  
    Set::CSS                                               0      0.2.0   
    Spork::Shlomify                                        0.0200 0.0403  
    strict                                                 0      1.12    
    String::ShellQuote                                     0      1.04    
    SVG                                                    0      2.87    
    Task::Latemp                                           0      0.0107  
    Template::Preprocessor::TTML                           0      0.0105  
    Test::Count                                            0      0.1105  
    Test::Count::Filter                                    0      0.1105  
  ! Test::HTML::Tidy::Recursive                            0      n/a     
    Test::More                                             0      1.302194
    Test::Perl::Critic                                     0      1.04    
    Test::TrailingSpace                                    0      0.0601  
    Text::Hunspell                                         0      2.16    
    Text::VimColor                                         0      0.29    
    URI::Find                                              0      20160806
    utf8                                                   0      1.25    
    vars                                                   0      1.05    
    warnings                                               0      1.65    
    XML::Amazon                                            0      0.14    
    XML::Feed                                              0      0.63    
  ! XML::Grammar::Fiction                                  v0.7.0 n/a     
  ! XML::Grammar::Fortune                                  0.0107 n/a     
  ! XML::Grammar::Fortune::Synd::App                       0      n/a     
  ! XML::Grammar::Fortune::ToText                          0      n/a     
  ! XML::Grammar::ProductsSyndication                      0.0302 n/a     
  ! XML::Grammar::Screenplay                               v0.7.0 n/a     
  ! XML::Grammar::Vered                                    0      n/a     
    XML::LibXML::XPathContext                              0      2.0209  
  ! XML::LibXSLT                                           0      n/a     
    XML::Parser                                            0      2.46    
    XML::Writer                                            0      0.900   

configure_requires:

    Module                                                 Need   Have    
    ------------------------------------------------------ ------ --------
    Module::Build                                          0.36   0.4234  


------------------------------
ENVIRONMENT AND OTHER CONTEXT
------------------------------

Environment variables:

    LANG = C.UTF-8
    PATH = /usr/local/bin:/usr/bin:/bin:/usr/local/sbin:/usr/sbin:/sbin:/home/cpansand/bin/freebsd14.0:/home/cpansand/bin/sh:/home/cpansand/bin:/usr/games:/home/cpansand/devel:/home/eserte/src/srezic-misc/scripts
    PERL5LIB = 
    PERL5OPT = 
    PERL5_CPANPLUS_IS_RUNNING = 80394
    PERL5_CPAN_IS_RUNNING = 80394
    PERL5_CPAN_IS_RUNNING_IN_RECURSION = 64319,80394
    PERLDOC = -MPod::Perldoc::ToTextOverstrike
    PERL_BATCH = yes
    PERL_CANARY_STABILITY_NOPROMPT = 1
    PERL_CPAN_REPORTER_CONFIG = /var/tmp/cpansmoker-1023/2023121319/cpanreporter_001_config.ini
    PERL_EXTUTILS_AUTOINSTALL = --defaultdeps
    PERL_USE_UNSAFE_INC = 1
    SHELL = /usr/local/bin/zsh
    TERM = screen
    TMPDIR = /var/tmp/cpansmoker-1023/2023121319

Perl special variables (and OS-specific diagnostics, for MSWin32):

    $^X = /usr/perl5.38.2/bin/perl5.38.2
    $UID/$EUID = 1023 / 1023
    $GID = 1023 1023
    $EGID = 1023 1023

Perl module toolchain versions installed:

    Module              Have    
    ------------------- --------
    CPAN                2.36    
    CPAN::Meta          2.150010
    Cwd                 3.89    
    ExtUtils::CBuilder  0.280238
    ExtUtils::Command   7.70    
    ExtUtils::Install   2.22    
    ExtUtils::MakeMaker 7.70    
    ExtUtils::Manifest  1.73    
    ExtUtils::ParseXS   3.51    
    File::Spec          3.88    
    JSON                4.10    
    JSON::PP            4.16    
    Module::Build       0.4234  
    Module::Signature   n/a     
    Parse::CPAN::Meta   2.150010
    Test2               1.302194
    Test::Harness       3.44    
    Test::More          1.302194
    YAML                1.30    
    YAML::Syck          1.34    
    version             0.9929  


--

Summary of my perl5 (revision 5 version 38 subversion 2) configuration:
   
  Platform:
    osname=freebsd
    osvers=14.0-stable
    archname=amd64-freebsd
    uname='freebsd cloud11.bbbike.org 14.0-stable freebsd 14.0-stable #0 stable14-8d42f85d9: wed dec 13 14:10:27 utc 2023 root@cloud11.bbbike.org:usrobjhomeprojectsfreebsd-srcamd64.amd64sysgeneric amd64 '
    config_args='-ds -e -Dprefix=/usr/perl5.38.2 -Dcf_email=srezic@cpan.org -Doptimize=-O2 -pipe'
    hint=recommended
    useposix=true
    d_sigaction=define
    useithreads=undef
    usemultiplicity=undef
    use64bitint=define
    use64bitall=define
    uselongdouble=undef
    usemymalloc=n
    default_inc_excludes_dot=define
  Compiler:
    cc='cc'
    ccflags ='-DHAS_FPSETMASK -DHAS_FLOATINGPOINT_H -fno-strict-aliasing -pipe -fstack-protector-strong -I/usr/local/include'
    optimize='-O2 -pipe'
    cppflags='-DHAS_FPSETMASK -DHAS_FLOATINGPOINT_H -fno-strict-aliasing -pipe -fstack-protector-strong -I/usr/local/include'
    ccversion=''
    gccversion='FreeBSD Clang 16.0.6 (https://github.com/llvm/llvm-project.git llvmorg-16.0.6-0-g7cbf1a259152)'
    gccosandvers=''
    intsize=4
    longsize=8
    ptrsize=8
    doublesize=8
    byteorder=12345678
    doublekind=3
    d_longlong=define
    longlongsize=8
    d_longdbl=define
    longdblsize=16
    longdblkind=3
    ivtype='long'
    ivsize=8
    nvtype='double'
    nvsize=8
    Off_t='off_t'
    lseeksize=8
    alignbytes=8
    prototype=define
  Linker and Libraries:
    ld='cc'
    ldflags ='-Wl,-E  -fstack-protector-strong -L/usr/local/lib'
    libpth=/usr/lib /usr/local/lib /usr/lib/clang/16/lib
    libs=-lpthread -lgdbm -ldl -lm -lcrypt -lutil -lc
    perllibs=-lpthread -ldl -lm -lcrypt -lutil -lc
    libc=
    so=so
    useshrplib=false
    libperl=libperl.a
    gnulibc_version=''
  Dynamic Linking:
    dlsrc=dl_dlopen.xs
    dlext=so
    d_dlsymun=undef
    ccdlflags=' '
    cccdlflags='-DPIC -fPIC'
    lddlflags='-shared  -L/usr/local/lib -fstack-protector-strong'


Characteristics of this binary (from libperl): 
  Compile-time options:
    HAS_LONG_DOUBLE
    HAS_STRTOLD
    HAS_TIMES
    PERLIO_LAYERS
    PERL_COPY_ON_WRITE
    PERL_DONT_CREATE_GVSV
    PERL_HASH_FUNC_SIPHASH13
    PERL_HASH_USE_SBOX32
    PERL_MALLOC_WRAP
    PERL_OP_PARENT
    PERL_PRESERVE_IVUV
    PERL_USE_SAFE_PUTENV
    USE_64_BIT_ALL
    USE_64_BIT_INT
    USE_LARGE_FILES
    USE_LOCALE
    USE_LOCALE_COLLATE
    USE_LOCALE_CTYPE
    USE_LOCALE_NUMERIC
    USE_LOCALE_TIME
    USE_PERLIO
    USE_PERL_ATOF
  Built under freebsd
  Compiled at Dec 13 2023 17:28:52
  %ENV:
    PERL5LIB=""
    PERL5OPT=""
    PERL5_CPANPLUS_IS_RUNNING="80394"
    PERL5_CPAN_IS_RUNNING="80394"
    PERL5_CPAN_IS_RUNNING_IN_RECURSION="64319,80394"
    PERLDOC="-MPod::Perldoc::ToTextOverstrike"
    PERL_BATCH="yes"
    PERL_CANARY_STABILITY_NOPROMPT="1"
    PERL_CPAN_REPORTER_CONFIG="/var/tmp/cpansmoker-1023/2023121319/cpanreporter_001_config.ini"
    PERL_EXTUTILS_AUTOINSTALL="--defaultdeps"
    PERL_USE_UNSAFE_INC="1"
  @INC:
    /usr/perl5.38.2/lib/site_perl/5.38.2/amd64-freebsd
    /usr/perl5.38.2/lib/site_perl/5.38.2
    /usr/perl5.38.2/lib/5.38.2/amd64-freebsd
    /usr/perl5.38.2/lib/5.38.2
    .