Gtk2-Ex-DateSpinner v10 Perl 5 v5.18.4 amd64-freebsd

Status
Pass
From
Slaven Rezić (SREZIC)
Dist
Gtk2-Ex-DateSpinner v10
Platform
Perl 5 v5.18.4 amd64-freebsd
Date
2019-12-29 05:11:44
ID
b4f24a2c-29f9-11ea-b5fb-f55b1f24ea8f
This distribution has been tested as part of the CPAN Testers
project, supporting the Perl programming language.  See
http://wiki.cpantesters.org/ for more information or email
questions to cpan-testers-discuss@perl.org


--
Dear Kevin Ryde,

This is a computer-generated report for Gtk2-Ex-DateSpinner-10
on perl 5.18.4, created by CPAN-Reporter-1.2018.

Thank you for uploading your work to CPAN.  Congratulations!
All tests were successful.

Sections of this report:

    * Tester comments
    * Program output
    * Prerequisites
    * Environment and other context

------------------------------
TESTER COMMENTS
------------------------------

Additional comments from tester:

none provided

------------------------------
PROGRAM OUTPUT
------------------------------

Output from '/usr/bin/make test':

PERL_DL_NONLAZY=1 "/usr/perl5.18.4p/bin/perl5.18.4" "-MExtUtils::Command::MM" "-MTest::Harness" "-e" "undef *Test::Harness::Switches; test_harness(0, 'blib/lib', 'blib/arch')" t/*.t
# Perl-Gtk2    version 1.2496
# Perl-Glib    version 1.3291
# Compiled against Glib version 2.46.2.
# Running on       Glib version 2.46.2.
# Compiled against Gtk version 2.24.25.
# Running on       Gtk version 2.24.29.
Xlib:  extension "RANDR" missing on display ":75".
# main_iterations(): ran 3 events/iterations
t/CellRenderer.t ...... ok
t/DateSpinner-load.t .. ok
# Perl-Gtk2    version 1.2496
# Perl-Glib    version 1.3291
# Compiled against Glib version 2.46.2.
# Running on       Glib version 2.46.2.
# Compiled against Gtk version 2.24.25.
# Running on       Gtk version 2.24.29.
Xlib:  extension "RANDR" missing on display ":75".
t/DateSpinner.t ....... ok
t/PopupForEntry.t ..... ok
Xlib:  extension "RANDR" missing on display ":75".
# Test::Weaken version 3.022000
# Perl-Gtk2    version 1.2496
# Perl-Glib    version 1.3291
# Compiled against Glib version 2.46.2.
# Running on       Glib version 2.46.2.
# Compiled against Gtk version 2.24.25.
# Running on       Gtk version 2.24.29.
# DateSpinner
# PopupForEntry
# main_iterations(): ran 3 events/iterations
t/test-weaken.t ....... ok
All tests successful.
Files=5, Tests=28,  1 wallclock secs ( 0.00 usr  0.04 sys +  0.19 cusr  0.61 csys =  0.84 CPU)
Result: PASS

------------------------------
PREREQUISITES
------------------------------

Prerequisite modules loaded:

requires:

    Module                 Need  Have    
    ---------------------- ----- --------
    Date::Calc             5.0   6.4     
    Glib::Ex::ObjectBits   12    16      
    Glib::Ex::SignalIds    1     16      
    Glib::Object::Subclass 0     1.3291  
    Gtk2                   0     1.2496  
    Gtk2::Ex::WidgetBits   0     48      
    Locale::Messages       1.16  1.31    
    perl                   5.008 5.018004
    POSIX::Wide            0     10      

build_requires:

    Module                 Need  Have    
    ---------------------- ----- --------
    ExtUtils::MakeMaker    0     7.42    

configure_requires:

    Module                 Need  Have    
    ---------------------- ----- --------
    ExtUtils::MakeMaker    0     7.42    


------------------------------
ENVIRONMENT AND OTHER CONTEXT
------------------------------

Environment variables:

    LC_ALL = de_DE.ISO8859-1
    PATH = /usr/local/bin:/usr/bin:/bin:/usr/local/sbin:/usr/sbin:/sbin:/home/cpansand/bin/freebsd10.3:/home/cpansand/bin/sh:/home/cpansand/bin:/usr/games:/home/cpansand/devel:/home/eserte/src/srezic-misc/scripts
    PERL5LIB = 
    PERL5OPT = 
    PERL5_CPANPLUS_IS_RUNNING = 32603
    PERL5_CPAN_IS_RUNNING = 32603
    PERL5_CPAN_IS_RUNNING_IN_RECURSION = 31492,32603
    PERLDOC = -MPod::Perldoc::ToTextOverstrike
    PERL_BATCH = yes
    PERL_CANARY_STABILITY_NOPROMPT = 1
    PERL_CPAN_REPORTER_CONFIG = /var/tmp/cpansmoker-1023/2019122906/cpanreporter_000_config.ini
    PERL_EXTUTILS_AUTOINSTALL = --defaultdeps
    PERL_USE_UNSAFE_INC = 1
    SHELL = /usr/local/bin/zsh
    TERM = screen
    TMPDIR = /var/tmp/cpansmoker-1023/2019122906

Perl special variables (and OS-specific diagnostics, for MSWin32):

    $^X = /usr/perl5.18.4p/bin/perl5.18.4
    $UID/$EUID = 1023 / 1023
    $GID = 1023 1023
    $EGID = 1023 1023

Perl module toolchain versions installed:

    Module              Have    
    ------------------- --------
    CPAN                2.21    
    CPAN::Meta          2.150010
    Cwd                 3.75    
    ExtUtils::CBuilder  0.280231
    ExtUtils::Command   7.42    
    ExtUtils::Install   2.14    
    ExtUtils::MakeMaker 7.42    
    ExtUtils::Manifest  1.70    
    ExtUtils::ParseXS   3.35    
    File::Spec          3.75    
    JSON                4.02    
    JSON::PP            4.03    
    Module::Build       0.4229  
    Module::Signature   0.83    
    Parse::CPAN::Meta   2.150010
    Test::Harness       3.42    
    Test::More          1.302167
    YAML                1.29    
    YAML::Syck          1.31    
    version             0.9924  


--

Summary of my perl5 (revision 5 version 18 subversion 4) configuration:
   
  Platform:
    osname=freebsd, osvers=10.1-release, archname=amd64-freebsd
    uname='freebsd cvrsnica-freebsd-101.herceg.de 10.1-release freebsd 10.1-release #0 r274401: tue nov 11 21:02:49 utc 2014 root@releng1.nyi.freebsd.org:usrobjusrsrcsysgeneric amd64 '
    config_args='-ds -e -Dprefix=/usr/perl5.18.4p'
    hint=recommended, useposix=true, d_sigaction=define
    useithreads=undef, usemultiplicity=undef
    useperlio=define, d_sfio=undef, uselargefiles=define, usesocks=undef
    use64bitint=define, use64bitall=define, uselongdouble=undef
    usemymalloc=n, bincompat5005=undef
  Compiler:
    cc='cc', ccflags ='-DHAS_FPSETMASK -DHAS_FLOATINGPOINT_H -fno-strict-aliasing -pipe -fstack-protector -I/usr/local/include',
    optimize='-O',
    cppflags='-DHAS_FPSETMASK -DHAS_FLOATINGPOINT_H -fno-strict-aliasing -pipe -fstack-protector -I/usr/local/include'
    ccversion='', gccversion='4.2.1 Compatible FreeBSD Clang 3.4.1 (tags/RELEASE_34/dot1-final 208032)', gccosandvers=''
    intsize=4, longsize=8, ptrsize=8, doublesize=8, byteorder=12345678
    d_longlong=define, longlongsize=8, d_longdbl=define, longdblsize=16
    ivtype='long', ivsize=8, nvtype='double', nvsize=8, Off_t='off_t', lseeksize=8
    alignbytes=8, prototype=define
  Linker and Libraries:
    ld='cc', ldflags ='-pthread -Wl,-E  -fstack-protector -L/usr/local/lib'
    libpth=/usr/lib /usr/local/lib
    libs=-lgdbm -lm -lcrypt -lutil -lc
    perllibs=-lm -lcrypt -lutil -lc
    libc=, so=so, useshrplib=false, libperl=libperl.a
    gnulibc_version=''
  Dynamic Linking:
    dlsrc=dl_dlopen.xs, dlext=so, d_dlsymun=undef, ccdlflags=' '
    cccdlflags='-DPIC -fPIC', lddlflags='-shared  -L/usr/local/lib -fstack-protector'


Characteristics of this binary (from libperl): 
  Compile-time options: HAS_TIMES PERLIO_LAYERS PERL_DONT_CREATE_GVSV
                        PERL_HASH_FUNC_ONE_AT_A_TIME_HARD PERL_MALLOC_WRAP
                        PERL_PRESERVE_IVUV PERL_SAWAMPERSAND USE_64_BIT_ALL
                        USE_64_BIT_INT USE_LARGE_FILES USE_LOCALE
                        USE_LOCALE_COLLATE USE_LOCALE_CTYPE
                        USE_LOCALE_NUMERIC USE_PERLIO USE_PERL_ATOF
  Built under freebsd
  Compiled at Apr  4 2015 13:03:15
  %ENV:
    PERL5LIB=""
    PERL5OPT=""
    PERL5_CPANPLUS_IS_RUNNING="32603"
    PERL5_CPAN_IS_RUNNING="32603"
    PERL5_CPAN_IS_RUNNING_IN_RECURSION="31492,32603"
    PERLDOC="-MPod::Perldoc::ToTextOverstrike"
    PERL_BATCH="yes"
    PERL_CANARY_STABILITY_NOPROMPT="1"
    PERL_CPAN_REPORTER_CONFIG="/var/tmp/cpansmoker-1023/2019122906/cpanreporter_000_config.ini"
    PERL_EXTUTILS_AUTOINSTALL="--defaultdeps"
    PERL_USE_UNSAFE_INC="1"
  @INC:
    /usr/perl5.18.4p/lib/site_perl/5.18.4/amd64-freebsd
    /usr/perl5.18.4p/lib/site_perl/5.18.4
    /usr/perl5.18.4p/lib/5.18.4/amd64-freebsd
    /usr/perl5.18.4p/lib/5.18.4
    .