Sys-SigAction v0.23 Perl 5 v5.24.2 darwin-2level
- Status
- Pass
- From
- Slaven Rezić (SREZIC)
- Dist
-
Sys-SigAction v0.23
- Platform
- Perl 5 v5.24.2 darwin-2level
- Date
- 2017-11-05 07:26:59
- ID
- b5d71990-c1fa-11e7-a543-c56ab5c71c2d
This distribution has been tested as part of the CPAN Testers
project, supporting the Perl programming language. See
http://wiki.cpantesters.org/ for more information or email
questions to cpan-testers-discuss@perl.org
--
Dear Lincoln A Baxter,
This is a computer-generated report for Sys-SigAction-0.23
on perl 5.24.2, created by CPAN-Reporter-1.2018.
Thank you for uploading your work to CPAN. Congratulations!
All tests were successful.
Sections of this report:
* Tester comments
* Program output
* Prerequisites
* Environment and other context
------------------------------
TESTER COMMENTS
------------------------------
Additional comments from tester:
none provided
------------------------------
PROGRAM OUTPUT
------------------------------
Output from '/usr/bin/make test':
PERL_DL_NONLAZY=1 "/opt/perl-5.24.2/bin/perl" "-MExtUtils::Command::MM" "-MTest::Harness" "-e" "undef *Test::Harness::Switches; test_harness(0, 'blib/lib', 'blib/arch')" t/*.t
t/alternatives.t ...... ok
t/inline_nested.t ..... ok
t/mask.t .............. ok
t/name.t .............. ok
t/number.t ............ ok
t/recursive_nested.t .. ok
NOTE: Setting safe=>1... with masked signals does not seem to work.
The problem is that the masked signals are not masked when safe=>1.
When safe=>0 they are.
If you have an application for safe=>1 and can come up with a patch
for this module that gets this test working, or a patch to the test
that shows how to fix it, please send it to me.
See the block below this one... which if executed would test safe mode
with masked signals... it is a clone of part of mask.t that proves this
is broken.
This test can be executed from the command line as follows:
SAFE_T=1 perl -Ilib t/safe.t
Lincoln
t/safe.t .............. ok
# delta time was 0.110404, timer was for 0.1 secconds
t/timeout.t ........... ok
All tests successful.
Files=8, Tests=87, 9 wallclock secs ( 0.03 usr 0.01 sys + 0.34 cusr 0.07 csys = 0.45 CPU)
Result: PASS
------------------------------
PREREQUISITES
------------------------------
Prerequisite modules loaded:
requires:
Module Need Have
------------------- -------- --------
perl 5.006000 5.024002
POSIX 0 1.65
Test::More 0 1.302086
build_requires:
Module Need Have
------------------- -------- --------
ExtUtils::MakeMaker 0 7.10_02
configure_requires:
Module Need Have
------------------- -------- --------
ExtUtils::MakeMaker 0 7.10_02
------------------------------
ENVIRONMENT AND OTHER CONTEXT
------------------------------
Environment variables:
LANG = de_DE.UTF-8
PATH = /usr/local/bin:/usr/bin:/bin:/usr/local/sbin:/usr/sbin:/sbin:/Users/eserte/bin/darwin16.0:/Users/eserte/bin/sh:/Users/eserte/bin:/Users/eserte/bin/pistachio-perl/bin:/usr/games:/Users/eserte/devel:/Users/eserte/work/drafts-slaven.rezic/misc:/Users/eserte/src/srezic-misc/scripts
PERL5LIB = /Users/eserte/.cpan/build/2017110506/QBit-Application-0.015-cUItbp/blib/arch:/Users/eserte/.cpan/build/2017110506/QBit-Application-0.015-cUItbp/blib/lib:/Users/eserte/.cpan/build/2017110506/QBit-Class-0.3-hwd5ZM/blib/arch:/Users/eserte/.cpan/build/2017110506/QBit-Class-0.3-hwd5ZM/blib/lib:/Users/eserte/.cpan/build/2017110506/qbit-2.4-Z5NIvS/blib/arch:/Users/eserte/.cpan/build/2017110506/qbit-2.4-Z5NIvS/blib/lib:/Users/eserte/.cpan/build/2017110506/libintl-perl-1.28-B5RV48/blib/arch:/Users/eserte/.cpan/build/2017110506/libintl-perl-1.28-B5RV48/blib/lib:/Users/eserte/.cpan/build/2017110506/Net-LibIDN-0.12-joM9Nt/blib/arch:/Users/eserte/.cpan/build/2017110506/Net-LibIDN-0.12-joM9Nt/blib/lib:/Users/eserte/.cpan/build/2017110506/Exceptions-0.102-KzFVgf/blib/arch:/Users/eserte/.cpan/build/2017110506/Exceptions-0.102-KzFVgf/blib/lib
PERL5OPT =
PERL5_CPANPLUS_IS_RUNNING = 48914
PERL5_CPAN_IS_RUNNING = 48914
PERL5_CPAN_IS_RUNNING_IN_RECURSION = 40268,48914
PERLDOC = -MPod::Perldoc::ToTextOverstrike
PERL_BATCH = yes
PERL_CANARY_STABILITY_NOPROMPT = 1
PERL_CPAN_REPORTER_CONFIG = /var/tmp/cpansmoker-501/2017110506/cpanreporter_000_config.ini
PERL_EXTUTILS_AUTOINSTALL = --defaultdeps
SHELL = /bin/zsh
TERM = screen
TMPDIR = /var/tmp/cpansmoker-501/2017110506
Perl special variables (and OS-specific diagnostics, for MSWin32):
$^X = /opt/perl-5.24.2/bin/perl
$UID/$EUID = 501 / 501
$GID = 20 20 701 12 61 79 80 81 98 33 100 204 395 398 399
$EGID = 20 20 701 12 61 79 80 81 98 33 100 204 395 398 399
Perl module toolchain versions installed:
Module Have
------------------- ----------
CPAN 2.11_01
CPAN::Meta 2.150005
Cwd 3.63_01
ExtUtils::CBuilder 0.280225
ExtUtils::Command 7.10_02
ExtUtils::Install 2.04
ExtUtils::MakeMaker 7.10_02
ExtUtils::Manifest 1.70
ExtUtils::ParseXS 3.31
File::Spec 3.63_01
JSON 2.94
JSON::PP 2.27300_01
Module::Build 0.4224
Module::Signature 0.81
Parse::CPAN::Meta 1.4417_001
Test::Harness 3.36_01
Test::More 1.302086
YAML 1.23
YAML::Syck 1.30
version 0.9916
--
Summary of my perl5 (revision 5 version 24 subversion 2) configuration:
Platform:
osname=darwin, osvers=16.7.0, archname=darwin-2level
uname='darwin macbook.herceg.de 16.7.0 darwin kernel version 16.7.0: thu jun 15 17:36:27 pdt 2017; root:xnu-3789.70.16~2release_x86_64 x86_64 '
config_args='-ds -e -Dprefix=/opt/perl-5.24.2 -Dcf_email=srezic@cpan.org'
hint=previous, useposix=true, d_sigaction=define
useithreads=undef, usemultiplicity=undef
use64bitint=define, use64bitall=define, uselongdouble=undef
usemymalloc=n, bincompat5005=undef
Compiler:
cc='cc', ccflags ='-fno-common -DPERL_DARWIN -mmacosx-version-min=10.12 -fno-strict-aliasing -pipe -fstack-protector-strong -I/usr/local/include -DPERL_USE_SAFE_PUTENV',
optimize='-O3',
cppflags='-fno-common -DPERL_DARWIN -mmacosx-version-min=10.12 -fno-strict-aliasing -pipe -fstack-protector-strong -I/usr/local/include'
ccversion='', gccversion='4.2.1 Compatible Apple LLVM 8.1.0 (clang-802.0.42)', gccosandvers=''
intsize=4, longsize=8, ptrsize=8, doublesize=8, byteorder=12345678, doublekind=3
d_longlong=define, longlongsize=8, d_longdbl=define, longdblsize=16, longdblkind=3
ivtype='long', ivsize=8, nvtype='double', nvsize=8, Off_t='off_t', lseeksize=8
alignbytes=8, prototype=define
Linker and Libraries:
ld='cc', ldflags =' -mmacosx-version-min=10.12 -fstack-protector-strong -L/usr/local/lib'
libpth=/usr/local/lib /Library/Developer/CommandLineTools/usr/bin/../lib/clang/8.1.0/lib /Library/Developer/CommandLineTools/usr/lib /usr/lib /usr/local/lib /Library/Developer/CommandLineTools/usr/bin/../lib/clang/8.1.0/lib /Library/Developer/CommandLineTools/usr/lib /usr/lib
libs=-lpthread -ldbm -ldb -ldl -lm -lutil -lc
perllibs=-lpthread -ldl -lm -lutil -lc
libc=, so=dylib, useshrplib=false, libperl=libperl.a
gnulibc_version=''
Dynamic Linking:
dlsrc=dl_dlopen.xs, dlext=bundle, d_dlsymun=undef, ccdlflags=' '
cccdlflags=' ', lddlflags=' -mmacosx-version-min=10.12 -bundle -undefined dynamic_lookup -L/usr/local/lib -fstack-protector-strong'
Characteristics of this binary (from libperl):
Compile-time options: HAS_TIMES PERLIO_LAYERS PERL_COPY_ON_WRITE
PERL_DONT_CREATE_GVSV
PERL_HASH_FUNC_ONE_AT_A_TIME_HARD PERL_MALLOC_WRAP
PERL_PRESERVE_IVUV PERL_USE_SAFE_PUTENV
USE_64_BIT_ALL USE_64_BIT_INT USE_LARGE_FILES
USE_LOCALE USE_LOCALE_COLLATE USE_LOCALE_CTYPE
USE_LOCALE_NUMERIC USE_LOCALE_TIME USE_PERLIO
USE_PERL_ATOF
Built under darwin
Compiled at Aug 19 2017 09:09:15
%ENV:
PERL5LIB="/Users/eserte/.cpan/build/2017110506/QBit-Application-0.015-cUItbp/blib/arch:/Users/eserte/.cpan/build/2017110506/QBit-Application-0.015-cUItbp/blib/lib:/Users/eserte/.cpan/build/2017110506/QBit-Class-0.3-hwd5ZM/blib/arch:/Users/eserte/.cpan/build/2017110506/QBit-Class-0.3-hwd5ZM/blib/lib:/Users/eserte/.cpan/build/2017110506/qbit-2.4-Z5NIvS/blib/arch:/Users/eserte/.cpan/build/2017110506/qbit-2.4-Z5NIvS/blib/lib:/Users/eserte/.cpan/build/2017110506/libintl-perl-1.28-B5RV48/blib/arch:/Users/eserte/.cpan/build/2017110506/libintl-perl-1.28-B5RV48/blib/lib:/Users/eserte/.cpan/build/2017110506/Net-LibIDN-0.12-joM9Nt/blib/arch:/Users/eserte/.cpan/build/2017110506/Net-LibIDN-0.12-joM9Nt/blib/lib:/Users/eserte/.cpan/build/2017110506/Exceptions-0.102-KzFVgf/blib/arch:/Users/eserte/.cpan/build/2017110506/Exceptions-0.102-KzFVgf/blib/lib"
PERL5OPT=""
PERL5_CPANPLUS_IS_RUNNING="48914"
PERL5_CPAN_IS_RUNNING="48914"
PERL5_CPAN_IS_RUNNING_IN_RECURSION="40268,48914"
PERLDOC="-MPod::Perldoc::ToTextOverstrike"
PERL_BATCH="yes"
PERL_CANARY_STABILITY_NOPROMPT="1"
PERL_CPAN_REPORTER_CONFIG="/var/tmp/cpansmoker-501/2017110506/cpanreporter_000_config.ini"
PERL_EXTUTILS_AUTOINSTALL="--defaultdeps"
@INC:
/Users/eserte/.cpan/build/2017110506/QBit-Application-0.015-cUItbp/blib/arch
/Users/eserte/.cpan/build/2017110506/QBit-Application-0.015-cUItbp/blib/lib
/Users/eserte/.cpan/build/2017110506/QBit-Class-0.3-hwd5ZM/blib/arch
/Users/eserte/.cpan/build/2017110506/QBit-Class-0.3-hwd5ZM/blib/lib
/Users/eserte/.cpan/build/2017110506/qbit-2.4-Z5NIvS/blib/arch
/Users/eserte/.cpan/build/2017110506/qbit-2.4-Z5NIvS/blib/lib
/Users/eserte/.cpan/build/2017110506/libintl-perl-1.28-B5RV48/blib/arch
/Users/eserte/.cpan/build/2017110506/libintl-perl-1.28-B5RV48/blib/lib
/Users/eserte/.cpan/build/2017110506/Net-LibIDN-0.12-joM9Nt/blib/arch
/Users/eserte/.cpan/build/2017110506/Net-LibIDN-0.12-joM9Nt/blib/lib
/Users/eserte/.cpan/build/2017110506/Exceptions-0.102-KzFVgf/blib/arch
/Users/eserte/.cpan/build/2017110506/Exceptions-0.102-KzFVgf/blib/lib
/opt/perl-5.24.2/lib/site_perl/5.24.2/darwin-2level
/opt/perl-5.24.2/lib/site_perl/5.24.2
/opt/perl-5.24.2/lib/5.24.2/darwin-2level
/opt/perl-5.24.2/lib/5.24.2
.